Workbook
Name BESTAND: '[1]Opbr N-1'!#REF!
Name d: '[1]Opbr N-1'!#REF!
Name EURO: '[1]Opbr N-1'!#REF!

Sheet Drielandentrein
B1: Let op: Tarievenmatrix nog niet finaal voor 2026 ivm ontbreken NS tarieventabel 2026
B2: VAN --> | BP2: RS18
A3: NAAR | B3: Liège-Guillemins | E3: Bressoux (=Liège Guillemins) | H3: Visé | K3: Visé-Grens | N3: Eijsden | Q3: Maastricht Randwyck | T3: =A11 -> Maastricht | W3: Maastricht Noord | Z3: Meerssen | AC3: Houtem St. Gerlach | AF3: Valkenburg | AI3: Schin op Geul | AL3: Klimmen Ransdaal | AO3: Voerendaal | AR3: Heerlen Woonboulevard | AU3: Heerlen | AX3: Landgraaf | BA3: Eygelshoven Markt | BD3: Herzogenrath-Grens | BG3: Herzogenrath | BJ3: Aachen West | BM3: Aachen Hbf. | BP3: Eygelshoven | BS3: Chevremont | BV3: Kerkrade Centrum
A4: --> | B4: TE | C4: 2e klas | D4: 1e klas | E4: TE | F4: 2e klas | G4: 1e klas | H4: TE | I4: 2e klas | J4: 1e klas | K4: TE | L4: 2e klas | M4: 1e klas | N4: TE | O4: 2e klas | P4: 1e klas | Q4: TE | R4: 2e klas | S4: 1e klas | T4: TE | U4: 2e klas | V4: 1e klas | W4: TE | X4: 2e klas | Y4: 1e klas | Z4: TE | AA4: 2e klas | AB4: 1e klas | AC4: TE | AD4: 2e klas | AE4: 1e klas | AF4: TE | AG4: 2e klas | AH4: 1e klas | AI4: TE | AJ4: 2e klas | AK4: 1e klas | AL4: TE | AM4: 2e klas | AN4: 1e klas | AO4: TE | AP4: 2e klas | AQ4: 1e klas | AR4: TE | AS4: 2e klas | AT4: 1e klas | AU4: TE | AV4: 2e klas | AW4: 1e klas | AX4: TE | AY4: 2e klas | AZ4: 1e klas | BA4: TE | BB4: 2e klas | BC4: 1e klas | BD4: TE | BE4: 2e klas | BF4: 1e klas | BG4: TE | BH4: 2e klas | BI4: 1e klas | BJ4: TE | BK4: 2e klas | BL4: 1e klas | BM4: TE | BN4: 2e klas | BO4: 1e klas | BP4: TE | BQ4: 2e klas | BR4: 1e klas | BS4: TE | BT4: 2e klas | BU4: 1e klas | BV4: TE | BW4: 2e klas | BX4: 1e klas
A5: Liège-Guillemins | B5: 0 | C5: 0 | D5: 0 | E5: x | F5: 2.5 | G5: 3.6 | H5: x | I5: 4.6 | J5: 6.4 | K5: x | L5: 4.9 | M5: 6.8 | N5: x | O5: =$L5+O$8 -> 7.9 | P5: =$M5+P$8 -> 11.9 | Q5: x | R5: =$L5+R$8 -> 8.4 | S5: =$M5+S$8 -> 12.75 | T5: =$K$5 -> x | U5: =$L5+U$8 -> 6.99 | V5: =$M5+V$8 -> 9.54 | W5: =$K$5 -> x | X5: =$L5+X$8 -> 8.38 | Y5: =$M5+Y$8 -> 11.89 | Z5: =$K$5 -> x | AA5: =$L5+AA$8 -> 9.76 | AB5: =$M5+AB$8 -> 14.25 | AC5: =$K$5 -> x | AD5: =$L5+AD$8 -> 10.88 | AE5: =$M5+AE$8 -> 16.14 | AF5: =$K$5 -> x | AG5: =$L5+AG$8 -> 11.47 | AH5: =$M5+AH$8 -> 17.14 | AI5: =$K$5 -> x | AJ5: =$L5+AJ$8 -> 12.16 | AK5: =$M5+AK$8 -> 18.3 | AL5: =$K$5 -> x | AM5: =$L5+AM$8 -> 12.72 | AN5: =$M5+AN$8 -> 19.25 | AO5: =$K$5 -> x | AP5: =$L5+AP$8 -> 13.63 | AQ5: =$M5+AQ$8 -> 20.8 | AR5: =$K$5 -> x | AS5: =$L5+AS$8 -> 13.99 | AT5: =$M5+AT$8 -> 21.41 | AU5: =$K$5 -> x | AV5: =$L5+AV$8 -> 14.55 | AW5: =$M5+AW$8 -> 22.36 | AX5: =$K$5 -> x | AY5: =$L5+AY$8 -> 15.14 | AZ5: =$M5+AZ$8 -> 23.35 | BA5: =$K$5 -> x | BB5: =$L5+BB$8 -> 15.83 | BC5: =$M5+BC$8 -> 24.52 | BD5: =$K$5 -> x | BE5: =$L5+BE$8 -> 16.62 | BF5: =$M5+BF$8 -> 25.85 | BG5: =$K$5 -> x | BH5: =$L5+BH$8 -> 16.75 | BI5: =$M5+BI$8 -> 26.07 | BJ5: =$K$5 -> x | BK5: =$L5+BK$8 -> 19.25 | BL5: =$M5+BL$8 -> 30.31 | BM5: =$K$5 -> x | BN5: =$L5+BN$8 -> 19.93 | BO5: =$M5+BO$8 -> 31.47 | BP5: =$K$5 -> x | BQ5: =$L5+BQ$8 -> 15.7 | BR5: =$M5+BR$8 -> 24.3 | BS5: =$K$5 -> x | BT5: =$L5+BT$8 -> 15.83 | BU5: =$M5+BU$8 -> 24.52 | BV5: =$K$5 -> x | BW5: =$L5+BW$8 -> 16.29 | BX5: =$M5+BX$8 -> 25.29
A6: Bressoux | B6: x | C6: 2.5 | D6: 3.6 | E6: 0 | F6: 0 | G6: 0 | H6: x | I6: 4.6 | J6: 6.4 | K6: x | L6: 4.9 | M6: 6.8 | N6: x | O6: =$L6+O$8 -> 7.9 | P6: =$M6+P$8 -> 11.9 | Q6: x | R6: =$L6+R$8 -> 8.4 | S6: =$M6+S$8 -> 12.75 | T6: =$K$6 -> x | U6: =$L6+U$8 -> 6.99 | V6: =$M6+V$8 -> 9.54 | W6: =$K$6 -> x | X6: =$L6+X$8 -> 8.38 | Y6: =$M6+Y$8 -> 11.89 | Z6: =$K$6 -> x | AA6: =$L6+AA$8 -> 9.76 | AB6: =$M6+AB$8 -> 14.25 | AC6: =$K$6 -> x | AD6: =$L6+AD$8 -> 10.88 | AE6: =$M6+AE$8 -> 16.14 | AF6: =$K$6 -> x | AG6: =$L6+AG$8 -> 11.47 | AH6: =$M6+AH$8 -> 17.14 | AI6: =$K$6 -> x | AJ6: =$L6+AJ$8 -> 12.16 | AK6: =$M6+AK$8 -> 18.3 | AL6: =$K$6 -> x | AM6: =$L6+AM$8 -> 12.72 | AN6: =$M6+AN$8 -> 19.25 | AO6: =$K$6 -> x | AP6: =$L6+AP$8 -> 13.63 | AQ6: =$M6+AQ$8 -> 20.8 | AR6: =$K$6 -> x | AS6: =$L6+AS$8 -> 13.99 | AT6: =$M6+AT$8 -> 21.41 | AU6: =$K$6 -> x | AV6: =$L6+AV$8 -> 14.55 | AW6: =$M6+AW$8 -> 22.36 | AX6: =$K$6 -> x | AY6: =$L6+AY$8 -> 15.14 | AZ6: =$M6+AZ$8 -> 23.35 | BA6: =$K$6 -> x | BB6: =$L6+BB$8 -> 15.83 | BC6: =$M6+BC$8 -> 24.52 | BD6: =$K$6 -> x | BE6: =$L6+BE$8 -> 16.62 | BF6: =$M6+BF$8 -> 25.85 | BG6: =$K$6 -> x | BH6: =$L6+BH$8 -> 16.75 | BI6: =$M6+BI$8 -> 26.07 | BJ6: =$K$6 -> x | BK6: =$L6+BK$8 -> 19.25 | BL6: =$M6+BL$8 -> 30.31 | BM6: =$K$6 -> x | BN6: =$L6+BN$8 -> 19.93 | BO6: =$M6+BO$8 -> 31.47 | BP6: =$K$6 -> x | BQ6: =$L6+BQ$8 -> 15.7 | BR6: =$M6+BR$8 -> 24.3 | BS6: =$K$6 -> x | BT6: =$L6+BT$8 -> 15.83 | BU6: =$M6+BU$8 -> 24.52 | BV6: =$K$6 -> x | BW6: =$L6+BW$8 -> 16.29 | BX6: =$M6+BX$8 -> 25.29
A7: Visé | B7: x | C7: 4.6 | D7: 6.4 | E7: x | F7: 4.6 | G7: 6.4 | I7: 0 | J7: 0 | K7: x | L7: 2.5 | M7: 3.6 | N7: x | O7: =$L7+O$8 -> 5.5 | P7: =$M7+P$8 -> 8.7 | Q7: x | R7: =$L7+R$8 -> 6 | S7: =$M7+S$8 -> 9.55 | T7: =$K$7 -> x | U7: =$L7+U$8 -> 4.59 | V7: =$M7+V$8 -> 6.34 | W7: =$K$7 -> x | X7: =$L7+X$8 -> 5.98 | Y7: =$M7+Y$8 -> 8.69 | Z7: =$K$7 -> x | AA7: =$L7+AA$8 -> 7.36 | AB7: =$M7+AB$8 -> 11.05 | AC7: =$K$7 -> x | AD7: =$L7+AD$8 -> 8.48 | AE7: =$M7+AE$8 -> 12.94 | AF7: =$K$7 -> x | AG7: =$L7+AG$8 -> 9.07 | AH7: =$M7+AH$8 -> 13.94 | AI7: =$K$7 -> x | AJ7: =$L7+AJ$8 -> 9.76 | AK7: =$M7+AK$8 -> 15.1 | AL7: =$K$7 -> x | AM7: =$L7+AM$8 -> 10.32 | AN7: =$M7+AN$8 -> 16.05 | AO7: =$K$7 -> x | AP7: =$L7+AP$8 -> 11.23 | AQ7: =$M7+AQ$8 -> 17.6 | AR7: =$K$7 -> x | AS7: =$L7+AS$8 -> 11.59 | AT7: =$M7+AT$8 -> 18.21 | AU7: =$K$7 -> x | AV7: =$L7+AV$8 -> 12.15 | AW7: =$M7+AW$8 -> 19.16 | AX7: =$K$7 -> x | AY7: =$L7+AY$8 -> 12.74 | AZ7: =$M7+AZ$8 -> 20.15 | BA7: =$K$7 -> x | BB7: =$L7+BB$8 -> 13.43 | BC7: =$M7+BC$8 -> 21.32 | BD7: =$K$7 -> x | BE7: =$L7+BE$8 -> 14.22 | BF7: =$M7+BF$8 -> 22.65 | BG7: =$K$7 -> x | BH7: =$L7+BH$8 -> 14.35 | BI7: =$M7+BI$8 -> 22.87 | BJ7: =$K$7 -> x | BK7: =$L7+BK$8 -> 16.85 | BL7: =$M7+BL$8 -> 27.11 | BM7: =$K$7 -> x | BN7: =$L7+BN$8 -> 17.53 | BO7: =$M7+BO$8 -> 28.27 | BP7: =$K$7 -> x | BQ7: =$L7+BQ$8 -> 13.3 | BR7: =$M7+BR$8 -> 21.1 | BS7: =$K$7 -> x | BT7: =$L7+BT$8 -> 13.43 | BU7: =$M7+BU$8 -> 21.32 | BV7: =$K$7 -> x | BW7: =$L7+BW$8 -> 13.89 | BX7: =$M7+BX$8 -> 22.09
A8: Visé-Grens | B8: x | C8: 4.9 | D8: 6.8 | E8: x | F8: 4.9 | G8: 6.8 | H8: x | I8: 2.5 | J8: 3.6 | K8: 0 | L8: 0 | M8: 0 | N8: 2 | O8: =IF(O$4="2e klas", VLOOKUP(N8,'NS tarieventabel (2026)'!$A:$Y,2,FALSE), VLOOKUP(N8,'NS tarieventabel (2026)'!$A:$Y,7,FALSE)) -> 3 | P8: =IF(P$4="2e klas", VLOOKUP(N8,'NS tarieventabel (2026)'!$A:$Y,2,FALSE), VLOOKUP(N8,'NS tarieventabel (2026)'!$A:$Y,7,FALSE)) -> 5.1 | Q8: 10 | R8: =IF(R$4="2e klas", VLOOKUP(Q8,'NS tarieventabel (2026)'!$A:$Y,2,FALSE), VLOOKUP(Q8,'NS tarieventabel (2026)'!$A:$Y,7,FALSE)) -> 3.5 | S8: =IF(S$4="2e klas", VLOOKUP(Q8,'NS tarieventabel (2026)'!$A:$Y,2,FALSE), VLOOKUP(Q8,'NS tarieventabel (2026)'!$A:$Y,7,FALSE)) -> 5.95 | T8: =$N$8+T9 -> 11 | U8: =IF(U$4="2e klas", U$10+(VLOOKUP(T8,'NS tarieventabel (2026)'!$A:$Y,2,FALSE)-(VLOOKUP(T$10,'NS tarieventabel (2026)'!$A:$Y,2,FALSE)))*1, U$10*(+VLOOKUP(T8,'NS tarieventabel (2026)'!$A:$Y,7,FALSE)-(VLOOKUP(T$10,'NS tarieventabel (2026)'!$A:$Y,7,FALSE)))*1) -> 2.09 | V8: =IF(V$4="2e klas", V$10+(VLOOKUP(T8,'NS tarieventabel (2026)'!$A:$Y,2,FALSE)-(VLOOKUP(T$10,'NS tarieventabel (2026)'!$A:$Y,2,FALSE)))*1, V$10+(+VLOOKUP(T8,'NS tarieventabel (2026)'!$A:$Y,7,FALSE)-(VLOOKUP(T$10,'NS tarieventabel (2026)'!$A:$Y,7,FALSE)))*1) -> 2.74 | W8: =$N$8+W9 -> 14 | X8: =IF(X$4="2e klas", X$10+(VLOOKUP(W8,'NS tarieventabel (2026)'!$A:$Y,2,FALSE)-(VLOOKUP(W$10,'NS tarieventabel (2026)'!$A:$Y,2,FALSE)))*1, X$10*(+VLOOKUP(W8,'NS tarieventabel (2026)'!$A:$Y,7,FALSE)-(VLOOKUP(W$10,'NS tarieventabel (2026)'!$A:$Y,7,FALSE)))*1) -> 3.48 | Y8: =IF(Y$4="2e klas", Y$10+(VLOOKUP(W8,'NS tarieventabel (2026)'!$A:$Y,2,FALSE)-(VLOOKUP(W$10,'NS tarieventabel (2026)'!$A:$Y,2,FALSE)))*1, Y$10+(+VLOOKUP(W8,'NS tarieventabel (2026)'!$A:$Y,7,FALSE)-(VLOOKUP(W$10,'NS tarieventabel (2026)'!$A:$Y,7,FALSE)))*1) -> 5.09 | Z8: =$N$8+Z9 -> 17 | AA8: =IF(AA$4="2e klas", AA$10+(VLOOKUP(Z8,'NS tarieventabel (2026)'!$A:$Y,2,FALSE)-(VLOOKUP(Z$10,'NS tarieventabel (2026)'!$A:$Y,2,FALSE)))*1, AA$10*(+VLOOKUP(Z8,'NS tarieventabel (2026)'!$A:$Y,7,FALSE)-(VLOOKUP(Z$10,'NS tarieventabel (2026)'!$A:$Y,7,FALSE)))*1) -> 4.86 | AB8: =IF(AB$4="2e klas", AB$10+(VLOOKUP(Z8,'NS tarieventabel (2026)'!$A:$Y,2,FALSE)-(VLOOKUP(Z$10,'NS tarieventabel (2026)'!$A:$Y,2,FALSE)))*1, AB$10+(+VLOOKUP(Z8,'NS tarieventabel (2026)'!$A:$Y,7,FALSE)-(VLOOKUP(Z$10,'NS tarieventabel (2026)'!$A:$Y,7,FALSE)))*1) -> 7.45 | AC8: =$N$8+AC9 -> 21 | AD8: =IF(AD$4="2e klas", AD$10+(VLOOKUP(AC8,'NS tarieventabel (2026)'!$A:$Y,2,FALSE)-(VLOOKUP(AC$10,'NS tarieventabel (2026)'!$A:$Y,2,FALSE)))*1, AD$10*(+VLOOKUP(AC8,'NS tarieventabel (2026)'!$A:$Y,7,FALSE)-(VLOOKUP(AC$10,'NS tarieventabel (2026)'!$A:$Y,7,FALSE)))*1) -> 5.98 | AE8: =IF(AE$4="2e klas", AE$10+(VLOOKUP(AC8,'NS tarieventabel (2026)'!$A:$Y,2,FALSE)-(VLOOKUP(AC$10,'NS tarieventabel (2026)'!$A:$Y,2,FALSE)))*1, AE$10+(+VLOOKUP(AC8,'NS tarieventabel (2026)'!$A:$Y,7,FALSE)-(VLOOKUP(AC$10,'NS tarieventabel (2026)'!$A:$Y,7,FALSE)))*1) -> 9.34 | AF8: =$N$8+AF9 -> 24 | AG8: =IF(AG$4="2e klas", AG$10+(VLOOKUP(AF8,'NS tarieventabel (2026)'!$A:$Y,2,FALSE)-(VLOOKUP(AF$10,'NS tarieventabel (2026)'!$A:$Y,2,FALSE)))*1, AG$10*(+VLOOKUP(AF8,'NS tarieventabel (2026)'!$A:$Y,7,FALSE)-(VLOOKUP(AF$10,'NS tarieventabel (2026)'!$A:$Y,7,FALSE)))*1) -> 6.57 | AH8: =IF(AH$4="2e klas", AH$10+(VLOOKUP(AF8,'NS tarieventabel (2026)'!$A:$Y,2,FALSE)-(VLOOKUP(AF$10,'NS tarieventabel (2026)'!$A:$Y,2,FALSE)))*1, AH$10+(+VLOOKUP(AF8,'NS tarieventabel (2026)'!$A:$Y,7,FALSE)-(VLOOKUP(AF$10,'NS tarieventabel (2026)'!$A:$Y,7,FALSE)))*1) -> 10.34 | AI8: =$N$8+AI9 -> 27 | AJ8: =IF(AJ$4="2e klas", AJ$10+(VLOOKUP(AI8,'NS tarieventabel (2026)'!$A:$Y,2,FALSE)-(VLOOKUP(AI$10,'NS tarieventabel (2026)'!$A:$Y,2,FALSE)))*1, AJ$10*(+VLOOKUP(AI8,'NS tarieventabel (2026)'!$A:$Y,7,FALSE)-(VLOOKUP(AI$10,'NS tarieventabel (2026)'!$A:$Y,7,FALSE)))*1) -> 7.26 | AK8: =IF(AK$4="2e klas", AK$10+(VLOOKUP(AI8,'NS tarieventabel (2026)'!$A:$Y,2,FALSE)-(VLOOKUP(AI$10,'NS tarieventabel (2026)'!$A:$Y,2,FALSE)))*1, AK$10+(+VLOOKUP(AI8,'NS tarieventabel (2026)'!$A:$Y,7,FALSE)-(VLOOKUP(AI$10,'NS tarieventabel (2026)'!$A:$Y,7,FALSE)))*1) -> 11.5 | AL8: =$N$8+AL9 -> 29 | AM8: =IF(AM$4="2e klas", AM$10+(VLOOKUP(AL8,'NS tarieventabel (2026)'!$A:$Y,2,FALSE)-(VLOOKUP(AL$10,'NS tarieventabel (2026)'!$A:$Y,2,FALSE)))*1, AM$10*(+VLOOKUP(AL8,'NS tarieventabel (2026)'!$A:$Y,7,FALSE)-(VLOOKUP(AL$10,'NS tarieventabel (2026)'!$A:$Y,7,FALSE)))*1) -> 7.82 | AN8: =IF(AN$4="2e klas", AN$10+(VLOOKUP(AL8,'NS tarieventabel (2026)'!$A:$Y,2,FALSE)-(VLOOKUP(AL$10,'NS tarieventabel (2026)'!$A:$Y,2,FALSE)))*1, AN$10+(+VLOOKUP(AL8,'NS tarieventabel (2026)'!$A:$Y,7,FALSE)-(VLOOKUP(AL$10,'NS tarieventabel (2026)'!$A:$Y,7,FALSE)))*1) -> 12.45 | AO8: =$N$8+AO9 -> 33 | AP8: =IF(AP$4="2e klas", AP$10+(VLOOKUP(AO8,'NS tarieventabel (2026)'!$A:$Y,2,FALSE)-(VLOOKUP(AO$10,'NS tarieventabel (2026)'!$A:$Y,2,FALSE)))*1, AP$10*(+VLOOKUP(AO8,'NS tarieventabel (2026)'!$A:$Y,7,FALSE)-(VLOOKUP(AO$10,'NS tarieventabel (2026)'!$A:$Y,7,FALSE)))*1) -> 8.73 | AQ8: =IF(AQ$4="2e klas", AQ$10+(VLOOKUP(AO8,'NS tarieventabel (2026)'!$A:$Y,2,FALSE)-(VLOOKUP(AO$10,'NS tarieventabel (2026)'!$A:$Y,2,FALSE)))*1, AQ$10+(+VLOOKUP(AO8,'NS tarieventabel (2026)'!$A:$Y,7,FALSE)-(VLOOKUP(AO$10,'NS tarieventabel (2026)'!$A:$Y,7,FALSE)))*1) -> 14 | AR8: =$N$8+AR9 -> 35 | AS8: =IF(AS$4="2e klas", AS$10+(VLOOKUP(AR8,'NS tarieventabel (2026)'!$A:$Y,2,FALSE)-(VLOOKUP(AR$10,'NS tarieventabel (2026)'!$A:$Y,2,FALSE)))*1, AS$10*(+VLOOKUP(AR8,'NS tarieventabel (2026)'!$A:$Y,7,FALSE)-(VLOOKUP(AR$10,'NS tarieventabel (2026)'!$A:$Y,7,FALSE)))*1) -> 9.09 | AT8: =IF(AT$4="2e klas", AT$10+(VLOOKUP(AR8,'NS tarieventabel (2026)'!$A:$Y,2,FALSE)-(VLOOKUP(AR$10,'NS tarieventabel (2026)'!$A:$Y,2,FALSE)))*1, AT$10+(+VLOOKUP(AR8,'NS tarieventabel (2026)'!$A:$Y,7,FALSE)-(VLOOKUP(AR$10,'NS tarieventabel (2026)'!$A:$Y,7,FALSE)))*1) -> 14.61 | AU8: =$N$8+AU9 -> 37 | AV8: =IF(AV$4="2e klas", AV$10+(VLOOKUP(AU8,'NS tarieventabel (2026)'!$A:$Y,2,FALSE)-(VLOOKUP(AU$10,'NS tarieventabel (2026)'!$A:$Y,2,FALSE)))*1, AV$10*(+VLOOKUP(AU8,'NS tarieventabel (2026)'!$A:$Y,7,FALSE)-(VLOOKUP(AU$10,'NS tarieventabel (2026)'!$A:$Y,7,FALSE)))*1) -> 9.65 | AW8: =IF(AW$4="2e klas", AW$10+(VLOOKUP(AU8,'NS tarieventabel (2026)'!$A:$Y,2,FALSE)-(VLOOKUP(AU$10,'NS tarieventabel (2026)'!$A:$Y,2,FALSE)))*1, AW$10+(+VLOOKUP(AU8,'NS tarieventabel (2026)'!$A:$Y,7,FALSE)-(VLOOKUP(AU$10,'NS tarieventabel (2026)'!$A:$Y,7,FALSE)))*1) -> 15.56 | AX8: =$N$8+AX9 -> 40 | AY8: =IF(AY$4="2e klas", AY$10+(VLOOKUP(AX8,'NS tarieventabel (2026)'!$A:$Y,2,FALSE)-(VLOOKUP(AX$10,'NS tarieventabel (2026)'!$A:$Y,2,FALSE)))*1, AY$10*(+VLOOKUP(AX8,'NS tarieventabel (2026)'!$A:$Y,7,FALSE)-(VLOOKUP(AX$10,'NS tarieventabel (2026)'!$A:$Y,7,FALSE)))*1) -> 10.24 | AZ8: =IF(AZ$4="2e klas", AZ$10+(VLOOKUP(AX8,'NS tarieventabel (2026)'!$A:$Y,2,FALSE)-(VLOOKUP(AX$10,'NS tarieventabel (2026)'!$A:$Y,2,FALSE)))*1, AZ$10+(+VLOOKUP(AX8,'NS tarieventabel (2026)'!$A:$Y,7,FALSE)-(VLOOKUP(AX$10,'NS tarieventabel (2026)'!$A:$Y,7,FALSE)))*1) -> 16.55 | BA8: =$N$8+BA9 -> 43 | BB8: =IF(BB$4="2e klas", BB$10+(VLOOKUP(BA8,'NS tarieventabel (2026)'!$A:$Y,2,FALSE)-(VLOOKUP(BA$10,'NS tarieventabel (2026)'!$A:$Y,2,FALSE)))*1, BB$10*(+VLOOKUP(BA8,'NS tarieventabel (2026)'!$A:$Y,7,FALSE)-(VLOOKUP(BA$10,'NS tarieventabel (2026)'!$A:$Y,7,FALSE)))*1) -> 10.93 | BC8: =IF(BC$4="2e klas", BC$10+(VLOOKUP(BA8,'NS tarieventabel (2026)'!$A:$Y,2,FALSE)-(VLOOKUP(BA$10,'NS tarieventabel (2026)'!$A:$Y,2,FALSE)))*1, BC$10+(+VLOOKUP(BA8,'NS tarieventabel (2026)'!$A:$Y,7,FALSE)-(VLOOKUP(BA$10,'NS tarieventabel (2026)'!$A:$Y,7,FALSE)))*1) -> 17.72 | BD8: =$N$8+BD9 -> 46 | BE8: =IF(BE$4="2e klas", BE$10+(VLOOKUP(BD8,'NS tarieventabel (2026)'!$A:$Y,2,FALSE)-(VLOOKUP(BD$10,'NS tarieventabel (2026)'!$A:$Y,2,FALSE)))*1, BE$10*(+VLOOKUP(BD8,'NS tarieventabel (2026)'!$A:$Y,7,FALSE)-(VLOOKUP(BD$10,'NS tarieventabel (2026)'!$A:$Y,7,FALSE)))*1) -> 11.72 | BF8: =IF(BF$4="2e klas", BF$10+(VLOOKUP(BD8,'NS tarieventabel (2026)'!$A:$Y,2,FALSE)-(VLOOKUP(BD$10,'NS tarieventabel (2026)'!$A:$Y,2,FALSE)))*1, BF$10+(+VLOOKUP(BD8,'NS tarieventabel (2026)'!$A:$Y,7,FALSE)-(VLOOKUP(BD$10,'NS tarieventabel (2026)'!$A:$Y,7,FALSE)))*1) -> 19.05 | BG8: =$N$8+BG9 -> 47 | BH8: =IF(BH$4="2e klas", BH$10+(VLOOKUP(BG8,'NS tarieventabel (2026)'!$A:$Y,2,FALSE)-(VLOOKUP(BG$10,'NS tarieventabel (2026)'!$A:$Y,2,FALSE)))*1, BH$10*(+VLOOKUP(BG8,'NS tarieventabel (2026)'!$A:$Y,7,FALSE)-(VLOOKUP(BG$10,'NS tarieventabel (2026)'!$A:$Y,7,FALSE)))*1) -> 11.85 | BI8: =IF(BI$4="2e klas", BI$10+(VLOOKUP(BG8,'NS tarieventabel (2026)'!$A:$Y,2,FALSE)-(VLOOKUP(BG$10,'NS tarieventabel (2026)'!$A:$Y,2,FALSE)))*1, BI$10+(+VLOOKUP(BG8,'NS tarieventabel (2026)'!$A:$Y,7,FALSE)-(VLOOKUP(BG$10,'NS tarieventabel (2026)'!$A:$Y,7,FALSE)))*1) -> 19.27 | BJ8: =$N$8+BJ9 -> 58 | BK8: =IF(BK$4="2e klas", BK$10+(VLOOKUP(BJ8,'NS tarieventabel (2026)'!$A:$Y,2,FALSE)-(VLOOKUP(BJ$10,'NS tarieventabel (2026)'!$A:$Y,2,FALSE)))*1, BK$10*(+VLOOKUP(BJ8,'NS tarieventabel (2026)'!$A:$Y,7,FALSE)-(VLOOKUP(BJ$10,'NS tarieventabel (2026)'!$A:$Y,7,FALSE)))*1) -> 14.35 | BL8: =IF(BL$4="2e klas", BL$10+(VLOOKUP(BJ8,'NS tarieventabel (2026)'!$A:$Y,2,FALSE)-(VLOOKUP(BJ$10,'NS tarieventabel (2026)'!$A:$Y,2,FALSE)))*1, BL$10+(+VLOOKUP(BJ8,'NS tarieventabel (2026)'!$A:$Y,7,FALSE)-(VLOOKUP(BJ$10,'NS tarieventabel (2026)'!$A:$Y,7,FALSE)))*1) -> 23.51 | BM8: =$N$8+BM9 -> 61 | BN8: =IF(BN$4="2e klas", BN$10+(VLOOKUP(BM8,'NS tarieventabel (2026)'!$A:$Y,2,FALSE)-(VLOOKUP(BM$10,'NS tarieventabel (2026)'!$A:$Y,2,FALSE)))*1, BN$10*(+VLOOKUP(BM8,'NS tarieventabel (2026)'!$A:$Y,7,FALSE)-(VLOOKUP(BM$10,'NS tarieventabel (2026)'!$A:$Y,7,FALSE)))*1) -> 15.03 | BO8: =IF(BO$4="2e klas", BO$10+(VLOOKUP(BM8,'NS tarieventabel (2026)'!$A:$Y,2,FALSE)-(VLOOKUP(BM$10,'NS tarieventabel (2026)'!$A:$Y,2,FALSE)))*1, BO$10+(+VLOOKUP(BM8,'NS tarieventabel (2026)'!$A:$Y,7,FALSE)-(VLOOKUP(BM$10,'NS tarieventabel (2026)'!$A:$Y,7,FALSE)))*1) -> 24.67 | BP8: =$N$8+BP9 -> 42 | BQ8: =IF(BQ$4="2e klas", BQ$10+(VLOOKUP(BP8,'NS tarieventabel (2026)'!$A:$Y,2,FALSE)-(VLOOKUP(BP$10,'NS tarieventabel (2026)'!$A:$Y,2,FALSE)))*1, BQ$10*(+VLOOKUP(BP8,'NS tarieventabel (2026)'!$A:$Y,7,FALSE)-(VLOOKUP(BP$10,'NS tarieventabel (2026)'!$A:$Y,7,FALSE)))*1) -> 10.8 | BR8: =IF(BR$4="2e klas", BR$10+(VLOOKUP(BP8,'NS tarieventabel (2026)'!$A:$Y,2,FALSE)-(VLOOKUP(BP$10,'NS tarieventabel (2026)'!$A:$Y,2,FALSE)))*1, BR$10+(+VLOOKUP(BP8,'NS tarieventabel (2026)'!$A:$Y,7,FALSE)-(VLOOKUP(BP$10,'NS tarieventabel (2026)'!$A:$Y,7,FALSE)))*1) -> 17.5 | BS8: =$N$8+BS9 -> 43 | BT8: =IF(BT$4="2e klas", BT$10+(VLOOKUP(BS8,'NS tarieventabel (2026)'!$A:$Y,2,FALSE)-(VLOOKUP(BS$10,'NS tarieventabel (2026)'!$A:$Y,2,FALSE)))*1, BT$10*(+VLOOKUP(BS8,'NS tarieventabel (2026)'!$A:$Y,7,FALSE)-(VLOOKUP(BS$10,'NS tarieventabel (2026)'!$A:$Y,7,FALSE)))*1) -> 10.93 | BU8: =IF(BU$4="2e klas", BU$10+(VLOOKUP(BS8,'NS tarieventabel (2026)'!$A:$Y,2,FALSE)-(VLOOKUP(BS$10,'NS tarieventabel (2026)'!$A:$Y,2,FALSE)))*1, BU$10+(+VLOOKUP(BS8,'NS tarieventabel (2026)'!$A:$Y,7,FALSE)-(VLOOKUP(BS$10,'NS tarieventabel (2026)'!$A:$Y,7,FALSE)))*1) -> 17.72 | BV8: =$N$8+BV9 -> 45 | BW8: =IF(BW$4="2e klas", BW$10+(VLOOKUP(BV8,'NS tarieventabel (2026)'!$A:$Y,2,FALSE)-(VLOOKUP(BV$10,'NS tarieventabel (2026)'!$A:$Y,2,FALSE)))*1, BW$10*(+VLOOKUP(BV8,'NS tarieventabel (2026)'!$A:$Y,7,FALSE)-(VLOOKUP(BV$10,'NS tarieventabel (2026)'!$A:$Y,7,FALSE)))*1) -> 11.39 | BX8: =IF(BX$4="2e klas", BX$10+(VLOOKUP(BV8,'NS tarieventabel (2026)'!$A:$Y,2,FALSE)-(VLOOKUP(BV$10,'NS tarieventabel (2026)'!$A:$Y,2,FALSE)))*1, BX$10+(+VLOOKUP(BV8,'NS tarieventabel (2026)'!$A:$Y,7,FALSE)-(VLOOKUP(BV$10,'NS tarieventabel (2026)'!$A:$Y,7,FALSE)))*1) -> 18.49
A9: Eijsden | B9: 2 | C9: =IF(C$4="2e klas", C$8+VLOOKUP(B9,'NS tarieventabel (2026)'!$A:$Y,2,FALSE), C$8+VLOOKUP(B9,'NS tarieventabel (2026)'!$A:$Y,7,FALSE)) -> 7.9 | D9: =IF(D$4="2e klas", D$8+VLOOKUP(B9,'NS tarieventabel (2026)'!$A:$Y,2,FALSE), D$8+VLOOKUP(B9,'NS tarieventabel (2026)'!$A:$Y,7,FALSE)) -> 11.9 | E9: 2 | F9: =IF(F$4="2e klas", F$8+VLOOKUP(E9,'NS tarieventabel (2026)'!$A:$Y,2,FALSE), F$8+VLOOKUP(E9,'NS tarieventabel (2026)'!$A:$Y,7,FALSE)) -> 7.9 | G9: =IF(G$4="2e klas", G$8+VLOOKUP(E9,'NS tarieventabel (2026)'!$A:$Y,2,FALSE), G$8+VLOOKUP(E9,'NS tarieventabel (2026)'!$A:$Y,7,FALSE)) -> 11.9 | H9: 2 | I9: =IF(I$4="2e klas", I$8+VLOOKUP(H9,'NS tarieventabel (2026)'!$A:$Y,2,FALSE), I$8+VLOOKUP(H9,'NS tarieventabel (2026)'!$A:$Y,7,FALSE)) -> 5.5 | J9: =IF(J$4="2e klas", J$8+VLOOKUP(H9,'NS tarieventabel (2026)'!$A:$Y,2,FALSE), J$8+VLOOKUP(H9,'NS tarieventabel (2026)'!$A:$Y,7,FALSE)) -> 8.7 | K9: 2 | L9: =IF(L$4="2e klas", VLOOKUP(K9,'NS tarieventabel (2026)'!$A:$Y,2,FALSE), VLOOKUP(K9,'NS tarieventabel (2026)'!$A:$Y,7,FALSE)) -> 3 | M9: =IF(M$4="2e klas", VLOOKUP(K9,'NS tarieventabel (2026)'!$A:$Y,2,FALSE), VLOOKUP(K9,'NS tarieventabel (2026)'!$A:$Y,7,FALSE)) -> 5.1 | Q9: 8 | R9: =IF(R$4="2e klas", VLOOKUP(Q9,'NS tarieventabel (2026)'!$A:$Y,2,FALSE), VLOOKUP(Q9,'NS tarieventabel (2026)'!$A:$Y,7,FALSE)) -> 3 | S9: =IF(S$4="2e klas", VLOOKUP(Q9,'NS tarieventabel (2026)'!$A:$Y,2,FALSE), VLOOKUP(Q9,'NS tarieventabel (2026)'!$A:$Y,7,FALSE)) -> 5.1 | T9: =$Q$9+T10 -> 9 | U9: =IF(U$4="2e klas", U$10+(VLOOKUP(T9,'NS tarieventabel (2026)'!$A:$Y,2,FALSE)-(VLOOKUP(T$10,'NS tarieventabel (2026)'!$A:$Y,2,FALSE)))*1, U$10*(+VLOOKUP(T9,'NS tarieventabel (2026)'!$A:$Y,7,FALSE)-(VLOOKUP(T$10,'NS tarieventabel (2026)'!$A:$Y,7,FALSE)))*1) -> 1.69 | V9: =IF(V$4="2e klas", V$10+(VLOOKUP(T9,'NS tarieventabel (2026)'!$A:$Y,2,FALSE)-(VLOOKUP(T$10,'NS tarieventabel (2026)'!$A:$Y,2,FALSE)))*1, V$10+(+VLOOKUP(T9,'NS tarieventabel (2026)'!$A:$Y,7,FALSE)-(VLOOKUP(T$10,'NS tarieventabel (2026)'!$A:$Y,7,FALSE)))*1) -> 2.06 | W9: =$Q$9+W10 -> 12 | X9: =IF(X$4="2e klas", X$10+(VLOOKUP(W9,'NS tarieventabel (2026)'!$A:$Y,2,FALSE)-(VLOOKUP(W$10,'NS tarieventabel (2026)'!$A:$Y,2,FALSE)))*1, X$10*(+VLOOKUP(W9,'NS tarieventabel (2026)'!$A:$Y,7,FALSE)-(VLOOKUP(W$10,'NS tarieventabel (2026)'!$A:$Y,7,FALSE)))*1) -> 3.08 | Y9: =IF(Y$4="2e klas", Y$10+(VLOOKUP(W9,'NS tarieventabel (2026)'!$A:$Y,2,FALSE)-(VLOOKUP(W$10,'NS tarieventabel (2026)'!$A:$Y,2,FALSE)))*1, Y$10+(+VLOOKUP(W9,'NS tarieventabel (2026)'!$A:$Y,7,FALSE)-(VLOOKUP(W$10,'NS tarieventabel (2026)'!$A:$Y,7,FALSE)))*1) -> 4.41 | Z9: =$Q$9+Z10 -> 15 | AA9: =IF(AA$4="2e klas", AA$10+(VLOOKUP(Z9,'NS tarieventabel (2026)'!$A:$Y,2,FALSE)-(VLOOKUP(Z$10,'NS tarieventabel (2026)'!$A:$Y,2,FALSE)))*1, AA$10*(+VLOOKUP(Z9,'NS tarieventabel (2026)'!$A:$Y,7,FALSE)-(VLOOKUP(Z$10,'NS tarieventabel (2026)'!$A:$Y,7,FALSE)))*1) -> 4.36 | AB9: =IF(AB$4="2e klas", AB$10+(VLOOKUP(Z9,'NS tarieventabel (2026)'!$A:$Y,2,FALSE)-(VLOOKUP(Z$10,'NS tarieventabel (2026)'!$A:$Y,2,FALSE)))*1, AB$10+(+VLOOKUP(Z9,'NS tarieventabel (2026)'!$A:$Y,7,FALSE)-(VLOOKUP(Z$10,'NS tarieventabel (2026)'!$A:$Y,7,FALSE)))*1) -> 6.6 | AC9: =$Q$9+AC10 -> 19 | AD9: =IF(AD$4="2e klas", AD$10+(VLOOKUP(AC9,'NS tarieventabel (2026)'!$A:$Y,2,FALSE)-(VLOOKUP(AC$10,'NS tarieventabel (2026)'!$A:$Y,2,FALSE)))*1, AD$10*(+VLOOKUP(AC9,'NS tarieventabel (2026)'!$A:$Y,7,FALSE)-(VLOOKUP(AC$10,'NS tarieventabel (2026)'!$A:$Y,7,FALSE)))*1) -> 5.48 | AE9: =IF(AE$4="2e klas", AE$10+(VLOOKUP(AC9,'NS tarieventabel (2026)'!$A:$Y,2,FALSE)-(VLOOKUP(AC$10,'NS tarieventabel (2026)'!$A:$Y,2,FALSE)))*1, AE$10+(+VLOOKUP(AC9,'NS tarieventabel (2026)'!$A:$Y,7,FALSE)-(VLOOKUP(AC$10,'NS tarieventabel (2026)'!$A:$Y,7,FALSE)))*1) -> 8.49 | AF9: =$Q$9+AF10 -> 22 | AG9: =IF(AG$4="2e klas", AG$10+(VLOOKUP(AF9,'NS tarieventabel (2026)'!$A:$Y,2,FALSE)-(VLOOKUP(AF$10,'NS tarieventabel (2026)'!$A:$Y,2,FALSE)))*1, AG$10*(+VLOOKUP(AF9,'NS tarieventabel (2026)'!$A:$Y,7,FALSE)-(VLOOKUP(AF$10,'NS tarieventabel (2026)'!$A:$Y,7,FALSE)))*1) -> 6.17 | AH9: =IF(AH$4="2e klas", AH$10+(VLOOKUP(AF9,'NS tarieventabel (2026)'!$A:$Y,2,FALSE)-(VLOOKUP(AF$10,'NS tarieventabel (2026)'!$A:$Y,2,FALSE)))*1, AH$10+(+VLOOKUP(AF9,'NS tarieventabel (2026)'!$A:$Y,7,FALSE)-(VLOOKUP(AF$10,'NS tarieventabel (2026)'!$A:$Y,7,FALSE)))*1) -> 9.66 | AI9: =$Q$9+AI10 -> 25 | AJ9: =IF(AJ$4="2e klas", AJ$10+(VLOOKUP(AI9,'NS tarieventabel (2026)'!$A:$Y,2,FALSE)-(VLOOKUP(AI$10,'NS tarieventabel (2026)'!$A:$Y,2,FALSE)))*1, AJ$10*(+VLOOKUP(AI9,'NS tarieventabel (2026)'!$A:$Y,7,FALSE)-(VLOOKUP(AI$10,'NS tarieventabel (2026)'!$A:$Y,7,FALSE)))*1) -> 6.86 | AK9: =IF(AK$4="2e klas", AK$10+(VLOOKUP(AI9,'NS tarieventabel (2026)'!$A:$Y,2,FALSE)-(VLOOKUP(AI$10,'NS tarieventabel (2026)'!$A:$Y,2,FALSE)))*1, AK$10+(+VLOOKUP(AI9,'NS tarieventabel (2026)'!$A:$Y,7,FALSE)-(VLOOKUP(AI$10,'NS tarieventabel (2026)'!$A:$Y,7,FALSE)))*1) -> 10.82 | AL9: =$Q$9+AL10 -> 27 | AM9: =IF(AM$4="2e klas", AM$10+(VLOOKUP(AL9,'NS tarieventabel (2026)'!$A:$Y,2,FALSE)-(VLOOKUP(AL$10,'NS tarieventabel (2026)'!$A:$Y,2,FALSE)))*1, AM$10*(+VLOOKUP(AL9,'NS tarieventabel (2026)'!$A:$Y,7,FALSE)-(VLOOKUP(AL$10,'NS tarieventabel (2026)'!$A:$Y,7,FALSE)))*1) -> 7.32 | AN9: =IF(AN$4="2e klas", AN$10+(VLOOKUP(AL9,'NS tarieventabel (2026)'!$A:$Y,2,FALSE)-(VLOOKUP(AL$10,'NS tarieventabel (2026)'!$A:$Y,2,FALSE)))*1, AN$10+(+VLOOKUP(AL9,'NS tarieventabel (2026)'!$A:$Y,7,FALSE)-(VLOOKUP(AL$10,'NS tarieventabel (2026)'!$A:$Y,7,FALSE)))*1) -> 11.6 | AO9: =$Q$9+AO10 -> 31 | AP9: =IF(AP$4="2e klas", AP$10+(VLOOKUP(AO9,'NS tarieventabel (2026)'!$A:$Y,2,FALSE)-(VLOOKUP(AO$10,'NS tarieventabel (2026)'!$A:$Y,2,FALSE)))*1, AP$10*(+VLOOKUP(AO9,'NS tarieventabel (2026)'!$A:$Y,7,FALSE)-(VLOOKUP(AO$10,'NS tarieventabel (2026)'!$A:$Y,7,FALSE)))*1) -> 8.23 | AQ9: =IF(AQ$4="2e klas", AQ$10+(VLOOKUP(AO9,'NS tarieventabel (2026)'!$A:$Y,2,FALSE)-(VLOOKUP(AO$10,'NS tarieventabel (2026)'!$A:$Y,2,FALSE)))*1, AQ$10+(+VLOOKUP(AO9,'NS tarieventabel (2026)'!$A:$Y,7,FALSE)-(VLOOKUP(AO$10,'NS tarieventabel (2026)'!$A:$Y,7,FALSE)))*1) -> 13.15 | AR9: =$Q$9+AR10 -> 33 | AS9: =IF(AS$4="2e klas", AS$10+(VLOOKUP(AR9,'NS tarieventabel (2026)'!$A:$Y,2,FALSE)-(VLOOKUP(AR$10,'NS tarieventabel (2026)'!$A:$Y,2,FALSE)))*1, AS$10*(+VLOOKUP(AR9,'NS tarieventabel (2026)'!$A:$Y,7,FALSE)-(VLOOKUP(AR$10,'NS tarieventabel (2026)'!$A:$Y,7,FALSE)))*1) -> 8.69 | AT9: =IF(AT$4="2e klas", AT$10+(VLOOKUP(AR9,'NS tarieventabel (2026)'!$A:$Y,2,FALSE)-(VLOOKUP(AR$10,'NS tarieventabel (2026)'!$A:$Y,2,FALSE)))*1, AT$10+(+VLOOKUP(AR9,'NS tarieventabel (2026)'!$A:$Y,7,FALSE)-(VLOOKUP(AR$10,'NS tarieventabel (2026)'!$A:$Y,7,FALSE)))*1) -> 13.93 | AU9: =$Q$9+AU10 -> 35 | AV9: =IF(AV$4="2e klas", AV$10+(VLOOKUP(AU9,'NS tarieventabel (2026)'!$A:$Y,2,FALSE)-(VLOOKUP(AU$10,'NS tarieventabel (2026)'!$A:$Y,2,FALSE)))*1, AV$10*(+VLOOKUP(AU9,'NS tarieventabel (2026)'!$A:$Y,7,FALSE)-(VLOOKUP(AU$10,'NS tarieventabel (2026)'!$A:$Y,7,FALSE)))*1) -> 9.15 | AW9: =IF(AW$4="2e klas", AW$10+(VLOOKUP(AU9,'NS tarieventabel (2026)'!$A:$Y,2,FALSE)-(VLOOKUP(AU$10,'NS tarieventabel (2026)'!$A:$Y,2,FALSE)))*1, AW$10+(+VLOOKUP(AU9,'NS tarieventabel (2026)'!$A:$Y,7,FALSE)-(VLOOKUP(AU$10,'NS tarieventabel (2026)'!$A:$Y,7,FALSE)))*1) -> 14.71 | AX9: =$Q$9+AX10 -> 38 | AY9: =IF(AY$4="2e klas", AY$10+(VLOOKUP(AX9,'NS tarieventabel (2026)'!$A:$Y,2,FALSE)-(VLOOKUP(AX$10,'NS tarieventabel (2026)'!$A:$Y,2,FALSE)))*1, AY$10*(+VLOOKUP(AX9,'NS tarieventabel (2026)'!$A:$Y,7,FALSE)-(VLOOKUP(AX$10,'NS tarieventabel (2026)'!$A:$Y,7,FALSE)))*1) -> 9.84 | AZ9: =IF(AZ$4="2e klas", AZ$10+(VLOOKUP(AX9,'NS tarieventabel (2026)'!$A:$Y,2,FALSE)-(VLOOKUP(AX$10,'NS tarieventabel (2026)'!$A:$Y,2,FALSE)))*1, AZ$10+(+VLOOKUP(AX9,'NS tarieventabel (2026)'!$A:$Y,7,FALSE)-(VLOOKUP(AX$10,'NS tarieventabel (2026)'!$A:$Y,7,FALSE)))*1) -> 15.87 | BA9: =$Q$9+BA10 -> 41 | BB9: =IF(BB$4="2e klas", BB$10+(VLOOKUP(BA9,'NS tarieventabel (2026)'!$A:$Y,2,FALSE)-(VLOOKUP(BA$10,'NS tarieventabel (2026)'!$A:$Y,2,FALSE)))*1, BB$10*(+VLOOKUP(BA9,'NS tarieventabel (2026)'!$A:$Y,7,FALSE)-(VLOOKUP(BA$10,'NS tarieventabel (2026)'!$A:$Y,7,FALSE)))*1) -> 10.53 | BC9: =IF(BC$4="2e klas", BC$10+(VLOOKUP(BA9,'NS tarieventabel (2026)'!$A:$Y,2,FALSE)-(VLOOKUP(BA$10,'NS tarieventabel (2026)'!$A:$Y,2,FALSE)))*1, BC$10+(+VLOOKUP(BA9,'NS tarieventabel (2026)'!$A:$Y,7,FALSE)-(VLOOKUP(BA$10,'NS tarieventabel (2026)'!$A:$Y,7,FALSE)))*1) -> 17.04 | BD9: =$Q$9+BD10 -> 44 | BE9: =IF(BE$4="2e klas", BE$10+(VLOOKUP(BD9,'NS tarieventabel (2026)'!$A:$Y,2,FALSE)-(VLOOKUP(BD$10,'NS tarieventabel (2026)'!$A:$Y,2,FALSE)))*1, BE$10*(+VLOOKUP(BD9,'NS tarieventabel (2026)'!$A:$Y,7,FALSE)-(VLOOKUP(BD$10,'NS tarieventabel (2026)'!$A:$Y,7,FALSE)))*1) -> 11.22 | BF9: =IF(BF$4="2e klas", BF$10+(VLOOKUP(BD9,'NS tarieventabel (2026)'!$A:$Y,2,FALSE)-(VLOOKUP(BD$10,'NS tarieventabel (2026)'!$A:$Y,2,FALSE)))*1, BF$10+(+VLOOKUP(BD9,'NS tarieventabel (2026)'!$A:$Y,7,FALSE)-(VLOOKUP(BD$10,'NS tarieventabel (2026)'!$A:$Y,7,FALSE)))*1) -> 18.2 | BG9: =$Q$9+BG10 -> 45 | BH9: =IF(BH$4="2e klas", BH$10+(VLOOKUP(BG9,'NS tarieventabel (2026)'!$A:$Y,2,FALSE)-(VLOOKUP(BG$10,'NS tarieventabel (2026)'!$A:$Y,2,FALSE)))*1, BH$10*(+VLOOKUP(BG9,'NS tarieventabel (2026)'!$A:$Y,7,FALSE)-(VLOOKUP(BG$10,'NS tarieventabel (2026)'!$A:$Y,7,FALSE)))*1) -> 11.35 | BI9: =IF(BI$4="2e klas", BI$10+(VLOOKUP(BG9,'NS tarieventabel (2026)'!$A:$Y,2,FALSE)-(VLOOKUP(BG$10,'NS tarieventabel (2026)'!$A:$Y,2,FALSE)))*1, BI$10+(+VLOOKUP(BG9,'NS tarieventabel (2026)'!$A:$Y,7,FALSE)-(VLOOKUP(BG$10,'NS tarieventabel (2026)'!$A:$Y,7,FALSE)))*1) -> 18.42 | BJ9: =$Q$9+BJ10 -> 56 | BK9: =IF(BK$4="2e klas", BK$10+(VLOOKUP(BJ9,'NS tarieventabel (2026)'!$A:$Y,2,FALSE)-(VLOOKUP(BJ$10,'NS tarieventabel (2026)'!$A:$Y,2,FALSE)))*1, BK$10*(+VLOOKUP(BJ9,'NS tarieventabel (2026)'!$A:$Y,7,FALSE)-(VLOOKUP(BJ$10,'NS tarieventabel (2026)'!$A:$Y,7,FALSE)))*1) -> 13.95 | BL9: =IF(BL$4="2e klas", BL$10+(VLOOKUP(BJ9,'NS tarieventabel (2026)'!$A:$Y,2,FALSE)-(VLOOKUP(BJ$10,'NS tarieventabel (2026)'!$A:$Y,2,FALSE)))*1, BL$10+(+VLOOKUP(BJ9,'NS tarieventabel (2026)'!$A:$Y,7,FALSE)-(VLOOKUP(BJ$10,'NS tarieventabel (2026)'!$A:$Y,7,FALSE)))*1) -> 22.83 | BM9: =$Q$9+BM10 -> 59 | BN9: =IF(BN$4="2e klas", BN$10+(VLOOKUP(BM9,'NS tarieventabel (2026)'!$A:$Y,2,FALSE)-(VLOOKUP(BM$10,'NS tarieventabel (2026)'!$A:$Y,2,FALSE)))*1, BN$10*(+VLOOKUP(BM9,'NS tarieventabel (2026)'!$A:$Y,7,FALSE)-(VLOOKUP(BM$10,'NS tarieventabel (2026)'!$A:$Y,7,FALSE)))*1) -> 14.53 | BO9: =IF(BO$4="2e klas", BO$10+(VLOOKUP(BM9,'NS tarieventabel (2026)'!$A:$Y,2,FALSE)-(VLOOKUP(BM$10,'NS tarieventabel (2026)'!$A:$Y,2,FALSE)))*1, BO$10+(+VLOOKUP(BM9,'NS tarieventabel (2026)'!$A:$Y,7,FALSE)-(VLOOKUP(BM$10,'NS tarieventabel (2026)'!$A:$Y,7,FALSE)))*1) -> 23.82 | BP9: =$Q$9+BP10 -> 40 | BQ9: =IF(BQ$4="2e klas", BQ$10+(VLOOKUP(BP9,'NS tarieventabel (2026)'!$A:$Y,2,FALSE)-(VLOOKUP(BP$10,'NS tarieventabel (2026)'!$A:$Y,2,FALSE)))*1, BQ$10*(+VLOOKUP(BP9,'NS tarieventabel (2026)'!$A:$Y,7,FALSE)-(VLOOKUP(BP$10,'NS tarieventabel (2026)'!$A:$Y,7,FALSE)))*1) -> 10.3 | BR9: =IF(BR$4="2e klas", BR$10+(VLOOKUP(BP9,'NS tarieventabel (2026)'!$A:$Y,2,FALSE)-(VLOOKUP(BP$10,'NS tarieventabel (2026)'!$A:$Y,2,FALSE)))*1, BR$10+(+VLOOKUP(BP9,'NS tarieventabel (2026)'!$A:$Y,7,FALSE)-(VLOOKUP(BP$10,'NS tarieventabel (2026)'!$A:$Y,7,FALSE)))*1) -> 16.65 | BS9: =$Q$9+BS10 -> 41 | BT9: =IF(BT$4="2e klas", BT$10+(VLOOKUP(BS9,'NS tarieventabel (2026)'!$A:$Y,2,FALSE)-(VLOOKUP(BS$10,'NS tarieventabel (2026)'!$A:$Y,2,FALSE)))*1, BT$10*(+VLOOKUP(BS9,'NS tarieventabel (2026)'!$A:$Y,7,FALSE)-(VLOOKUP(BS$10,'NS tarieventabel (2026)'!$A:$Y,7,FALSE)))*1) -> 10.53 | BU9: =IF(BU$4="2e klas", BU$10+(VLOOKUP(BS9,'NS tarieventabel (2026)'!$A:$Y,2,FALSE)-(VLOOKUP(BS$10,'NS tarieventabel (2026)'!$A:$Y,2,FALSE)))*1, BU$10+(+VLOOKUP(BS9,'NS tarieventabel (2026)'!$A:$Y,7,FALSE)-(VLOOKUP(BS$10,'NS tarieventabel (2026)'!$A:$Y,7,FALSE)))*1) -> 17.04 | BV9: =$Q$9+BV10 -> 43 | BW9: =IF(BW$4="2e klas", BW$10+(VLOOKUP(BV9,'NS tarieventabel (2026)'!$A:$Y,2,FALSE)-(VLOOKUP(BV$10,'NS tarieventabel (2026)'!$A:$Y,2,FALSE)))*1, BW$10*(+VLOOKUP(BV9,'NS tarieventabel (2026)'!$A:$Y,7,FALSE)-(VLOOKUP(BV$10,'NS tarieventabel (2026)'!$A:$Y,7,FALSE)))*1) -> 10.99 | BX9: =IF(BX$4="2e klas", BX$10+(VLOOKUP(BV9,'NS tarieventabel (2026)'!$A:$Y,2,FALSE)-(VLOOKUP(BV$10,'NS tarieventabel (2026)'!$A:$Y,2,FALSE)))*1, BX$10+(+VLOOKUP(BV9,'NS tarieventabel (2026)'!$A:$Y,7,FALSE)-(VLOOKUP(BV$10,'NS tarieventabel (2026)'!$A:$Y,7,FALSE)))*1) -> 17.81
A10: Maastricht Randwyck | B10: 10 | C10: =IF(C$4="2e klas", C$8+VLOOKUP(B10,'NS tarieventabel (2026)'!$A:$Y,2,FALSE), C$8+VLOOKUP(B10,'NS tarieventabel (2026)'!$A:$Y,7,FALSE)) -> 8.4 | D10: =IF(D$4="2e klas", D$8+VLOOKUP($B10,'NS tarieventabel (2026)'!$A:$Y,2,FALSE), D$8+VLOOKUP($B10,'NS tarieventabel (2026)'!$A:$Y,7,FALSE)) -> 12.75 | E10: 10 | F10: =IF(F$4="2e klas", F$8+VLOOKUP(E10,'NS tarieventabel (2026)'!$A:$Y,2,FALSE), F$8+VLOOKUP(E10,'NS tarieventabel (2026)'!$A:$Y,7,FALSE)) -> 8.4 | G10: =IF(G$4="2e klas", G$8+VLOOKUP($B10,'NS tarieventabel (2026)'!$A:$Y,2,FALSE), G$8+VLOOKUP($B10,'NS tarieventabel (2026)'!$A:$Y,7,FALSE)) -> 12.75 | H10: 10 | I10: =IF(I$4="2e klas", I$8+VLOOKUP(H10,'NS tarieventabel (2026)'!$A:$Y,2,FALSE), I$8+VLOOKUP(H10,'NS tarieventabel (2026)'!$A:$Y,7,FALSE)) -> 6 | J10: =IF(J$4="2e klas", J$8+VLOOKUP($B10,'NS tarieventabel (2026)'!$A:$Y,2,FALSE), J$8+VLOOKUP($B10,'NS tarieventabel (2026)'!$A:$Y,7,FALSE)) -> 9.55 | K10: 10 | L10: =IF(L$4="2e klas", VLOOKUP(K10,'NS tarieventabel (2026)'!$A:$Y,2,FALSE), VLOOKUP(K10,'NS tarieventabel (2026)'!$A:$Y,7,FALSE)) -> 3.5 | M10: =IF(M$4="2e klas", VLOOKUP($B10,'NS tarieventabel (2026)'!$A:$Y,2,FALSE), VLOOKUP($B10,'NS tarieventabel (2026)'!$A:$Y,7,FALSE)) -> 5.95 | N10: 8 | O10: =IF(O$4="2e klas", VLOOKUP(N10,'NS tarieventabel (2026)'!$A:$Y,2,FALSE), VLOOKUP(N10,'NS tarieventabel (2026)'!$A:$Y,7,FALSE)) -> 3 | P10: =IF(P$4="2e klas", VLOOKUP($B10,'NS tarieventabel (2026)'!$A:$Y,2,FALSE), VLOOKUP($B10,'NS tarieventabel (2026)'!$A:$Y,7,FALSE)) -> 5.95 | T10: 1 | U10: =IF(U$4="2e klas", (VLOOKUP(T10,'Arriva tarieventabel (2026)'!$A:$C,3,FALSE))*1, (VLOOKUP(T10,'Arriva tarieventabel (2026)'!$A:$C,2,FALSE)))*1 -> 1.39 | V10: =IF(V$4="2e klas", (VLOOKUP(T10,'Arriva tarieventabel (2026)'!$A:$C,3,FALSE))*1, (VLOOKUP(T10,'Arriva tarieventabel (2026)'!$A:$C,2,FALSE)))*1 -> 1.55 | W10: 4 | X10: =IF(X$4="2e klas", (VLOOKUP(W10,'Arriva tarieventabel (2026)'!$A:$C,3,FALSE))*1, (VLOOKUP(W10,'Arriva tarieventabel (2026)'!$A:$C,2,FALSE)))*1 -> 2.08 | Y10: =IF(Y$4="2e klas", (VLOOKUP(W10,'Arriva tarieventabel (2026)'!$A:$C,3,FALSE))*1, (VLOOKUP(W10,'Arriva tarieventabel (2026)'!$A:$C,2,FALSE)))*1 -> 2.71 | Z10: =W10+$Z$12 -> 7 | AA10: =IF(AA$4="2e klas", (VLOOKUP(Z10,'Arriva tarieventabel (2026)'!$A:$C,3,FALSE))*1, (VLOOKUP(Z10,'Arriva tarieventabel (2026)'!$A:$C,2,FALSE)))*1 -> 2.76 | AB10: =IF(AB$4="2e klas", (VLOOKUP(Z10,'Arriva tarieventabel (2026)'!$A:$C,3,FALSE))*1, (VLOOKUP(Z10,'Arriva tarieventabel (2026)'!$A:$C,2,FALSE)))*1 -> 3.88 | AC10: =Z10+$AC$13 -> 11 | AD10: =IF(AD$4="2e klas", (VLOOKUP(AC10,'Arriva tarieventabel (2026)'!$A:$C,3,FALSE))*1, (VLOOKUP(AC10,'Arriva tarieventabel (2026)'!$A:$C,2,FALSE)))*1 -> 3.68 | AE10: =IF(AE$4="2e klas", (VLOOKUP(AC10,'Arriva tarieventabel (2026)'!$A:$C,3,FALSE))*1, (VLOOKUP(AC10,'Arriva tarieventabel (2026)'!$A:$C,2,FALSE)))*1 -> 5.43 | AF10: =AC10+$AF$14 -> 14 | AG10: =IF(AG$4="2e klas", (VLOOKUP(AF10,'Arriva tarieventabel (2026)'!$A:$C,3,FALSE))*1, (VLOOKUP(AF10,'Arriva tarieventabel (2026)'!$A:$C,2,FALSE)))*1 -> 4.37 | AH10: =IF(AH$4="2e klas", (VLOOKUP(AF10,'Arriva tarieventabel (2026)'!$A:$C,3,FALSE))*1, (VLOOKUP(AF10,'Arriva tarieventabel (2026)'!$A:$C,2,FALSE)))*1 -> 6.6 | AI10: =AF10+$AI$15 -> 17 | AJ10: =IF(AJ$4="2e klas", (VLOOKUP(AI10,'Arriva tarieventabel (2026)'!$A:$C,3,FALSE))*1, (VLOOKUP(AI10,'Arriva tarieventabel (2026)'!$A:$C,2,FALSE)))*1 -> 5.06 | AK10: =IF(AK$4="2e klas", (VLOOKUP(AI10,'Arriva tarieventabel (2026)'!$A:$C,3,FALSE))*1, (VLOOKUP(AI10,'Arriva tarieventabel (2026)'!$A:$C,2,FALSE)))*1 -> 7.76 | AL10: =AI10+$AL$16 -> 19 | AM10: =IF(AM$4="2e klas", (VLOOKUP(AL10,'Arriva tarieventabel (2026)'!$A:$C,3,FALSE))*1, (VLOOKUP(AL10,'Arriva tarieventabel (2026)'!$A:$C,2,FALSE)))*1 -> 5.52 | AN10: =IF(AN$4="2e klas", (VLOOKUP(AL10,'Arriva tarieventabel (2026)'!$A:$C,3,FALSE))*1, (VLOOKUP(AL10,'Arriva tarieventabel (2026)'!$A:$C,2,FALSE)))*1 -> 8.54 | AO10: =AL10+$AO$17 -> 23 | AP10: =IF(AP$4="2e klas", (VLOOKUP(AO10,'Arriva tarieventabel (2026)'!$A:$C,3,FALSE))*1, (VLOOKUP(AO10,'Arriva tarieventabel (2026)'!$A:$C,2,FALSE)))*1 -> 6.43 | AQ10: =IF(AQ$4="2e klas", (VLOOKUP(AO10,'Arriva tarieventabel (2026)'!$A:$C,3,FALSE))*1, (VLOOKUP(AO10,'Arriva tarieventabel (2026)'!$A:$C,2,FALSE)))*1 -> 10.09 | AR10: =AO10+$AR$18 -> 25 | AS10: =IF(AS$4="2e klas", (VLOOKUP(AR10,'Arriva tarieventabel (2026)'!$A:$C,3,FALSE))*1, (VLOOKUP(AR10,'Arriva tarieventabel (2026)'!$A:$C,2,FALSE)))*1 -> 6.89 | AT10: =IF(AT$4="2e klas", (VLOOKUP(AR10,'Arriva tarieventabel (2026)'!$A:$C,3,FALSE))*1, (VLOOKUP(AR10,'Arriva tarieventabel (2026)'!$A:$C,2,FALSE)))*1 -> 10.87 | AU10: =AR10+$AU$19 -> 27 | AV10: =IF(AV$4="2e klas", (VLOOKUP(AU10,'Arriva tarieventabel (2026)'!$A:$C,3,FALSE))*1, (VLOOKUP(AU10,'Arriva tarieventabel (2026)'!$A:$C,2,FALSE)))*1 -> 7.35 | AW10: =IF(AW$4="2e klas", (VLOOKUP(AU10,'Arriva tarieventabel (2026)'!$A:$C,3,FALSE))*1, (VLOOKUP(AU10,'Arriva tarieventabel (2026)'!$A:$C,2,FALSE)))*1 -> 11.65 | AX10: =AU10+$AX$20 -> 30 | AY10: =IF(AY$4="2e klas", (VLOOKUP(AX10,'Arriva tarieventabel (2026)'!$A:$C,3,FALSE))*1, (VLOOKUP(AX10,'Arriva tarieventabel (2026)'!$A:$C,2,FALSE)))*1 -> 8.04 | AZ10: =IF(AZ$4="2e klas", (VLOOKUP(AX10,'Arriva tarieventabel (2026)'!$A:$C,3,FALSE))*1, (VLOOKUP(AX10,'Arriva tarieventabel (2026)'!$A:$C,2,FALSE)))*1 -> 12.81 | BA10: =AX10+$BA$21 -> 33 | BB10: =IF(BB$4="2e klas", (VLOOKUP(BA10,'Arriva tarieventabel (2026)'!$A:$C,3,FALSE))*1, (VLOOKUP(BA10,'Arriva tarieventabel (2026)'!$A:$C,2,FALSE)))*1 -> 8.73 | BC10: =IF(BC$4="2e klas", (VLOOKUP(BA10,'Arriva tarieventabel (2026)'!$A:$C,3,FALSE))*1, (VLOOKUP(BA10,'Arriva tarieventabel (2026)'!$A:$C,2,FALSE)))*1 -> 13.98 | BD10: =BA10+$BD$22 -> 36 | BE10: =IF(BE$4="2e klas", (VLOOKUP(BD10,'Arriva tarieventabel (2026)'!$A:$C,3,FALSE))*1, (VLOOKUP(BD10,'Arriva tarieventabel (2026)'!$A:$C,2,FALSE)))*1 -> 9.42 | BF10: =IF(BF$4="2e klas", (VLOOKUP(BD10,'Arriva tarieventabel (2026)'!$A:$C,3,FALSE))*1, (VLOOKUP(BD10,'Arriva tarieventabel (2026)'!$A:$C,2,FALSE)))*1 -> 15.14 | BG10: =BD10+$BG$23 -> 37 | BH10: =IF(BH$4="2e klas", (VLOOKUP(BG10,'Arriva tarieventabel (2026)'!$A:$C,3,FALSE))*1, (VLOOKUP(BG10,'Arriva tarieventabel (2026)'!$A:$C,2,FALSE)))*1 -> 9.65 | BI10: =IF(BI$4="2e klas", (VLOOKUP(BG10,'Arriva tarieventabel (2026)'!$A:$C,3,FALSE))*1, (VLOOKUP(BG10,'Arriva tarieventabel (2026)'!$A:$C,2,FALSE)))*1 -> 15.53 | BJ10: =BG10+$BJ$24 -> 48 | BK10: =IF(BK$4="2e klas", (VLOOKUP(BJ10,'Arriva tarieventabel (2026)'!$A:$C,3,FALSE))*1, (VLOOKUP(BJ10,'Arriva tarieventabel (2026)'!$A:$C,2,FALSE)))*1 -> 12.15 | BL10: =IF(BL$4="2e klas", (VLOOKUP(BJ10,'Arriva tarieventabel (2026)'!$A:$C,3,FALSE))*1, (VLOOKUP(BJ10,'Arriva tarieventabel (2026)'!$A:$C,2,FALSE)))*1 -> 19.77 | BM10: =BJ10+$BM$25 -> 51 | BN10: =IF(BN$4="2e klas", (VLOOKUP(BM10,'Arriva tarieventabel (2026)'!$A:$C,3,FALSE))*1, (VLOOKUP(BM10,'Arriva tarieventabel (2026)'!$A:$C,2,FALSE)))*1 -> 12.83 | BO10: =IF(BO$4="2e klas", (VLOOKUP(BM10,'Arriva tarieventabel (2026)'!$A:$C,3,FALSE))*1, (VLOOKUP(BM10,'Arriva tarieventabel (2026)'!$A:$C,2,FALSE)))*1 -> 20.93 | BP10: 32 | BQ10: =IF(BQ$4="2e klas", (VLOOKUP(BP10,'Arriva tarieventabel (2026)'!$A:$C,3,FALSE))*1, (VLOOKUP(BP10,'Arriva tarieventabel (2026)'!$A:$C,2,FALSE)))*1 -> 8.5 | BR10: =IF(BR$4="2e klas", (VLOOKUP(BP10,'Arriva tarieventabel (2026)'!$A:$C,3,FALSE))*1, (VLOOKUP(BP10,'Arriva tarieventabel (2026)'!$A:$C,2,FALSE)))*1 -> 13.59 | BS10: =$BP10+$BS$27 -> 33 | BT10: =IF(BT$4="2e klas", (VLOOKUP(BS10,'Arriva tarieventabel (2026)'!$A:$C,3,FALSE))*1, (VLOOKUP(BS10,'Arriva tarieventabel (2026)'!$A:$C,2,FALSE)))*1 -> 8.73 | BU10: =IF(BU$4="2e klas", (VLOOKUP(BS10,'Arriva tarieventabel (2026)'!$A:$C,3,FALSE))*1, (VLOOKUP(BS10,'Arriva tarieventabel (2026)'!$A:$C,2,FALSE)))*1 -> 13.98 | BV10: =$BP10+$BV$27 -> 35 | BW10: =IF(BW$4="2e klas", (VLOOKUP(BV10,'Arriva tarieventabel (2026)'!$A:$C,3,FALSE))*1, (VLOOKUP(BV10,'Arriva tarieventabel (2026)'!$A:$C,2,FALSE)))*1 -> 9.19 | BX10: =IF(BX$4="2e klas", (VLOOKUP(BV10,'Arriva tarieventabel (2026)'!$A:$C,3,FALSE))*1, (VLOOKUP(BV10,'Arriva tarieventabel (2026)'!$A:$C,2,FALSE)))*1 -> 14.75
A11: Maastricht | B11: 11 | C11: =IF(C$4="2e klas", C$10+(VLOOKUP(B11,'Arriva tarieventabel (2026)'!$A:$C,3,FALSE)-VLOOKUP(B$10,'Arriva tarieventabel (2026)'!$A:$C,3,FALSE)), C$10+(VLOOKUP(B11,'Arriva tarieventabel (2026)'!$A:$C,2,FALSE)-VLOOKUP(B$10,'Arriva tarieventabel (2026)'!$A:$C,2,FALSE))) -> 8.63 | D11: =IF(D$4="2e klas", D$10+(VLOOKUP(B11,'Arriva tarieventabel (2026)'!$A:$C,3,FALSE)-VLOOKUP(B$10,'Arriva tarieventabel (2026)'!$A:$C,3,FALSE)), D$10+(VLOOKUP(B11,'Arriva tarieventabel (2026)'!$A:$C,2,FALSE)-VLOOKUP(B$10,'Arriva tarieventabel (2026)'!$A:$C,2,FALSE))) -> 13.14 | E11: =$B11 -> 11 | F11: =IF(F$4="2e klas", F$10+(VLOOKUP(E11,'Arriva tarieventabel (2026)'!$A:$C,3,FALSE)-VLOOKUP(E$10,'Arriva tarieventabel (2026)'!$A:$C,3,FALSE)), F$10+(VLOOKUP(E11,'Arriva tarieventabel (2026)'!$A:$C,2,FALSE)-VLOOKUP(E$10,'Arriva tarieventabel (2026)'!$A:$C,2,FALSE))) -> 8.63 | G11: =IF(G$4="2e klas", G$10+(VLOOKUP(E11,'Arriva tarieventabel (2026)'!$A:$C,3,FALSE)-VLOOKUP(E$10,'Arriva tarieventabel (2026)'!$A:$C,3,FALSE)), G$10+(VLOOKUP(E11,'Arriva tarieventabel (2026)'!$A:$C,2,FALSE)-VLOOKUP(E$10,'Arriva tarieventabel (2026)'!$A:$C,2,FALSE))) -> 13.14 | H11: =$B11 -> 11 | I11: =IF(I$4="2e klas", I$10+(VLOOKUP(H11,'Arriva tarieventabel (2026)'!$A:$C,3,FALSE)-VLOOKUP(H$10,'Arriva tarieventabel (2026)'!$A:$C,3,FALSE)), I$10+(VLOOKUP(H11,'Arriva tarieventabel (2026)'!$A:$C,2,FALSE)-VLOOKUP(H$10,'Arriva tarieventabel (2026)'!$A:$C,2,FALSE))) -> 6.23 | J11: =IF(J$4="2e klas", J$10+(VLOOKUP(H11,'Arriva tarieventabel (2026)'!$A:$C,3,FALSE)-VLOOKUP(H$10,'Arriva tarieventabel (2026)'!$A:$C,3,FALSE)), J$10+(VLOOKUP(H11,'Arriva tarieventabel (2026)'!$A:$C,2,FALSE)-VLOOKUP(H$10,'Arriva tarieventabel (2026)'!$A:$C,2,FALSE))) -> 9.94 | K11: =$B11 -> 11 | L11: =IF(L$4="2e klas", L$10+(VLOOKUP(K11,'Arriva tarieventabel (2026)'!$A:$C,3,FALSE)-VLOOKUP(K$10,'Arriva tarieventabel (2026)'!$A:$C,3,FALSE)), L$10+(VLOOKUP(K11,'Arriva tarieventabel (2026)'!$A:$C,2,FALSE)-VLOOKUP(K$10,'Arriva tarieventabel (2026)'!$A:$C,2,FALSE))) -> 3.73 | M11: =IF(M$4="2e klas", M$10+(VLOOKUP(K11,'Arriva tarieventabel (2026)'!$A:$C,3,FALSE)-VLOOKUP(K$10,'Arriva tarieventabel (2026)'!$A:$C,3,FALSE)), M$10+(VLOOKUP(K11,'Arriva tarieventabel (2026)'!$A:$C,2,FALSE)-VLOOKUP(K$10,'Arriva tarieventabel (2026)'!$A:$C,2,FALSE))) -> 6.34 | N11: =$B11-$K$9 -> 9 | O11: =IF(O$4="2e klas", O$10+(VLOOKUP(N11,'Arriva tarieventabel (2026)'!$A:$C,3,FALSE)-VLOOKUP(N$10,'Arriva tarieventabel (2026)'!$A:$C,3,FALSE)), O$10+(VLOOKUP(N11,'Arriva tarieventabel (2026)'!$A:$C,2,FALSE)-VLOOKUP(N$10,'Arriva tarieventabel (2026)'!$A:$C,2,FALSE))) -> 3.23 | P11: =IF(P$4="2e klas", P$10+(VLOOKUP(N11,'Arriva tarieventabel (2026)'!$A:$C,3,FALSE)-VLOOKUP(N$10,'Arriva tarieventabel (2026)'!$A:$C,3,FALSE)), P$10+(VLOOKUP(N11,'Arriva tarieventabel (2026)'!$A:$C,2,FALSE)-VLOOKUP(N$10,'Arriva tarieventabel (2026)'!$A:$C,2,FALSE))) -> 6.34 | Q11: 1 | R11: =VLOOKUP(Q11,'Arriva tarieventabel (2026)'!$A:$C,3,FALSE)*1 -> 1.39 | S11: =VLOOKUP(Q11,'Arriva tarieventabel (2026)'!$A:$C,2,FALSE)*1 -> 1.55 | W11: 3 | X11: =IF(X$4="2e klas", (VLOOKUP(W11,'Arriva tarieventabel (2026)'!$A:$C,3,FALSE))*1, (VLOOKUP(W11,'Arriva tarieventabel (2026)'!$A:$C,2,FALSE)))*1 -> 1.85 | Y11: =IF(Y$4="2e klas", (VLOOKUP(W11,'Arriva tarieventabel (2026)'!$A:$C,3,FALSE))*1, (VLOOKUP(W11,'Arriva tarieventabel (2026)'!$A:$C,2,FALSE)))*1 -> 2.32 | Z11: =W11+$Z$12 -> 6 | AA11: =IF(AA$4="2e klas", (VLOOKUP(Z11,'Arriva tarieventabel (2026)'!$A:$C,3,FALSE))*1, (VLOOKUP(Z11,'Arriva tarieventabel (2026)'!$A:$C,2,FALSE)))*1 -> 2.54 | AB11: =IF(AB$4="2e klas", (VLOOKUP(Z11,'Arriva tarieventabel (2026)'!$A:$C,3,FALSE))*1, (VLOOKUP(Z11,'Arriva tarieventabel (2026)'!$A:$C,2,FALSE)))*1 -> 3.49 | AC11: =Z11+$AC$13 -> 10 | AD11: =IF(AD$4="2e klas", (VLOOKUP(AC11,'Arriva tarieventabel (2026)'!$A:$C,3,FALSE))*1, (VLOOKUP(AC11,'Arriva tarieventabel (2026)'!$A:$C,2,FALSE)))*1 -> 3.45 | AE11: =IF(AE$4="2e klas", (VLOOKUP(AC11,'Arriva tarieventabel (2026)'!$A:$C,3,FALSE))*1, (VLOOKUP(AC11,'Arriva tarieventabel (2026)'!$A:$C,2,FALSE)))*1 -> 5.04 | AF11: =AC11+$AF$14 -> 13 | AG11: =IF(AG$4="2e klas", (VLOOKUP(AF11,'Arriva tarieventabel (2026)'!$A:$C,3,FALSE))*1, (VLOOKUP(AF11,'Arriva tarieventabel (2026)'!$A:$C,2,FALSE)))*1 -> 4.14 | AH11: =IF(AH$4="2e klas", (VLOOKUP(AF11,'Arriva tarieventabel (2026)'!$A:$C,3,FALSE))*1, (VLOOKUP(AF11,'Arriva tarieventabel (2026)'!$A:$C,2,FALSE)))*1 -> 6.21 | AI11: =AF11+$AI$15 -> 16 | AJ11: =IF(AJ$4="2e klas", (VLOOKUP(AI11,'Arriva tarieventabel (2026)'!$A:$C,3,FALSE))*1, (VLOOKUP(AI11,'Arriva tarieventabel (2026)'!$A:$C,2,FALSE)))*1 -> 4.83 | AK11: =IF(AK$4="2e klas", (VLOOKUP(AI11,'Arriva tarieventabel (2026)'!$A:$C,3,FALSE))*1, (VLOOKUP(AI11,'Arriva tarieventabel (2026)'!$A:$C,2,FALSE)))*1 -> 7.37 | AL11: =AI11+$AL$16 -> 18 | AM11: =IF(AM$4="2e klas", (VLOOKUP(AL11,'Arriva tarieventabel (2026)'!$A:$C,3,FALSE))*1, (VLOOKUP(AL11,'Arriva tarieventabel (2026)'!$A:$C,2,FALSE)))*1 -> 5.29 | AN11: =IF(AN$4="2e klas", (VLOOKUP(AL11,'Arriva tarieventabel (2026)'!$A:$C,3,FALSE))*1, (VLOOKUP(AL11,'Arriva tarieventabel (2026)'!$A:$C,2,FALSE)))*1 -> 8.15 | AO11: =AL11+$AO$17 -> 22 | AP11: =IF(AP$4="2e klas", (VLOOKUP(AO11,'Arriva tarieventabel (2026)'!$A:$C,3,FALSE))*1, (VLOOKUP(AO11,'Arriva tarieventabel (2026)'!$A:$C,2,FALSE)))*1 -> 6.2 | AQ11: =IF(AQ$4="2e klas", (VLOOKUP(AO11,'Arriva tarieventabel (2026)'!$A:$C,3,FALSE))*1, (VLOOKUP(AO11,'Arriva tarieventabel (2026)'!$A:$C,2,FALSE)))*1 -> 9.7 | AR11: =AO11+$AR$18 -> 24 | AS11: =IF(AS$4="2e klas", (VLOOKUP(AR11,'Arriva tarieventabel (2026)'!$A:$C,3,FALSE))*1, (VLOOKUP(AR11,'Arriva tarieventabel (2026)'!$A:$C,2,FALSE)))*1 -> 6.66 | AT11: =IF(AT$4="2e klas", (VLOOKUP(AR11,'Arriva tarieventabel (2026)'!$A:$C,3,FALSE))*1, (VLOOKUP(AR11,'Arriva tarieventabel (2026)'!$A:$C,2,FALSE)))*1 -> 10.48 | AU11: =AR11+$AU$19 -> 26 | AV11: =IF(AV$4="2e klas", (VLOOKUP(AU11,'Arriva tarieventabel (2026)'!$A:$C,3,FALSE))*1, (VLOOKUP(AU11,'Arriva tarieventabel (2026)'!$A:$C,2,FALSE)))*1 -> 7.12 | AW11: =IF(AW$4="2e klas", (VLOOKUP(AU11,'Arriva tarieventabel (2026)'!$A:$C,3,FALSE))*1, (VLOOKUP(AU11,'Arriva tarieventabel (2026)'!$A:$C,2,FALSE)))*1 -> 11.26 | AX11: =AU11+$AX$20 -> 29 | AY11: =IF(AY$4="2e klas", (VLOOKUP(AX11,'Arriva tarieventabel (2026)'!$A:$C,3,FALSE))*1, (VLOOKUP(AX11,'Arriva tarieventabel (2026)'!$A:$C,2,FALSE)))*1 -> 7.81 | AZ11: =IF(AZ$4="2e klas", (VLOOKUP(AX11,'Arriva tarieventabel (2026)'!$A:$C,3,FALSE))*1, (VLOOKUP(AX11,'Arriva tarieventabel (2026)'!$A:$C,2,FALSE)))*1 -> 12.42 | BA11: =AX11+$BA$21 -> 32 | BB11: =IF(BB$4="2e klas", (VLOOKUP(BA11,'Arriva tarieventabel (2026)'!$A:$C,3,FALSE))*1, (VLOOKUP(BA11,'Arriva tarieventabel (2026)'!$A:$C,2,FALSE)))*1 -> 8.5 | BC11: =IF(BC$4="2e klas", (VLOOKUP(BA11,'Arriva tarieventabel (2026)'!$A:$C,3,FALSE))*1, (VLOOKUP(BA11,'Arriva tarieventabel (2026)'!$A:$C,2,FALSE)))*1 -> 13.59 | BD11: =BA11+$BD$22 -> 35 | BE11: =IF(BE$4="2e klas", (VLOOKUP(BD11,'Arriva tarieventabel (2026)'!$A:$C,3,FALSE))*1, (VLOOKUP(BD11,'Arriva tarieventabel (2026)'!$A:$C,2,FALSE)))*1 -> 9.19 | BF11: =IF(BF$4="2e klas", (VLOOKUP(BD11,'Arriva tarieventabel (2026)'!$A:$C,3,FALSE))*1, (VLOOKUP(BD11,'Arriva tarieventabel (2026)'!$A:$C,2,FALSE)))*1 -> 14.75 | BG11: =BD11+$BG$23 -> 36 | BH11: =IF(BH$4="2e klas", (VLOOKUP(BG11,'Arriva tarieventabel (2026)'!$A:$C,3,FALSE))*1, (VLOOKUP(BG11,'Arriva tarieventabel (2026)'!$A:$C,2,FALSE)))*1 -> 9.42 | BI11: =IF(BI$4="2e klas", (VLOOKUP(BG11,'Arriva tarieventabel (2026)'!$A:$C,3,FALSE))*1, (VLOOKUP(BG11,'Arriva tarieventabel (2026)'!$A:$C,2,FALSE)))*1 -> 15.14 | BJ11: =BG11+$BJ$24 -> 47 | BK11: =IF(BK$4="2e klas", (VLOOKUP(BJ11,'Arriva tarieventabel (2026)'!$A:$C,3,FALSE))*1, (VLOOKUP(BJ11,'Arriva tarieventabel (2026)'!$A:$C,2,FALSE)))*1 -> 11.92 | BL11: =IF(BL$4="2e klas", (VLOOKUP(BJ11,'Arriva tarieventabel (2026)'!$A:$C,3,FALSE))*1, (VLOOKUP(BJ11,'Arriva tarieventabel (2026)'!$A:$C,2,FALSE)))*1 -> 19.39 | BM11: =BJ11+$BM$25 -> 50 | BN11: =IF(BN$4="2e klas", (VLOOKUP(BM11,'Arriva tarieventabel (2026)'!$A:$C,3,FALSE))*1, (VLOOKUP(BM11,'Arriva tarieventabel (2026)'!$A:$C,2,FALSE)))*1 -> 12.6 | BO11: =IF(BO$4="2e klas", (VLOOKUP(BM11,'Arriva tarieventabel (2026)'!$A:$C,3,FALSE))*1, (VLOOKUP(BM11,'Arriva tarieventabel (2026)'!$A:$C,2,FALSE)))*1 -> 20.54 | BP11: 31 | BQ11: =IF(BQ$4="2e klas", (VLOOKUP(BP11,'Arriva tarieventabel (2026)'!$A:$C,3,FALSE))*1, (VLOOKUP(BP11,'Arriva tarieventabel (2026)'!$A:$C,2,FALSE)))*1 -> 8.27 | BR11: =IF(BR$4="2e klas", (VLOOKUP(BP11,'Arriva tarieventabel (2026)'!$A:$C,3,FALSE))*1, (VLOOKUP(BP11,'Arriva tarieventabel (2026)'!$A:$C,2,FALSE)))*1 -> 13.2 | BS11: =$BP11+$BS$27 -> 32 | BT11: =IF(BT$4="2e klas", (VLOOKUP(BS11,'Arriva tarieventabel (2026)'!$A:$C,3,FALSE))*1, (VLOOKUP(BS11,'Arriva tarieventabel (2026)'!$A:$C,2,FALSE)))*1 -> 8.5 | BU11: =IF(BU$4="2e klas", (VLOOKUP(BS11,'Arriva tarieventabel (2026)'!$A:$C,3,FALSE))*1, (VLOOKUP(BS11,'Arriva tarieventabel (2026)'!$A:$C,2,FALSE)))*1 -> 13.59 | BV11: =$BP11+$BV$27 -> 34 | BW11: =IF(BW$4="2e klas", (VLOOKUP(BV11,'Arriva tarieventabel (2026)'!$A:$C,3,FALSE))*1, (VLOOKUP(BV11,'Arriva tarieventabel (2026)'!$A:$C,2,FALSE)))*1 -> 8.96 | BX11: =IF(BX$4="2e klas", (VLOOKUP(BV11,'Arriva tarieventabel (2026)'!$A:$C,3,FALSE))*1, (VLOOKUP(BV11,'Arriva tarieventabel (2026)'!$A:$C,2,FALSE)))*1 -> 14.37
A12: Maastricht Noord | B12: 14 | C12: =IF(C$4="2e klas", C$10+(VLOOKUP(B12,'Arriva tarieventabel (2026)'!$A:$C,3,FALSE)-VLOOKUP(B$10,'Arriva tarieventabel (2026)'!$A:$C,3,FALSE)), C$10+(VLOOKUP(B12,'Arriva tarieventabel (2026)'!$A:$C,2,FALSE)-VLOOKUP(B$10,'Arriva tarieventabel (2026)'!$A:$C,2,FALSE))) -> 9.32 | D12: =IF(D$4="2e klas", D$10+(VLOOKUP(B12,'Arriva tarieventabel (2026)'!$A:$C,3,FALSE)-VLOOKUP(B$10,'Arriva tarieventabel (2026)'!$A:$C,3,FALSE)), D$10+(VLOOKUP(B12,'Arriva tarieventabel (2026)'!$A:$C,2,FALSE)-VLOOKUP(B$10,'Arriva tarieventabel (2026)'!$A:$C,2,FALSE))) -> 14.31 | E12: =$B12 -> 14 | F12: =IF(F$4="2e klas", F$10+(VLOOKUP(E12,'Arriva tarieventabel (2026)'!$A:$C,3,FALSE)-VLOOKUP(E$10,'Arriva tarieventabel (2026)'!$A:$C,3,FALSE)), F$10+(VLOOKUP(E12,'Arriva tarieventabel (2026)'!$A:$C,2,FALSE)-VLOOKUP(E$10,'Arriva tarieventabel (2026)'!$A:$C,2,FALSE))) -> 9.32 | G12: =IF(G$4="2e klas", G$10+(VLOOKUP(E12,'Arriva tarieventabel (2026)'!$A:$C,3,FALSE)-VLOOKUP(E$10,'Arriva tarieventabel (2026)'!$A:$C,3,FALSE)), G$10+(VLOOKUP(E12,'Arriva tarieventabel (2026)'!$A:$C,2,FALSE)-VLOOKUP(E$10,'Arriva tarieventabel (2026)'!$A:$C,2,FALSE))) -> 14.31 | H12: =$B12 -> 14 | I12: =IF(I$4="2e klas", I$10+(VLOOKUP(H12,'Arriva tarieventabel (2026)'!$A:$C,3,FALSE)-VLOOKUP(H$10,'Arriva tarieventabel (2026)'!$A:$C,3,FALSE)), I$10+(VLOOKUP(H12,'Arriva tarieventabel (2026)'!$A:$C,2,FALSE)-VLOOKUP(H$10,'Arriva tarieventabel (2026)'!$A:$C,2,FALSE))) -> 6.92 | J12: =IF(J$4="2e klas", J$10+(VLOOKUP(H12,'Arriva tarieventabel (2026)'!$A:$C,3,FALSE)-VLOOKUP(H$10,'Arriva tarieventabel (2026)'!$A:$C,3,FALSE)), J$10+(VLOOKUP(H12,'Arriva tarieventabel (2026)'!$A:$C,2,FALSE)-VLOOKUP(H$10,'Arriva tarieventabel (2026)'!$A:$C,2,FALSE))) -> 11.11 | K12: =$B12 -> 14 | L12: =IF(L$4="2e klas", L$10+(VLOOKUP(K12,'Arriva tarieventabel (2026)'!$A:$C,3,FALSE)-VLOOKUP(K$10,'Arriva tarieventabel (2026)'!$A:$C,3,FALSE)), L$10+(VLOOKUP(K12,'Arriva tarieventabel (2026)'!$A:$C,2,FALSE)-VLOOKUP(K$10,'Arriva tarieventabel (2026)'!$A:$C,2,FALSE))) -> 4.42 | M12: =IF(M$4="2e klas", M$10+(VLOOKUP(K12,'Arriva tarieventabel (2026)'!$A:$C,3,FALSE)-VLOOKUP(K$10,'Arriva tarieventabel (2026)'!$A:$C,3,FALSE)), M$10+(VLOOKUP(K12,'Arriva tarieventabel (2026)'!$A:$C,2,FALSE)-VLOOKUP(K$10,'Arriva tarieventabel (2026)'!$A:$C,2,FALSE))) -> 7.51 | N12: =$B12-$K$9 -> 12 | O12: =IF(O$4="2e klas", O$10+(VLOOKUP(N12,'Arriva tarieventabel (2026)'!$A:$C,3,FALSE)-VLOOKUP(N$10,'Arriva tarieventabel (2026)'!$A:$C,3,FALSE)), O$10+(VLOOKUP(N12,'Arriva tarieventabel (2026)'!$A:$C,2,FALSE)-VLOOKUP(N$10,'Arriva tarieventabel (2026)'!$A:$C,2,FALSE))) -> 3.92 | P12: =IF(P$4="2e klas", P$10+(VLOOKUP(N12,'Arriva tarieventabel (2026)'!$A:$C,3,FALSE)-VLOOKUP(N$10,'Arriva tarieventabel (2026)'!$A:$C,3,FALSE)), P$10+(VLOOKUP(N12,'Arriva tarieventabel (2026)'!$A:$C,2,FALSE)-VLOOKUP(N$10,'Arriva tarieventabel (2026)'!$A:$C,2,FALSE))) -> 7.5 | Q12: 4 | R12: =VLOOKUP(Q12,'Arriva tarieventabel (2026)'!$A:$C,3,FALSE)*1 -> 2.08 | S12: =VLOOKUP(Q12,'Arriva tarieventabel (2026)'!$A:$C,2,FALSE)*1 -> 2.71 | T12: =Q12-Q11 -> 3 | U12: =VLOOKUP(T12,'Arriva tarieventabel (2026)'!$A:$C,3,FALSE)*1 -> 1.85 | V12: =VLOOKUP(T12,'Arriva tarieventabel (2026)'!$A:$C,2,FALSE)*1 -> 2.32 | Z12: 3 | AA12: =IF(AA$4="2e klas", (VLOOKUP(Z12,'Arriva tarieventabel (2026)'!$A:$C,3,FALSE))*1, (VLOOKUP(Z12,'Arriva tarieventabel (2026)'!$A:$C,2,FALSE)))*1 -> 1.85 | AB12: =IF(AB$4="2e klas", (VLOOKUP(Z12,'Arriva tarieventabel (2026)'!$A:$C,3,FALSE))*1, (VLOOKUP(Z12,'Arriva tarieventabel (2026)'!$A:$C,2,FALSE)))*1 -> 2.32 | AC12: =Z12+$AC$13 -> 7 | AD12: =IF(AD$4="2e klas", (VLOOKUP(AC12,'Arriva tarieventabel (2026)'!$A:$C,3,FALSE))*1, (VLOOKUP(AC12,'Arriva tarieventabel (2026)'!$A:$C,2,FALSE)))*1 -> 2.76 | AE12: =IF(AE$4="2e klas", (VLOOKUP(AC12,'Arriva tarieventabel (2026)'!$A:$C,3,FALSE))*1, (VLOOKUP(AC12,'Arriva tarieventabel (2026)'!$A:$C,2,FALSE)))*1 -> 3.88 | AF12: =AC12+$AF$14 -> 10 | AG12: =IF(AG$4="2e klas", (VLOOKUP(AF12,'Arriva tarieventabel (2026)'!$A:$C,3,FALSE))*1, (VLOOKUP(AF12,'Arriva tarieventabel (2026)'!$A:$C,2,FALSE)))*1 -> 3.45 | AH12: =IF(AH$4="2e klas", (VLOOKUP(AF12,'Arriva tarieventabel (2026)'!$A:$C,3,FALSE))*1, (VLOOKUP(AF12,'Arriva tarieventabel (2026)'!$A:$C,2,FALSE)))*1 -> 5.04 | AI12: =AF12+$AI$15 -> 13 | AJ12: =IF(AJ$4="2e klas", (VLOOKUP(AI12,'Arriva tarieventabel (2026)'!$A:$C,3,FALSE))*1, (VLOOKUP(AI12,'Arriva tarieventabel (2026)'!$A:$C,2,FALSE)))*1 -> 4.14 | AK12: =IF(AK$4="2e klas", (VLOOKUP(AI12,'Arriva tarieventabel (2026)'!$A:$C,3,FALSE))*1, (VLOOKUP(AI12,'Arriva tarieventabel (2026)'!$A:$C,2,FALSE)))*1 -> 6.21 | AL12: =AI12+$AL$16 -> 15 | AM12: =IF(AM$4="2e klas", (VLOOKUP(AL12,'Arriva tarieventabel (2026)'!$A:$C,3,FALSE))*1, (VLOOKUP(AL12,'Arriva tarieventabel (2026)'!$A:$C,2,FALSE)))*1 -> 4.6 | AN12: =IF(AN$4="2e klas", (VLOOKUP(AL12,'Arriva tarieventabel (2026)'!$A:$C,3,FALSE))*1, (VLOOKUP(AL12,'Arriva tarieventabel (2026)'!$A:$C,2,FALSE)))*1 -> 6.99 | AO12: =AL12+$AO$17 -> 19 | AP12: =IF(AP$4="2e klas", (VLOOKUP(AO12,'Arriva tarieventabel (2026)'!$A:$C,3,FALSE))*1, (VLOOKUP(AO12,'Arriva tarieventabel (2026)'!$A:$C,2,FALSE)))*1 -> 5.52 | AQ12: =IF(AQ$4="2e klas", (VLOOKUP(AO12,'Arriva tarieventabel (2026)'!$A:$C,3,FALSE))*1, (VLOOKUP(AO12,'Arriva tarieventabel (2026)'!$A:$C,2,FALSE)))*1 -> 8.54 | AR12: =AO12+$AR$18 -> 21 | AS12: =IF(AS$4="2e klas", (VLOOKUP(AR12,'Arriva tarieventabel (2026)'!$A:$C,3,FALSE))*1, (VLOOKUP(AR12,'Arriva tarieventabel (2026)'!$A:$C,2,FALSE)))*1 -> 5.98 | AT12: =IF(AT$4="2e klas", (VLOOKUP(AR12,'Arriva tarieventabel (2026)'!$A:$C,3,FALSE))*1, (VLOOKUP(AR12,'Arriva tarieventabel (2026)'!$A:$C,2,FALSE)))*1 -> 9.32 | AU12: =AR12+$AU$19 -> 23 | AV12: =IF(AV$4="2e klas", (VLOOKUP(AU12,'Arriva tarieventabel (2026)'!$A:$C,3,FALSE))*1, (VLOOKUP(AU12,'Arriva tarieventabel (2026)'!$A:$C,2,FALSE)))*1 -> 6.43 | AW12: =IF(AW$4="2e klas", (VLOOKUP(AU12,'Arriva tarieventabel (2026)'!$A:$C,3,FALSE))*1, (VLOOKUP(AU12,'Arriva tarieventabel (2026)'!$A:$C,2,FALSE)))*1 -> 10.09 | AX12: =AU12+$AX$20 -> 26 | AY12: =IF(AY$4="2e klas", (VLOOKUP(AX12,'Arriva tarieventabel (2026)'!$A:$C,3,FALSE))*1, (VLOOKUP(AX12,'Arriva tarieventabel (2026)'!$A:$C,2,FALSE)))*1 -> 7.12 | AZ12: =IF(AZ$4="2e klas", (VLOOKUP(AX12,'Arriva tarieventabel (2026)'!$A:$C,3,FALSE))*1, (VLOOKUP(AX12,'Arriva tarieventabel (2026)'!$A:$C,2,FALSE)))*1 -> 11.26 | BA12: =AX12+$BA$21 -> 29 | BB12: =IF(BB$4="2e klas", (VLOOKUP(BA12,'Arriva tarieventabel (2026)'!$A:$C,3,FALSE))*1, (VLOOKUP(BA12,'Arriva tarieventabel (2026)'!$A:$C,2,FALSE)))*1 -> 7.81 | BC12: =IF(BC$4="2e klas", (VLOOKUP(BA12,'Arriva tarieventabel (2026)'!$A:$C,3,FALSE))*1, (VLOOKUP(BA12,'Arriva tarieventabel (2026)'!$A:$C,2,FALSE)))*1 -> 12.42 | BD12: =BA12+$BD$22 -> 32 | BE12: =IF(BE$4="2e klas", (VLOOKUP(BD12,'Arriva tarieventabel (2026)'!$A:$C,3,FALSE))*1, (VLOOKUP(BD12,'Arriva tarieventabel (2026)'!$A:$C,2,FALSE)))*1 -> 8.5 | BF12: =IF(BF$4="2e klas", (VLOOKUP(BD12,'Arriva tarieventabel (2026)'!$A:$C,3,FALSE))*1, (VLOOKUP(BD12,'Arriva tarieventabel (2026)'!$A:$C,2,FALSE)))*1 -> 13.59 | BG12: =BD12+$BG$23 -> 33 | BH12: =IF(BH$4="2e klas", (VLOOKUP(BG12,'Arriva tarieventabel (2026)'!$A:$C,3,FALSE))*1, (VLOOKUP(BG12,'Arriva tarieventabel (2026)'!$A:$C,2,FALSE)))*1 -> 8.73 | BI12: =IF(BI$4="2e klas", (VLOOKUP(BG12,'Arriva tarieventabel (2026)'!$A:$C,3,FALSE))*1, (VLOOKUP(BG12,'Arriva tarieventabel (2026)'!$A:$C,2,FALSE)))*1 -> 13.98 | BJ12: =BG12+$BJ$24 -> 44 | BK12: =IF(BK$4="2e klas", (VLOOKUP(BJ12,'Arriva tarieventabel (2026)'!$A:$C,3,FALSE))*1, (VLOOKUP(BJ12,'Arriva tarieventabel (2026)'!$A:$C,2,FALSE)))*1 -> 11.24 | BL12: =IF(BL$4="2e klas", (VLOOKUP(BJ12,'Arriva tarieventabel (2026)'!$A:$C,3,FALSE))*1, (VLOOKUP(BJ12,'Arriva tarieventabel (2026)'!$A:$C,2,FALSE)))*1 -> 18.23 | BM12: =BJ12+$BM$25 -> 47 | BN12: =IF(BN$4="2e klas", (VLOOKUP(BM12,'Arriva tarieventabel (2026)'!$A:$C,3,FALSE))*1, (VLOOKUP(BM12,'Arriva tarieventabel (2026)'!$A:$C,2,FALSE)))*1 -> 11.92 | BO12: =IF(BO$4="2e klas", (VLOOKUP(BM12,'Arriva tarieventabel (2026)'!$A:$C,3,FALSE))*1, (VLOOKUP(BM12,'Arriva tarieventabel (2026)'!$A:$C,2,FALSE)))*1 -> 19.39 | BP12: 28 | BQ12: =IF(BQ$4="2e klas", (VLOOKUP(BP12,'Arriva tarieventabel (2026)'!$A:$C,3,FALSE))*1, (VLOOKUP(BP12,'Arriva tarieventabel (2026)'!$A:$C,2,FALSE)))*1 -> 7.58 | BR12: =IF(BR$4="2e klas", (VLOOKUP(BP12,'Arriva tarieventabel (2026)'!$A:$C,3,FALSE))*1, (VLOOKUP(BP12,'Arriva tarieventabel (2026)'!$A:$C,2,FALSE)))*1 -> 12.04 | BS12: =$BP12+$BS$27 -> 29 | BT12: =IF(BT$4="2e klas", (VLOOKUP(BS12,'Arriva tarieventabel (2026)'!$A:$C,3,FALSE))*1, (VLOOKUP(BS12,'Arriva tarieventabel (2026)'!$A:$C,2,FALSE)))*1 -> 7.81 | BU12: =IF(BU$4="2e klas", (VLOOKUP(BS12,'Arriva tarieventabel (2026)'!$A:$C,3,FALSE))*1, (VLOOKUP(BS12,'Arriva tarieventabel (2026)'!$A:$C,2,FALSE)))*1 -> 12.42 | BV12: =$BP12+$BV$27 -> 31 | BW12: =IF(BW$4="2e klas", (VLOOKUP(BV12,'Arriva tarieventabel (2026)'!$A:$C,3,FALSE))*1, (VLOOKUP(BV12,'Arriva tarieventabel (2026)'!$A:$C,2,FALSE)))*1 -> 8.27 | BX12: =IF(BX$4="2e klas", (VLOOKUP(BV12,'Arriva tarieventabel (2026)'!$A:$C,3,FALSE))*1, (VLOOKUP(BV12,'Arriva tarieventabel (2026)'!$A:$C,2,FALSE)))*1 -> 13.2
A13: Meerssen | B13: 17 | C13: =IF(C$4="2e klas", C$10+(VLOOKUP(B13,'Arriva tarieventabel (2026)'!$A:$C,3,FALSE)-VLOOKUP(B$10,'Arriva tarieventabel (2026)'!$A:$C,3,FALSE)), C$10+(VLOOKUP(B13,'Arriva tarieventabel (2026)'!$A:$C,2,FALSE)-VLOOKUP(B$10,'Arriva tarieventabel (2026)'!$A:$C,2,FALSE))) -> 10.01 | D13: =IF(D$4="2e klas", D$10+(VLOOKUP(B13,'Arriva tarieventabel (2026)'!$A:$C,3,FALSE)-VLOOKUP(B$10,'Arriva tarieventabel (2026)'!$A:$C,3,FALSE)), D$10+(VLOOKUP(B13,'Arriva tarieventabel (2026)'!$A:$C,2,FALSE)-VLOOKUP(B$10,'Arriva tarieventabel (2026)'!$A:$C,2,FALSE))) -> 15.47 | E13: =$B13 -> 17 | F13: =IF(F$4="2e klas", F$10+(VLOOKUP(E13,'Arriva tarieventabel (2026)'!$A:$C,3,FALSE)-VLOOKUP(E$10,'Arriva tarieventabel (2026)'!$A:$C,3,FALSE)), F$10+(VLOOKUP(E13,'Arriva tarieventabel (2026)'!$A:$C,2,FALSE)-VLOOKUP(E$10,'Arriva tarieventabel (2026)'!$A:$C,2,FALSE))) -> 10.01 | G13: =IF(G$4="2e klas", G$10+(VLOOKUP(E13,'Arriva tarieventabel (2026)'!$A:$C,3,FALSE)-VLOOKUP(E$10,'Arriva tarieventabel (2026)'!$A:$C,3,FALSE)), G$10+(VLOOKUP(E13,'Arriva tarieventabel (2026)'!$A:$C,2,FALSE)-VLOOKUP(E$10,'Arriva tarieventabel (2026)'!$A:$C,2,FALSE))) -> 15.47 | H13: =$B13 -> 17 | I13: =IF(I$4="2e klas", I$10+(VLOOKUP(H13,'Arriva tarieventabel (2026)'!$A:$C,3,FALSE)-VLOOKUP(H$10,'Arriva tarieventabel (2026)'!$A:$C,3,FALSE)), I$10+(VLOOKUP(H13,'Arriva tarieventabel (2026)'!$A:$C,2,FALSE)-VLOOKUP(H$10,'Arriva tarieventabel (2026)'!$A:$C,2,FALSE))) -> 7.61 | J13: =IF(J$4="2e klas", J$10+(VLOOKUP(H13,'Arriva tarieventabel (2026)'!$A:$C,3,FALSE)-VLOOKUP(H$10,'Arriva tarieventabel (2026)'!$A:$C,3,FALSE)), J$10+(VLOOKUP(H13,'Arriva tarieventabel (2026)'!$A:$C,2,FALSE)-VLOOKUP(H$10,'Arriva tarieventabel (2026)'!$A:$C,2,FALSE))) -> 12.27 | K13: =$B13 -> 17 | L13: =IF(L$4="2e klas", L$10+(VLOOKUP(K13,'Arriva tarieventabel (2026)'!$A:$C,3,FALSE)-VLOOKUP(K$10,'Arriva tarieventabel (2026)'!$A:$C,3,FALSE)), L$10+(VLOOKUP(K13,'Arriva tarieventabel (2026)'!$A:$C,2,FALSE)-VLOOKUP(K$10,'Arriva tarieventabel (2026)'!$A:$C,2,FALSE))) -> 5.11 | M13: =IF(M$4="2e klas", M$10+(VLOOKUP(K13,'Arriva tarieventabel (2026)'!$A:$C,3,FALSE)-VLOOKUP(K$10,'Arriva tarieventabel (2026)'!$A:$C,3,FALSE)), M$10+(VLOOKUP(K13,'Arriva tarieventabel (2026)'!$A:$C,2,FALSE)-VLOOKUP(K$10,'Arriva tarieventabel (2026)'!$A:$C,2,FALSE))) -> 8.67 | N13: =$B13-$K$9 -> 15 | O13: =IF(O$4="2e klas", O$10+(VLOOKUP(N13,'Arriva tarieventabel (2026)'!$A:$C,3,FALSE)-VLOOKUP(N$10,'Arriva tarieventabel (2026)'!$A:$C,3,FALSE)), O$10+(VLOOKUP(N13,'Arriva tarieventabel (2026)'!$A:$C,2,FALSE)-VLOOKUP(N$10,'Arriva tarieventabel (2026)'!$A:$C,2,FALSE))) -> 4.61 | P13: =IF(P$4="2e klas", P$10+(VLOOKUP(N13,'Arriva tarieventabel (2026)'!$A:$C,3,FALSE)-VLOOKUP(N$10,'Arriva tarieventabel (2026)'!$A:$C,3,FALSE)), P$10+(VLOOKUP(N13,'Arriva tarieventabel (2026)'!$A:$C,2,FALSE)-VLOOKUP(N$10,'Arriva tarieventabel (2026)'!$A:$C,2,FALSE))) -> 8.67 | Q13: 7 | R13: =VLOOKUP(Q13,'Arriva tarieventabel (2026)'!$A:$C,3,FALSE)*1 -> 2.76 | S13: =VLOOKUP(Q13,'Arriva tarieventabel (2026)'!$A:$C,2,FALSE)*1 -> 3.88 | T13: =Q13-Q$11 -> 6 | U13: =VLOOKUP(T13,'Arriva tarieventabel (2026)'!$A:$C,3,FALSE)*1 -> 2.54 | V13: =VLOOKUP(T13,'Arriva tarieventabel (2026)'!$A:$C,2,FALSE)*1 -> 3.49 | W13: =T13-T12 -> 3 | X13: =VLOOKUP(W13,'Arriva tarieventabel (2026)'!$A:$C,3,FALSE)*1 -> 1.85 | Y13: =VLOOKUP(W13,'Arriva tarieventabel (2026)'!$A:$C,2,FALSE)*1 -> 2.32 | AC13: 4 | AD13: =IF(AD$4="2e klas", (VLOOKUP(AC13,'Arriva tarieventabel (2026)'!$A:$C,3,FALSE))*1, (VLOOKUP(AC13,'Arriva tarieventabel (2026)'!$A:$C,2,FALSE)))*1 -> 2.08 | AE13: =IF(AE$4="2e klas", (VLOOKUP(AC13,'Arriva tarieventabel (2026)'!$A:$C,3,FALSE))*1, (VLOOKUP(AC13,'Arriva tarieventabel (2026)'!$A:$C,2,FALSE)))*1 -> 2.71 | AF13: =AC13+$AF$14 -> 7 | AG13: =IF(AG$4="2e klas", (VLOOKUP(AF13,'Arriva tarieventabel (2026)'!$A:$C,3,FALSE))*1, (VLOOKUP(AF13,'Arriva tarieventabel (2026)'!$A:$C,2,FALSE)))*1 -> 2.76 | AH13: =IF(AH$4="2e klas", (VLOOKUP(AF13,'Arriva tarieventabel (2026)'!$A:$C,3,FALSE))*1, (VLOOKUP(AF13,'Arriva tarieventabel (2026)'!$A:$C,2,FALSE)))*1 -> 3.88 | AI13: =AF13+$AI$15 -> 10 | AJ13: =IF(AJ$4="2e klas", (VLOOKUP(AI13,'Arriva tarieventabel (2026)'!$A:$C,3,FALSE))*1, (VLOOKUP(AI13,'Arriva tarieventabel (2026)'!$A:$C,2,FALSE)))*1 -> 3.45 | AK13: =IF(AK$4="2e klas", (VLOOKUP(AI13,'Arriva tarieventabel (2026)'!$A:$C,3,FALSE))*1, (VLOOKUP(AI13,'Arriva tarieventabel (2026)'!$A:$C,2,FALSE)))*1 -> 5.04 | AL13: =AI13+$AL$16 -> 12 | AM13: =IF(AM$4="2e klas", (VLOOKUP(AL13,'Arriva tarieventabel (2026)'!$A:$C,3,FALSE))*1, (VLOOKUP(AL13,'Arriva tarieventabel (2026)'!$A:$C,2,FALSE)))*1 -> 3.91 | AN13: =IF(AN$4="2e klas", (VLOOKUP(AL13,'Arriva tarieventabel (2026)'!$A:$C,3,FALSE))*1, (VLOOKUP(AL13,'Arriva tarieventabel (2026)'!$A:$C,2,FALSE)))*1 -> 5.82 | AO13: =AL13+$AO$17 -> 16 | AP13: =IF(AP$4="2e klas", (VLOOKUP(AO13,'Arriva tarieventabel (2026)'!$A:$C,3,FALSE))*1, (VLOOKUP(AO13,'Arriva tarieventabel (2026)'!$A:$C,2,FALSE)))*1 -> 4.83 | AQ13: =IF(AQ$4="2e klas", (VLOOKUP(AO13,'Arriva tarieventabel (2026)'!$A:$C,3,FALSE))*1, (VLOOKUP(AO13,'Arriva tarieventabel (2026)'!$A:$C,2,FALSE)))*1 -> 7.37 | AR13: =AO13+$AR$18 -> 18 | AS13: =IF(AS$4="2e klas", (VLOOKUP(AR13,'Arriva tarieventabel (2026)'!$A:$C,3,FALSE))*1, (VLOOKUP(AR13,'Arriva tarieventabel (2026)'!$A:$C,2,FALSE)))*1 -> 5.29 | AT13: =IF(AT$4="2e klas", (VLOOKUP(AR13,'Arriva tarieventabel (2026)'!$A:$C,3,FALSE))*1, (VLOOKUP(AR13,'Arriva tarieventabel (2026)'!$A:$C,2,FALSE)))*1 -> 8.15 | AU13: =AR13+$AU$19 -> 20 | AV13: =IF(AV$4="2e klas", (VLOOKUP(AU13,'Arriva tarieventabel (2026)'!$A:$C,3,FALSE))*1, (VLOOKUP(AU13,'Arriva tarieventabel (2026)'!$A:$C,2,FALSE)))*1 -> 5.75 | AW13: =IF(AW$4="2e klas", (VLOOKUP(AU13,'Arriva tarieventabel (2026)'!$A:$C,3,FALSE))*1, (VLOOKUP(AU13,'Arriva tarieventabel (2026)'!$A:$C,2,FALSE)))*1 -> 8.93 | AX13: =AU13+$AX$20 -> 23 | AY13: =IF(AY$4="2e klas", (VLOOKUP(AX13,'Arriva tarieventabel (2026)'!$A:$C,3,FALSE))*1, (VLOOKUP(AX13,'Arriva tarieventabel (2026)'!$A:$C,2,FALSE)))*1 -> 6.43 | AZ13: =IF(AZ$4="2e klas", (VLOOKUP(AX13,'Arriva tarieventabel (2026)'!$A:$C,3,FALSE))*1, (VLOOKUP(AX13,'Arriva tarieventabel (2026)'!$A:$C,2,FALSE)))*1 -> 10.09 | BA13: =AX13+$BA$21 -> 26 | BB13: =IF(BB$4="2e klas", (VLOOKUP(BA13,'Arriva tarieventabel (2026)'!$A:$C,3,FALSE))*1, (VLOOKUP(BA13,'Arriva tarieventabel (2026)'!$A:$C,2,FALSE)))*1 -> 7.12 | BC13: =IF(BC$4="2e klas", (VLOOKUP(BA13,'Arriva tarieventabel (2026)'!$A:$C,3,FALSE))*1, (VLOOKUP(BA13,'Arriva tarieventabel (2026)'!$A:$C,2,FALSE)))*1 -> 11.26 | BD13: =BA13+$BD$22 -> 29 | BE13: =IF(BE$4="2e klas", (VLOOKUP(BD13,'Arriva tarieventabel (2026)'!$A:$C,3,FALSE))*1, (VLOOKUP(BD13,'Arriva tarieventabel (2026)'!$A:$C,2,FALSE)))*1 -> 7.81 | BF13: =IF(BF$4="2e klas", (VLOOKUP(BD13,'Arriva tarieventabel (2026)'!$A:$C,3,FALSE))*1, (VLOOKUP(BD13,'Arriva tarieventabel (2026)'!$A:$C,2,FALSE)))*1 -> 12.42 | BG13: =BD13+$BG$23 -> 30 | BH13: =IF(BH$4="2e klas", (VLOOKUP(BG13,'Arriva tarieventabel (2026)'!$A:$C,3,FALSE))*1, (VLOOKUP(BG13,'Arriva tarieventabel (2026)'!$A:$C,2,FALSE)))*1 -> 8.04 | BI13: =IF(BI$4="2e klas", (VLOOKUP(BG13,'Arriva tarieventabel (2026)'!$A:$C,3,FALSE))*1, (VLOOKUP(BG13,'Arriva tarieventabel (2026)'!$A:$C,2,FALSE)))*1 -> 12.81 | BJ13: =BG13+$BJ$24 -> 41 | BK13: =IF(BK$4="2e klas", (VLOOKUP(BJ13,'Arriva tarieventabel (2026)'!$A:$C,3,FALSE))*1, (VLOOKUP(BJ13,'Arriva tarieventabel (2026)'!$A:$C,2,FALSE)))*1 -> 10.56 | BL13: =IF(BL$4="2e klas", (VLOOKUP(BJ13,'Arriva tarieventabel (2026)'!$A:$C,3,FALSE))*1, (VLOOKUP(BJ13,'Arriva tarieventabel (2026)'!$A:$C,2,FALSE)))*1 -> 17.08 | BM13: =BJ13+$BM$25 -> 44 | BN13: =IF(BN$4="2e klas", (VLOOKUP(BM13,'Arriva tarieventabel (2026)'!$A:$C,3,FALSE))*1, (VLOOKUP(BM13,'Arriva tarieventabel (2026)'!$A:$C,2,FALSE)))*1 -> 11.24 | BO13: =IF(BO$4="2e klas", (VLOOKUP(BM13,'Arriva tarieventabel (2026)'!$A:$C,3,FALSE))*1, (VLOOKUP(BM13,'Arriva tarieventabel (2026)'!$A:$C,2,FALSE)))*1 -> 18.23 | BP13: 25 | BQ13: =IF(BQ$4="2e klas", (VLOOKUP(BP13,'Arriva tarieventabel (2026)'!$A:$C,3,FALSE))*1, (VLOOKUP(BP13,'Arriva tarieventabel (2026)'!$A:$C,2,FALSE)))*1 -> 6.89 | BR13: =IF(BR$4="2e klas", (VLOOKUP(BP13,'Arriva tarieventabel (2026)'!$A:$C,3,FALSE))*1, (VLOOKUP(BP13,'Arriva tarieventabel (2026)'!$A:$C,2,FALSE)))*1 -> 10.87 | BS13: =$BP13+$BS$27 -> 26 | BT13: =IF(BT$4="2e klas", (VLOOKUP(BS13,'Arriva tarieventabel (2026)'!$A:$C,3,FALSE))*1, (VLOOKUP(BS13,'Arriva tarieventabel (2026)'!$A:$C,2,FALSE)))*1 -> 7.12 | BU13: =IF(BU$4="2e klas", (VLOOKUP(BS13,'Arriva tarieventabel (2026)'!$A:$C,3,FALSE))*1, (VLOOKUP(BS13,'Arriva tarieventabel (2026)'!$A:$C,2,FALSE)))*1 -> 11.26 | BV13: =$BP13+$BV$27 -> 28 | BW13: =IF(BW$4="2e klas", (VLOOKUP(BV13,'Arriva tarieventabel (2026)'!$A:$C,3,FALSE))*1, (VLOOKUP(BV13,'Arriva tarieventabel (2026)'!$A:$C,2,FALSE)))*1 -> 7.58 | BX13: =IF(BX$4="2e klas", (VLOOKUP(BV13,'Arriva tarieventabel (2026)'!$A:$C,3,FALSE))*1, (VLOOKUP(BV13,'Arriva tarieventabel (2026)'!$A:$C,2,FALSE)))*1 -> 12.04
A14: Houtem St. Gerlach | B14: 21 | C14: =IF(C$4="2e klas", C$10+(VLOOKUP(B14,'Arriva tarieventabel (2026)'!$A:$C,3,FALSE)-VLOOKUP(B$10,'Arriva tarieventabel (2026)'!$A:$C,3,FALSE)), C$10+(VLOOKUP(B14,'Arriva tarieventabel (2026)'!$A:$C,2,FALSE)-VLOOKUP(B$10,'Arriva tarieventabel (2026)'!$A:$C,2,FALSE))) -> 10.93 | D14: =IF(D$4="2e klas", D$10+(VLOOKUP(B14,'Arriva tarieventabel (2026)'!$A:$C,3,FALSE)-VLOOKUP(B$10,'Arriva tarieventabel (2026)'!$A:$C,3,FALSE)), D$10+(VLOOKUP(B14,'Arriva tarieventabel (2026)'!$A:$C,2,FALSE)-VLOOKUP(B$10,'Arriva tarieventabel (2026)'!$A:$C,2,FALSE))) -> 17.03 | E14: =$B14 -> 21 | F14: =IF(F$4="2e klas", F$10+(VLOOKUP(E14,'Arriva tarieventabel (2026)'!$A:$C,3,FALSE)-VLOOKUP(E$10,'Arriva tarieventabel (2026)'!$A:$C,3,FALSE)), F$10+(VLOOKUP(E14,'Arriva tarieventabel (2026)'!$A:$C,2,FALSE)-VLOOKUP(E$10,'Arriva tarieventabel (2026)'!$A:$C,2,FALSE))) -> 10.93 | G14: =IF(G$4="2e klas", G$10+(VLOOKUP(E14,'Arriva tarieventabel (2026)'!$A:$C,3,FALSE)-VLOOKUP(E$10,'Arriva tarieventabel (2026)'!$A:$C,3,FALSE)), G$10+(VLOOKUP(E14,'Arriva tarieventabel (2026)'!$A:$C,2,FALSE)-VLOOKUP(E$10,'Arriva tarieventabel (2026)'!$A:$C,2,FALSE))) -> 17.03 | H14: =$B14 -> 21 | I14: =IF(I$4="2e klas", I$10+(VLOOKUP(H14,'Arriva tarieventabel (2026)'!$A:$C,3,FALSE)-VLOOKUP(H$10,'Arriva tarieventabel (2026)'!$A:$C,3,FALSE)), I$10+(VLOOKUP(H14,'Arriva tarieventabel (2026)'!$A:$C,2,FALSE)-VLOOKUP(H$10,'Arriva tarieventabel (2026)'!$A:$C,2,FALSE))) -> 8.53 | J14: =IF(J$4="2e klas", J$10+(VLOOKUP(H14,'Arriva tarieventabel (2026)'!$A:$C,3,FALSE)-VLOOKUP(H$10,'Arriva tarieventabel (2026)'!$A:$C,3,FALSE)), J$10+(VLOOKUP(H14,'Arriva tarieventabel (2026)'!$A:$C,2,FALSE)-VLOOKUP(H$10,'Arriva tarieventabel (2026)'!$A:$C,2,FALSE))) -> 13.83 | K14: =$B14 -> 21 | L14: =IF(L$4="2e klas", L$10+(VLOOKUP(K14,'Arriva tarieventabel (2026)'!$A:$C,3,FALSE)-VLOOKUP(K$10,'Arriva tarieventabel (2026)'!$A:$C,3,FALSE)), L$10+(VLOOKUP(K14,'Arriva tarieventabel (2026)'!$A:$C,2,FALSE)-VLOOKUP(K$10,'Arriva tarieventabel (2026)'!$A:$C,2,FALSE))) -> 6.03 | M14: =IF(M$4="2e klas", M$10+(VLOOKUP(K14,'Arriva tarieventabel (2026)'!$A:$C,3,FALSE)-VLOOKUP(K$10,'Arriva tarieventabel (2026)'!$A:$C,3,FALSE)), M$10+(VLOOKUP(K14,'Arriva tarieventabel (2026)'!$A:$C,2,FALSE)-VLOOKUP(K$10,'Arriva tarieventabel (2026)'!$A:$C,2,FALSE))) -> 10.23 | N14: =$B14-$K$9 -> 19 | O14: =IF(O$4="2e klas", O$10+(VLOOKUP(N14,'Arriva tarieventabel (2026)'!$A:$C,3,FALSE)-VLOOKUP(N$10,'Arriva tarieventabel (2026)'!$A:$C,3,FALSE)), O$10+(VLOOKUP(N14,'Arriva tarieventabel (2026)'!$A:$C,2,FALSE)-VLOOKUP(N$10,'Arriva tarieventabel (2026)'!$A:$C,2,FALSE))) -> 5.53 | P14: =IF(P$4="2e klas", P$10+(VLOOKUP(N14,'Arriva tarieventabel (2026)'!$A:$C,3,FALSE)-VLOOKUP(N$10,'Arriva tarieventabel (2026)'!$A:$C,3,FALSE)), P$10+(VLOOKUP(N14,'Arriva tarieventabel (2026)'!$A:$C,2,FALSE)-VLOOKUP(N$10,'Arriva tarieventabel (2026)'!$A:$C,2,FALSE))) -> 10.22 | Q14: 11 | R14: =VLOOKUP(Q14,'Arriva tarieventabel (2026)'!$A:$C,3,FALSE)*1 -> 3.68 | S14: =VLOOKUP(Q14,'Arriva tarieventabel (2026)'!$A:$C,2,FALSE)*1 -> 5.43 | T14: =Q14-Q$11 -> 10 | U14: =VLOOKUP(T14,'Arriva tarieventabel (2026)'!$A:$C,3,FALSE)*1 -> 3.45 | V14: =VLOOKUP(T14,'Arriva tarieventabel (2026)'!$A:$C,2,FALSE)*1 -> 5.04 | W14: =T14-T$12 -> 7 | X14: =VLOOKUP(W14,'Arriva tarieventabel (2026)'!$A:$C,3,FALSE)*1 -> 2.76 | Y14: =VLOOKUP(W14,'Arriva tarieventabel (2026)'!$A:$C,2,FALSE)*1 -> 3.88 | Z14: =W14-W13 -> 4 | AA14: =VLOOKUP(Z14,'Arriva tarieventabel (2026)'!$A:$C,3,FALSE)*1 -> 2.08 | AB14: =VLOOKUP(Z14,'Arriva tarieventabel (2026)'!$A:$C,2,FALSE)*1 -> 2.71 | AF14: 3 | AG14: =IF(AG$4="2e klas", (VLOOKUP(AF14,'Arriva tarieventabel (2026)'!$A:$C,3,FALSE))*1, (VLOOKUP(AF14,'Arriva tarieventabel (2026)'!$A:$C,2,FALSE)))*1 -> 1.85 | AH14: =IF(AH$4="2e klas", (VLOOKUP(AF14,'Arriva tarieventabel (2026)'!$A:$C,3,FALSE))*1, (VLOOKUP(AF14,'Arriva tarieventabel (2026)'!$A:$C,2,FALSE)))*1 -> 2.32 | AI14: =AF14+$AI$15 -> 6 | AJ14: =IF(AJ$4="2e klas", (VLOOKUP(AI14,'Arriva tarieventabel (2026)'!$A:$C,3,FALSE))*1, (VLOOKUP(AI14,'Arriva tarieventabel (2026)'!$A:$C,2,FALSE)))*1 -> 2.54 | AK14: =IF(AK$4="2e klas", (VLOOKUP(AI14,'Arriva tarieventabel (2026)'!$A:$C,3,FALSE))*1, (VLOOKUP(AI14,'Arriva tarieventabel (2026)'!$A:$C,2,FALSE)))*1 -> 3.49 | AL14: =AI14+$AL$16 -> 8 | AM14: =IF(AM$4="2e klas", (VLOOKUP(AL14,'Arriva tarieventabel (2026)'!$A:$C,3,FALSE))*1, (VLOOKUP(AL14,'Arriva tarieventabel (2026)'!$A:$C,2,FALSE)))*1 -> 2.99 | AN14: =IF(AN$4="2e klas", (VLOOKUP(AL14,'Arriva tarieventabel (2026)'!$A:$C,3,FALSE))*1, (VLOOKUP(AL14,'Arriva tarieventabel (2026)'!$A:$C,2,FALSE)))*1 -> 4.27 | AO14: =AL14+$AO$17 -> 12 | AP14: =IF(AP$4="2e klas", (VLOOKUP(AO14,'Arriva tarieventabel (2026)'!$A:$C,3,FALSE))*1, (VLOOKUP(AO14,'Arriva tarieventabel (2026)'!$A:$C,2,FALSE)))*1 -> 3.91 | AQ14: =IF(AQ$4="2e klas", (VLOOKUP(AO14,'Arriva tarieventabel (2026)'!$A:$C,3,FALSE))*1, (VLOOKUP(AO14,'Arriva tarieventabel (2026)'!$A:$C,2,FALSE)))*1 -> 5.82 | AR14: =AO14+$AR$18 -> 14 | AS14: =IF(AS$4="2e klas", (VLOOKUP(AR14,'Arriva tarieventabel (2026)'!$A:$C,3,FALSE))*1, (VLOOKUP(AR14,'Arriva tarieventabel (2026)'!$A:$C,2,FALSE)))*1 -> 4.37 | AT14: =IF(AT$4="2e klas", (VLOOKUP(AR14,'Arriva tarieventabel (2026)'!$A:$C,3,FALSE))*1, (VLOOKUP(AR14,'Arriva tarieventabel (2026)'!$A:$C,2,FALSE)))*1 -> 6.6 | AU14: =AR14+$AU$19 -> 16 | AV14: =IF(AV$4="2e klas", (VLOOKUP(AU14,'Arriva tarieventabel (2026)'!$A:$C,3,FALSE))*1, (VLOOKUP(AU14,'Arriva tarieventabel (2026)'!$A:$C,2,FALSE)))*1 -> 4.83 | AW14: =IF(AW$4="2e klas", (VLOOKUP(AU14,'Arriva tarieventabel (2026)'!$A:$C,3,FALSE))*1, (VLOOKUP(AU14,'Arriva tarieventabel (2026)'!$A:$C,2,FALSE)))*1 -> 7.37 | AX14: =AU14+$AX$20 -> 19 | AY14: =IF(AY$4="2e klas", (VLOOKUP(AX14,'Arriva tarieventabel (2026)'!$A:$C,3,FALSE))*1, (VLOOKUP(AX14,'Arriva tarieventabel (2026)'!$A:$C,2,FALSE)))*1 -> 5.52 | AZ14: =IF(AZ$4="2e klas", (VLOOKUP(AX14,'Arriva tarieventabel (2026)'!$A:$C,3,FALSE))*1, (VLOOKUP(AX14,'Arriva tarieventabel (2026)'!$A:$C,2,FALSE)))*1 -> 8.54 | BA14: =AX14+$BA$21 -> 22 | BB14: =IF(BB$4="2e klas", (VLOOKUP(BA14,'Arriva tarieventabel (2026)'!$A:$C,3,FALSE))*1, (VLOOKUP(BA14,'Arriva tarieventabel (2026)'!$A:$C,2,FALSE)))*1 -> 6.2 | BC14: =IF(BC$4="2e klas", (VLOOKUP(BA14,'Arriva tarieventabel (2026)'!$A:$C,3,FALSE))*1, (VLOOKUP(BA14,'Arriva tarieventabel (2026)'!$A:$C,2,FALSE)))*1 -> 9.7 | BD14: =BA14+$BD$22 -> 25 | BE14: =IF(BE$4="2e klas", (VLOOKUP(BD14,'Arriva tarieventabel (2026)'!$A:$C,3,FALSE))*1, (VLOOKUP(BD14,'Arriva tarieventabel (2026)'!$A:$C,2,FALSE)))*1 -> 6.89 | BF14: =IF(BF$4="2e klas", (VLOOKUP(BD14,'Arriva tarieventabel (2026)'!$A:$C,3,FALSE))*1, (VLOOKUP(BD14,'Arriva tarieventabel (2026)'!$A:$C,2,FALSE)))*1 -> 10.87 | BG14: =BD14+$BG$23 -> 26 | BH14: =IF(BH$4="2e klas", (VLOOKUP(BG14,'Arriva tarieventabel (2026)'!$A:$C,3,FALSE))*1, (VLOOKUP(BG14,'Arriva tarieventabel (2026)'!$A:$C,2,FALSE)))*1 -> 7.12 | BI14: =IF(BI$4="2e klas", (VLOOKUP(BG14,'Arriva tarieventabel (2026)'!$A:$C,3,FALSE))*1, (VLOOKUP(BG14,'Arriva tarieventabel (2026)'!$A:$C,2,FALSE)))*1 -> 11.26 | BJ14: =BG14+$BJ$24 -> 37 | BK14: =IF(BK$4="2e klas", (VLOOKUP(BJ14,'Arriva tarieventabel (2026)'!$A:$C,3,FALSE))*1, (VLOOKUP(BJ14,'Arriva tarieventabel (2026)'!$A:$C,2,FALSE)))*1 -> 9.65 | BL14: =IF(BL$4="2e klas", (VLOOKUP(BJ14,'Arriva tarieventabel (2026)'!$A:$C,3,FALSE))*1, (VLOOKUP(BJ14,'Arriva tarieventabel (2026)'!$A:$C,2,FALSE)))*1 -> 15.53 | BM14: =BJ14+$BM$25 -> 40 | BN14: =IF(BN$4="2e klas", (VLOOKUP(BM14,'Arriva tarieventabel (2026)'!$A:$C,3,FALSE))*1, (VLOOKUP(BM14,'Arriva tarieventabel (2026)'!$A:$C,2,FALSE)))*1 -> 10.33 | BO14: =IF(BO$4="2e klas", (VLOOKUP(BM14,'Arriva tarieventabel (2026)'!$A:$C,3,FALSE))*1, (VLOOKUP(BM14,'Arriva tarieventabel (2026)'!$A:$C,2,FALSE)))*1 -> 16.7 | BP14: 21 | BQ14: =IF(BQ$4="2e klas", (VLOOKUP(BP14,'Arriva tarieventabel (2026)'!$A:$C,3,FALSE))*1, (VLOOKUP(BP14,'Arriva tarieventabel (2026)'!$A:$C,2,FALSE)))*1 -> 5.98 | BR14: =IF(BR$4="2e klas", (VLOOKUP(BP14,'Arriva tarieventabel (2026)'!$A:$C,3,FALSE))*1, (VLOOKUP(BP14,'Arriva tarieventabel (2026)'!$A:$C,2,FALSE)))*1 -> 9.32 | BS14: =$BP14+$BS$27 -> 22 | BT14: =IF(BT$4="2e klas", (VLOOKUP(BS14,'Arriva tarieventabel (2026)'!$A:$C,3,FALSE))*1, (VLOOKUP(BS14,'Arriva tarieventabel (2026)'!$A:$C,2,FALSE)))*1 -> 6.2 | BU14: =IF(BU$4="2e klas", (VLOOKUP(BS14,'Arriva tarieventabel (2026)'!$A:$C,3,FALSE))*1, (VLOOKUP(BS14,'Arriva tarieventabel (2026)'!$A:$C,2,FALSE)))*1 -> 9.7 | BV14: =$BP14+$BV$27 -> 24 | BW14: =IF(BW$4="2e klas", (VLOOKUP(BV14,'Arriva tarieventabel (2026)'!$A:$C,3,FALSE))*1, (VLOOKUP(BV14,'Arriva tarieventabel (2026)'!$A:$C,2,FALSE)))*1 -> 6.66 | BX14: =IF(BX$4="2e klas", (VLOOKUP(BV14,'Arriva tarieventabel (2026)'!$A:$C,3,FALSE))*1, (VLOOKUP(BV14,'Arriva tarieventabel (2026)'!$A:$C,2,FALSE)))*1 -> 10.48
A15: Valkenburg | B15: 24 | C15: =IF(C$4="2e klas", C$10+(VLOOKUP(B15,'Arriva tarieventabel (2026)'!$A:$C,3,FALSE)-VLOOKUP(B$10,'Arriva tarieventabel (2026)'!$A:$C,3,FALSE)), C$10+(VLOOKUP(B15,'Arriva tarieventabel (2026)'!$A:$C,2,FALSE)-VLOOKUP(B$10,'Arriva tarieventabel (2026)'!$A:$C,2,FALSE))) -> 11.61 | D15: =IF(D$4="2e klas", D$10+(VLOOKUP(B15,'Arriva tarieventabel (2026)'!$A:$C,3,FALSE)-VLOOKUP(B$10,'Arriva tarieventabel (2026)'!$A:$C,3,FALSE)), D$10+(VLOOKUP(B15,'Arriva tarieventabel (2026)'!$A:$C,2,FALSE)-VLOOKUP(B$10,'Arriva tarieventabel (2026)'!$A:$C,2,FALSE))) -> 18.19 | E15: =$B15 -> 24 | F15: =IF(F$4="2e klas", F$10+(VLOOKUP(E15,'Arriva tarieventabel (2026)'!$A:$C,3,FALSE)-VLOOKUP(E$10,'Arriva tarieventabel (2026)'!$A:$C,3,FALSE)), F$10+(VLOOKUP(E15,'Arriva tarieventabel (2026)'!$A:$C,2,FALSE)-VLOOKUP(E$10,'Arriva tarieventabel (2026)'!$A:$C,2,FALSE))) -> 11.61 | G15: =IF(G$4="2e klas", G$10+(VLOOKUP(E15,'Arriva tarieventabel (2026)'!$A:$C,3,FALSE)-VLOOKUP(E$10,'Arriva tarieventabel (2026)'!$A:$C,3,FALSE)), G$10+(VLOOKUP(E15,'Arriva tarieventabel (2026)'!$A:$C,2,FALSE)-VLOOKUP(E$10,'Arriva tarieventabel (2026)'!$A:$C,2,FALSE))) -> 18.19 | H15: =$B15 -> 24 | I15: =IF(I$4="2e klas", I$10+(VLOOKUP(H15,'Arriva tarieventabel (2026)'!$A:$C,3,FALSE)-VLOOKUP(H$10,'Arriva tarieventabel (2026)'!$A:$C,3,FALSE)), I$10+(VLOOKUP(H15,'Arriva tarieventabel (2026)'!$A:$C,2,FALSE)-VLOOKUP(H$10,'Arriva tarieventabel (2026)'!$A:$C,2,FALSE))) -> 9.21 | J15: =IF(J$4="2e klas", J$10+(VLOOKUP(H15,'Arriva tarieventabel (2026)'!$A:$C,3,FALSE)-VLOOKUP(H$10,'Arriva tarieventabel (2026)'!$A:$C,3,FALSE)), J$10+(VLOOKUP(H15,'Arriva tarieventabel (2026)'!$A:$C,2,FALSE)-VLOOKUP(H$10,'Arriva tarieventabel (2026)'!$A:$C,2,FALSE))) -> 14.99 | K15: =$B15 -> 24 | L15: =IF(L$4="2e klas", L$10+(VLOOKUP(K15,'Arriva tarieventabel (2026)'!$A:$C,3,FALSE)-VLOOKUP(K$10,'Arriva tarieventabel (2026)'!$A:$C,3,FALSE)), L$10+(VLOOKUP(K15,'Arriva tarieventabel (2026)'!$A:$C,2,FALSE)-VLOOKUP(K$10,'Arriva tarieventabel (2026)'!$A:$C,2,FALSE))) -> 6.71 | M15: =IF(M$4="2e klas", M$10+(VLOOKUP(K15,'Arriva tarieventabel (2026)'!$A:$C,3,FALSE)-VLOOKUP(K$10,'Arriva tarieventabel (2026)'!$A:$C,3,FALSE)), M$10+(VLOOKUP(K15,'Arriva tarieventabel (2026)'!$A:$C,2,FALSE)-VLOOKUP(K$10,'Arriva tarieventabel (2026)'!$A:$C,2,FALSE))) -> 11.39 | N15: =$B15-$K$9 -> 22 | O15: =IF(O$4="2e klas", O$10+(VLOOKUP(N15,'Arriva tarieventabel (2026)'!$A:$C,3,FALSE)-VLOOKUP(N$10,'Arriva tarieventabel (2026)'!$A:$C,3,FALSE)), O$10+(VLOOKUP(N15,'Arriva tarieventabel (2026)'!$A:$C,2,FALSE)-VLOOKUP(N$10,'Arriva tarieventabel (2026)'!$A:$C,2,FALSE))) -> 6.21 | P15: =IF(P$4="2e klas", P$10+(VLOOKUP(N15,'Arriva tarieventabel (2026)'!$A:$C,3,FALSE)-VLOOKUP(N$10,'Arriva tarieventabel (2026)'!$A:$C,3,FALSE)), P$10+(VLOOKUP(N15,'Arriva tarieventabel (2026)'!$A:$C,2,FALSE)-VLOOKUP(N$10,'Arriva tarieventabel (2026)'!$A:$C,2,FALSE))) -> 11.38 | Q15: 14 | R15: =VLOOKUP(Q15,'Arriva tarieventabel (2026)'!$A:$C,3,FALSE)*1 -> 4.37 | S15: =VLOOKUP(Q15,'Arriva tarieventabel (2026)'!$A:$C,2,FALSE)*1 -> 6.6 | T15: =Q15-Q$11 -> 13 | U15: =VLOOKUP(T15,'Arriva tarieventabel (2026)'!$A:$C,3,FALSE)*1 -> 4.14 | V15: =VLOOKUP(T15,'Arriva tarieventabel (2026)'!$A:$C,2,FALSE)*1 -> 6.21 | W15: =T15-T$12 -> 10 | X15: =VLOOKUP(W15,'Arriva tarieventabel (2026)'!$A:$C,3,FALSE)*1 -> 3.45 | Y15: =VLOOKUP(W15,'Arriva tarieventabel (2026)'!$A:$C,2,FALSE)*1 -> 5.04 | Z15: =W15-W$13 -> 7 | AA15: =VLOOKUP(Z15,'Arriva tarieventabel (2026)'!$A:$C,3,FALSE)*1 -> 2.76 | AB15: =VLOOKUP(Z15,'Arriva tarieventabel (2026)'!$A:$C,2,FALSE)*1 -> 3.88 | AC15: =Z15-Z14 -> 3 | AD15: =VLOOKUP(AC15,'Arriva tarieventabel (2026)'!$A:$C,3,FALSE)*1 -> 1.85 | AE15: =VLOOKUP(AC15,'Arriva tarieventabel (2026)'!$A:$C,2,FALSE)*1 -> 2.32 | AI15: 3 | AJ15: =IF(AJ$4="2e klas", (VLOOKUP(AI15,'Arriva tarieventabel (2026)'!$A:$C,3,FALSE))*1, (VLOOKUP(AI15,'Arriva tarieventabel (2026)'!$A:$C,2,FALSE)))*1 -> 1.85 | AK15: =IF(AK$4="2e klas", (VLOOKUP(AI15,'Arriva tarieventabel (2026)'!$A:$C,3,FALSE))*1, (VLOOKUP(AI15,'Arriva tarieventabel (2026)'!$A:$C,2,FALSE)))*1 -> 2.32 | AL15: =AI15+$AL$16 -> 5 | AM15: =IF(AM$4="2e klas", (VLOOKUP(AL15,'Arriva tarieventabel (2026)'!$A:$C,3,FALSE))*1, (VLOOKUP(AL15,'Arriva tarieventabel (2026)'!$A:$C,2,FALSE)))*1 -> 2.31 | AN15: =IF(AN$4="2e klas", (VLOOKUP(AL15,'Arriva tarieventabel (2026)'!$A:$C,3,FALSE))*1, (VLOOKUP(AL15,'Arriva tarieventabel (2026)'!$A:$C,2,FALSE)))*1 -> 3.1 | AO15: =AL15+$AO$17 -> 9 | AP15: =IF(AP$4="2e klas", (VLOOKUP(AO15,'Arriva tarieventabel (2026)'!$A:$C,3,FALSE))*1, (VLOOKUP(AO15,'Arriva tarieventabel (2026)'!$A:$C,2,FALSE)))*1 -> 3.22 | AQ15: =IF(AQ$4="2e klas", (VLOOKUP(AO15,'Arriva tarieventabel (2026)'!$A:$C,3,FALSE))*1, (VLOOKUP(AO15,'Arriva tarieventabel (2026)'!$A:$C,2,FALSE)))*1 -> 4.66 | AR15: =AO15+$AR$18 -> 11 | AS15: =IF(AS$4="2e klas", (VLOOKUP(AR15,'Arriva tarieventabel (2026)'!$A:$C,3,FALSE))*1, (VLOOKUP(AR15,'Arriva tarieventabel (2026)'!$A:$C,2,FALSE)))*1 -> 3.68 | AT15: =IF(AT$4="2e klas", (VLOOKUP(AR15,'Arriva tarieventabel (2026)'!$A:$C,3,FALSE))*1, (VLOOKUP(AR15,'Arriva tarieventabel (2026)'!$A:$C,2,FALSE)))*1 -> 5.43 | AU15: =AR15+$AU$19 -> 13 | AV15: =IF(AV$4="2e klas", (VLOOKUP(AU15,'Arriva tarieventabel (2026)'!$A:$C,3,FALSE))*1, (VLOOKUP(AU15,'Arriva tarieventabel (2026)'!$A:$C,2,FALSE)))*1 -> 4.14 | AW15: =IF(AW$4="2e klas", (VLOOKUP(AU15,'Arriva tarieventabel (2026)'!$A:$C,3,FALSE))*1, (VLOOKUP(AU15,'Arriva tarieventabel (2026)'!$A:$C,2,FALSE)))*1 -> 6.21 | AX15: =AU15+$AX$20 -> 16 | AY15: =IF(AY$4="2e klas", (VLOOKUP(AX15,'Arriva tarieventabel (2026)'!$A:$C,3,FALSE))*1, (VLOOKUP(AX15,'Arriva tarieventabel (2026)'!$A:$C,2,FALSE)))*1 -> 4.83 | AZ15: =IF(AZ$4="2e klas", (VLOOKUP(AX15,'Arriva tarieventabel (2026)'!$A:$C,3,FALSE))*1, (VLOOKUP(AX15,'Arriva tarieventabel (2026)'!$A:$C,2,FALSE)))*1 -> 7.37 | BA15: =AX15+$BA$21 -> 19 | BB15: =IF(BB$4="2e klas", (VLOOKUP(BA15,'Arriva tarieventabel (2026)'!$A:$C,3,FALSE))*1, (VLOOKUP(BA15,'Arriva tarieventabel (2026)'!$A:$C,2,FALSE)))*1 -> 5.52 | BC15: =IF(BC$4="2e klas", (VLOOKUP(BA15,'Arriva tarieventabel (2026)'!$A:$C,3,FALSE))*1, (VLOOKUP(BA15,'Arriva tarieventabel (2026)'!$A:$C,2,FALSE)))*1 -> 8.54 | BD15: =BA15+$BD$22 -> 22 | BE15: =IF(BE$4="2e klas", (VLOOKUP(BD15,'Arriva tarieventabel (2026)'!$A:$C,3,FALSE))*1, (VLOOKUP(BD15,'Arriva tarieventabel (2026)'!$A:$C,2,FALSE)))*1 -> 6.2 | BF15: =IF(BF$4="2e klas", (VLOOKUP(BD15,'Arriva tarieventabel (2026)'!$A:$C,3,FALSE))*1, (VLOOKUP(BD15,'Arriva tarieventabel (2026)'!$A:$C,2,FALSE)))*1 -> 9.7 | BG15: =BD15+$BG$23 -> 23 | BH15: =IF(BH$4="2e klas", (VLOOKUP(BG15,'Arriva tarieventabel (2026)'!$A:$C,3,FALSE))*1, (VLOOKUP(BG15,'Arriva tarieventabel (2026)'!$A:$C,2,FALSE)))*1 -> 6.43 | BI15: =IF(BI$4="2e klas", (VLOOKUP(BG15,'Arriva tarieventabel (2026)'!$A:$C,3,FALSE))*1, (VLOOKUP(BG15,'Arriva tarieventabel (2026)'!$A:$C,2,FALSE)))*1 -> 10.09 | BJ15: =BG15+$BJ$24 -> 34 | BK15: =IF(BK$4="2e klas", (VLOOKUP(BJ15,'Arriva tarieventabel (2026)'!$A:$C,3,FALSE))*1, (VLOOKUP(BJ15,'Arriva tarieventabel (2026)'!$A:$C,2,FALSE)))*1 -> 8.96 | BL15: =IF(BL$4="2e klas", (VLOOKUP(BJ15,'Arriva tarieventabel (2026)'!$A:$C,3,FALSE))*1, (VLOOKUP(BJ15,'Arriva tarieventabel (2026)'!$A:$C,2,FALSE)))*1 -> 14.37 | BM15: =BJ15+$BM$25 -> 37 | BN15: =IF(BN$4="2e klas", (VLOOKUP(BM15,'Arriva tarieventabel (2026)'!$A:$C,3,FALSE))*1, (VLOOKUP(BM15,'Arriva tarieventabel (2026)'!$A:$C,2,FALSE)))*1 -> 9.65 | BO15: =IF(BO$4="2e klas", (VLOOKUP(BM15,'Arriva tarieventabel (2026)'!$A:$C,3,FALSE))*1, (VLOOKUP(BM15,'Arriva tarieventabel (2026)'!$A:$C,2,FALSE)))*1 -> 15.53 | BP15: 18 | BQ15: =IF(BQ$4="2e klas", (VLOOKUP(BP15,'Arriva tarieventabel (2026)'!$A:$C,3,FALSE))*1, (VLOOKUP(BP15,'Arriva tarieventabel (2026)'!$A:$C,2,FALSE)))*1 -> 5.29 | BR15: =IF(BR$4="2e klas", (VLOOKUP(BP15,'Arriva tarieventabel (2026)'!$A:$C,3,FALSE))*1, (VLOOKUP(BP15,'Arriva tarieventabel (2026)'!$A:$C,2,FALSE)))*1 -> 8.15 | BS15: =$BP15+$BS$27 -> 19 | BT15: =IF(BT$4="2e klas", (VLOOKUP(BS15,'Arriva tarieventabel (2026)'!$A:$C,3,FALSE))*1, (VLOOKUP(BS15,'Arriva tarieventabel (2026)'!$A:$C,2,FALSE)))*1 -> 5.52 | BU15: =IF(BU$4="2e klas", (VLOOKUP(BS15,'Arriva tarieventabel (2026)'!$A:$C,3,FALSE))*1, (VLOOKUP(BS15,'Arriva tarieventabel (2026)'!$A:$C,2,FALSE)))*1 -> 8.54 | BV15: =$BP15+$BV$27 -> 21 | BW15: =IF(BW$4="2e klas", (VLOOKUP(BV15,'Arriva tarieventabel (2026)'!$A:$C,3,FALSE))*1, (VLOOKUP(BV15,'Arriva tarieventabel (2026)'!$A:$C,2,FALSE)))*1 -> 5.98 | BX15: =IF(BX$4="2e klas", (VLOOKUP(BV15,'Arriva tarieventabel (2026)'!$A:$C,3,FALSE))*1, (VLOOKUP(BV15,'Arriva tarieventabel (2026)'!$A:$C,2,FALSE)))*1 -> 9.32
A16: Schin op Geul | B16: 27 | C16: =IF(C$4="2e klas", C$10+(VLOOKUP(B16,'Arriva tarieventabel (2026)'!$A:$C,3,FALSE)-VLOOKUP(B$10,'Arriva tarieventabel (2026)'!$A:$C,3,FALSE)), C$10+(VLOOKUP(B16,'Arriva tarieventabel (2026)'!$A:$C,2,FALSE)-VLOOKUP(B$10,'Arriva tarieventabel (2026)'!$A:$C,2,FALSE))) -> 12.3 | D16: =IF(D$4="2e klas", D$10+(VLOOKUP(B16,'Arriva tarieventabel (2026)'!$A:$C,3,FALSE)-VLOOKUP(B$10,'Arriva tarieventabel (2026)'!$A:$C,3,FALSE)), D$10+(VLOOKUP(B16,'Arriva tarieventabel (2026)'!$A:$C,2,FALSE)-VLOOKUP(B$10,'Arriva tarieventabel (2026)'!$A:$C,2,FALSE))) -> 19.36 | E16: =$B16 -> 27 | F16: =IF(F$4="2e klas", F$10+(VLOOKUP(E16,'Arriva tarieventabel (2026)'!$A:$C,3,FALSE)-VLOOKUP(E$10,'Arriva tarieventabel (2026)'!$A:$C,3,FALSE)), F$10+(VLOOKUP(E16,'Arriva tarieventabel (2026)'!$A:$C,2,FALSE)-VLOOKUP(E$10,'Arriva tarieventabel (2026)'!$A:$C,2,FALSE))) -> 12.3 | G16: =IF(G$4="2e klas", G$10+(VLOOKUP(E16,'Arriva tarieventabel (2026)'!$A:$C,3,FALSE)-VLOOKUP(E$10,'Arriva tarieventabel (2026)'!$A:$C,3,FALSE)), G$10+(VLOOKUP(E16,'Arriva tarieventabel (2026)'!$A:$C,2,FALSE)-VLOOKUP(E$10,'Arriva tarieventabel (2026)'!$A:$C,2,FALSE))) -> 19.36 | H16: =$B16 -> 27 | I16: =IF(I$4="2e klas", I$10+(VLOOKUP(H16,'Arriva tarieventabel (2026)'!$A:$C,3,FALSE)-VLOOKUP(H$10,'Arriva tarieventabel (2026)'!$A:$C,3,FALSE)), I$10+(VLOOKUP(H16,'Arriva tarieventabel (2026)'!$A:$C,2,FALSE)-VLOOKUP(H$10,'Arriva tarieventabel (2026)'!$A:$C,2,FALSE))) -> 9.9 | J16: =IF(J$4="2e klas", J$10+(VLOOKUP(H16,'Arriva tarieventabel (2026)'!$A:$C,3,FALSE)-VLOOKUP(H$10,'Arriva tarieventabel (2026)'!$A:$C,3,FALSE)), J$10+(VLOOKUP(H16,'Arriva tarieventabel (2026)'!$A:$C,2,FALSE)-VLOOKUP(H$10,'Arriva tarieventabel (2026)'!$A:$C,2,FALSE))) -> 16.16 | K16: =$B16 -> 27 | L16: =IF(L$4="2e klas", L$10+(VLOOKUP(K16,'Arriva tarieventabel (2026)'!$A:$C,3,FALSE)-VLOOKUP(K$10,'Arriva tarieventabel (2026)'!$A:$C,3,FALSE)), L$10+(VLOOKUP(K16,'Arriva tarieventabel (2026)'!$A:$C,2,FALSE)-VLOOKUP(K$10,'Arriva tarieventabel (2026)'!$A:$C,2,FALSE))) -> 7.4 | M16: =IF(M$4="2e klas", M$10+(VLOOKUP(K16,'Arriva tarieventabel (2026)'!$A:$C,3,FALSE)-VLOOKUP(K$10,'Arriva tarieventabel (2026)'!$A:$C,3,FALSE)), M$10+(VLOOKUP(K16,'Arriva tarieventabel (2026)'!$A:$C,2,FALSE)-VLOOKUP(K$10,'Arriva tarieventabel (2026)'!$A:$C,2,FALSE))) -> 12.56 | N16: =$B16-$K$9 -> 25 | O16: =IF(O$4="2e klas", O$10+(VLOOKUP(N16,'Arriva tarieventabel (2026)'!$A:$C,3,FALSE)-VLOOKUP(N$10,'Arriva tarieventabel (2026)'!$A:$C,3,FALSE)), O$10+(VLOOKUP(N16,'Arriva tarieventabel (2026)'!$A:$C,2,FALSE)-VLOOKUP(N$10,'Arriva tarieventabel (2026)'!$A:$C,2,FALSE))) -> 6.9 | P16: =IF(P$4="2e klas", P$10+(VLOOKUP(N16,'Arriva tarieventabel (2026)'!$A:$C,3,FALSE)-VLOOKUP(N$10,'Arriva tarieventabel (2026)'!$A:$C,3,FALSE)), P$10+(VLOOKUP(N16,'Arriva tarieventabel (2026)'!$A:$C,2,FALSE)-VLOOKUP(N$10,'Arriva tarieventabel (2026)'!$A:$C,2,FALSE))) -> 12.55 | Q16: 17 | R16: =VLOOKUP(Q16,'Arriva tarieventabel (2026)'!$A:$C,3,FALSE)*1 -> 5.06 | S16: =VLOOKUP(Q16,'Arriva tarieventabel (2026)'!$A:$C,2,FALSE)*1 -> 7.76 | T16: =Q16-Q$11 -> 16 | U16: =VLOOKUP(T16,'Arriva tarieventabel (2026)'!$A:$C,3,FALSE)*1 -> 4.83 | V16: =VLOOKUP(T16,'Arriva tarieventabel (2026)'!$A:$C,2,FALSE)*1 -> 7.37 | W16: =T16-T$12 -> 13 | X16: =VLOOKUP(W16,'Arriva tarieventabel (2026)'!$A:$C,3,FALSE)*1 -> 4.14 | Y16: =VLOOKUP(W16,'Arriva tarieventabel (2026)'!$A:$C,2,FALSE)*1 -> 6.21 | Z16: =W16-W$13 -> 10 | AA16: =VLOOKUP(Z16,'Arriva tarieventabel (2026)'!$A:$C,3,FALSE)*1 -> 3.45 | AB16: =VLOOKUP(Z16,'Arriva tarieventabel (2026)'!$A:$C,2,FALSE)*1 -> 5.04 | AC16: =Z16-Z$14 -> 6 | AD16: =VLOOKUP(AC16,'Arriva tarieventabel (2026)'!$A:$C,3,FALSE)*1 -> 2.54 | AE16: =VLOOKUP(AC16,'Arriva tarieventabel (2026)'!$A:$C,2,FALSE)*1 -> 3.49 | AF16: =AC16-AC15 -> 3 | AG16: =VLOOKUP(AF16,'Arriva tarieventabel (2026)'!$A:$C,3,FALSE)*1 -> 1.85 | AH16: =VLOOKUP(AF16,'Arriva tarieventabel (2026)'!$A:$C,2,FALSE)*1 -> 2.32 | AL16: 2 | AM16: =IF(AM$4="2e klas", (VLOOKUP(AL16,'Arriva tarieventabel (2026)'!$A:$C,3,FALSE))*1, (VLOOKUP(AL16,'Arriva tarieventabel (2026)'!$A:$C,2,FALSE)))*1 -> 1.62 | AN16: =IF(AN$4="2e klas", (VLOOKUP(AL16,'Arriva tarieventabel (2026)'!$A:$C,3,FALSE))*1, (VLOOKUP(AL16,'Arriva tarieventabel (2026)'!$A:$C,2,FALSE)))*1 -> 1.94 | AO16: =AL16+$AO$17 -> 6 | AP16: =IF(AP$4="2e klas", (VLOOKUP(AO16,'Arriva tarieventabel (2026)'!$A:$C,3,FALSE))*1, (VLOOKUP(AO16,'Arriva tarieventabel (2026)'!$A:$C,2,FALSE)))*1 -> 2.54 | AQ16: =IF(AQ$4="2e klas", (VLOOKUP(AO16,'Arriva tarieventabel (2026)'!$A:$C,3,FALSE))*1, (VLOOKUP(AO16,'Arriva tarieventabel (2026)'!$A:$C,2,FALSE)))*1 -> 3.49 | AR16: =AO16+$AR$18 -> 8 | AS16: =IF(AS$4="2e klas", (VLOOKUP(AR16,'Arriva tarieventabel (2026)'!$A:$C,3,FALSE))*1, (VLOOKUP(AR16,'Arriva tarieventabel (2026)'!$A:$C,2,FALSE)))*1 -> 2.99 | AT16: =IF(AT$4="2e klas", (VLOOKUP(AR16,'Arriva tarieventabel (2026)'!$A:$C,3,FALSE))*1, (VLOOKUP(AR16,'Arriva tarieventabel (2026)'!$A:$C,2,FALSE)))*1 -> 4.27 | AU16: =AR16+$AU$19 -> 10 | AV16: =IF(AV$4="2e klas", (VLOOKUP(AU16,'Arriva tarieventabel (2026)'!$A:$C,3,FALSE))*1, (VLOOKUP(AU16,'Arriva tarieventabel (2026)'!$A:$C,2,FALSE)))*1 -> 3.45 | AW16: =IF(AW$4="2e klas", (VLOOKUP(AU16,'Arriva tarieventabel (2026)'!$A:$C,3,FALSE))*1, (VLOOKUP(AU16,'Arriva tarieventabel (2026)'!$A:$C,2,FALSE)))*1 -> 5.04 | AX16: =AU16+$AX$20 -> 13 | AY16: =IF(AY$4="2e klas", (VLOOKUP(AX16,'Arriva tarieventabel (2026)'!$A:$C,3,FALSE))*1, (VLOOKUP(AX16,'Arriva tarieventabel (2026)'!$A:$C,2,FALSE)))*1 -> 4.14 | AZ16: =IF(AZ$4="2e klas", (VLOOKUP(AX16,'Arriva tarieventabel (2026)'!$A:$C,3,FALSE))*1, (VLOOKUP(AX16,'Arriva tarieventabel (2026)'!$A:$C,2,FALSE)))*1 -> 6.21 | BA16: =AX16+$BA$21 -> 16 | BB16: =IF(BB$4="2e klas", (VLOOKUP(BA16,'Arriva tarieventabel (2026)'!$A:$C,3,FALSE))*1, (VLOOKUP(BA16,'Arriva tarieventabel (2026)'!$A:$C,2,FALSE)))*1 -> 4.83 | BC16: =IF(BC$4="2e klas", (VLOOKUP(BA16,'Arriva tarieventabel (2026)'!$A:$C,3,FALSE))*1, (VLOOKUP(BA16,'Arriva tarieventabel (2026)'!$A:$C,2,FALSE)))*1 -> 7.37 | BD16: =BA16+$BD$22 -> 19 | BE16: =IF(BE$4="2e klas", (VLOOKUP(BD16,'Arriva tarieventabel (2026)'!$A:$C,3,FALSE))*1, (VLOOKUP(BD16,'Arriva tarieventabel (2026)'!$A:$C,2,FALSE)))*1 -> 5.52 | BF16: =IF(BF$4="2e klas", (VLOOKUP(BD16,'Arriva tarieventabel (2026)'!$A:$C,3,FALSE))*1, (VLOOKUP(BD16,'Arriva tarieventabel (2026)'!$A:$C,2,FALSE)))*1 -> 8.54 | BG16: =BD16+$BG$23 -> 20 | BH16: =IF(BH$4="2e klas", (VLOOKUP(BG16,'Arriva tarieventabel (2026)'!$A:$C,3,FALSE))*1, (VLOOKUP(BG16,'Arriva tarieventabel (2026)'!$A:$C,2,FALSE)))*1 -> 5.75 | BI16: =IF(BI$4="2e klas", (VLOOKUP(BG16,'Arriva tarieventabel (2026)'!$A:$C,3,FALSE))*1, (VLOOKUP(BG16,'Arriva tarieventabel (2026)'!$A:$C,2,FALSE)))*1 -> 8.93 | BJ16: =BG16+$BJ$24 -> 31 | BK16: =IF(BK$4="2e klas", (VLOOKUP(BJ16,'Arriva tarieventabel (2026)'!$A:$C,3,FALSE))*1, (VLOOKUP(BJ16,'Arriva tarieventabel (2026)'!$A:$C,2,FALSE)))*1 -> 8.27 | BL16: =IF(BL$4="2e klas", (VLOOKUP(BJ16,'Arriva tarieventabel (2026)'!$A:$C,3,FALSE))*1, (VLOOKUP(BJ16,'Arriva tarieventabel (2026)'!$A:$C,2,FALSE)))*1 -> 13.2 | BM16: =BJ16+$BM$25 -> 34 | BN16: =IF(BN$4="2e klas", (VLOOKUP(BM16,'Arriva tarieventabel (2026)'!$A:$C,3,FALSE))*1, (VLOOKUP(BM16,'Arriva tarieventabel (2026)'!$A:$C,2,FALSE)))*1 -> 8.96 | BO16: =IF(BO$4="2e klas", (VLOOKUP(BM16,'Arriva tarieventabel (2026)'!$A:$C,3,FALSE))*1, (VLOOKUP(BM16,'Arriva tarieventabel (2026)'!$A:$C,2,FALSE)))*1 -> 14.37 | BP16: 15 | BQ16: =IF(BQ$4="2e klas", (VLOOKUP(BP16,'Arriva tarieventabel (2026)'!$A:$C,3,FALSE))*1, (VLOOKUP(BP16,'Arriva tarieventabel (2026)'!$A:$C,2,FALSE)))*1 -> 4.6 | BR16: =IF(BR$4="2e klas", (VLOOKUP(BP16,'Arriva tarieventabel (2026)'!$A:$C,3,FALSE))*1, (VLOOKUP(BP16,'Arriva tarieventabel (2026)'!$A:$C,2,FALSE)))*1 -> 6.99 | BS16: =$BP16+$BS$27 -> 16 | BT16: =IF(BT$4="2e klas", (VLOOKUP(BS16,'Arriva tarieventabel (2026)'!$A:$C,3,FALSE))*1, (VLOOKUP(BS16,'Arriva tarieventabel (2026)'!$A:$C,2,FALSE)))*1 -> 4.83 | BU16: =IF(BU$4="2e klas", (VLOOKUP(BS16,'Arriva tarieventabel (2026)'!$A:$C,3,FALSE))*1, (VLOOKUP(BS16,'Arriva tarieventabel (2026)'!$A:$C,2,FALSE)))*1 -> 7.37 | BV16: =$BP16+$BV$27 -> 18 | BW16: =IF(BW$4="2e klas", (VLOOKUP(BV16,'Arriva tarieventabel (2026)'!$A:$C,3,FALSE))*1, (VLOOKUP(BV16,'Arriva tarieventabel (2026)'!$A:$C,2,FALSE)))*1 -> 5.29 | BX16: =IF(BX$4="2e klas", (VLOOKUP(BV16,'Arriva tarieventabel (2026)'!$A:$C,3,FALSE))*1, (VLOOKUP(BV16,'Arriva tarieventabel (2026)'!$A:$C,2,FALSE)))*1 -> 8.15
A17: Klimmen Ransdaal | B17: 29 | C17: =IF(C$4="2e klas", C$10+(VLOOKUP(B17,'Arriva tarieventabel (2026)'!$A:$C,3,FALSE)-VLOOKUP(B$10,'Arriva tarieventabel (2026)'!$A:$C,3,FALSE)), C$10+(VLOOKUP(B17,'Arriva tarieventabel (2026)'!$A:$C,2,FALSE)-VLOOKUP(B$10,'Arriva tarieventabel (2026)'!$A:$C,2,FALSE))) -> 12.76 | D17: =IF(D$4="2e klas", D$10+(VLOOKUP(B17,'Arriva tarieventabel (2026)'!$A:$C,3,FALSE)-VLOOKUP(B$10,'Arriva tarieventabel (2026)'!$A:$C,3,FALSE)), D$10+(VLOOKUP(B17,'Arriva tarieventabel (2026)'!$A:$C,2,FALSE)-VLOOKUP(B$10,'Arriva tarieventabel (2026)'!$A:$C,2,FALSE))) -> 20.13 | E17: =$B17 -> 29 | F17: =IF(F$4="2e klas", F$10+(VLOOKUP(E17,'Arriva tarieventabel (2026)'!$A:$C,3,FALSE)-VLOOKUP(E$10,'Arriva tarieventabel (2026)'!$A:$C,3,FALSE)), F$10+(VLOOKUP(E17,'Arriva tarieventabel (2026)'!$A:$C,2,FALSE)-VLOOKUP(E$10,'Arriva tarieventabel (2026)'!$A:$C,2,FALSE))) -> 12.76 | G17: =IF(G$4="2e klas", G$10+(VLOOKUP(E17,'Arriva tarieventabel (2026)'!$A:$C,3,FALSE)-VLOOKUP(E$10,'Arriva tarieventabel (2026)'!$A:$C,3,FALSE)), G$10+(VLOOKUP(E17,'Arriva tarieventabel (2026)'!$A:$C,2,FALSE)-VLOOKUP(E$10,'Arriva tarieventabel (2026)'!$A:$C,2,FALSE))) -> 20.13 | H17: =$B17 -> 29 | I17: =IF(I$4="2e klas", I$10+(VLOOKUP(H17,'Arriva tarieventabel (2026)'!$A:$C,3,FALSE)-VLOOKUP(H$10,'Arriva tarieventabel (2026)'!$A:$C,3,FALSE)), I$10+(VLOOKUP(H17,'Arriva tarieventabel (2026)'!$A:$C,2,FALSE)-VLOOKUP(H$10,'Arriva tarieventabel (2026)'!$A:$C,2,FALSE))) -> 10.36 | J17: =IF(J$4="2e klas", J$10+(VLOOKUP(H17,'Arriva tarieventabel (2026)'!$A:$C,3,FALSE)-VLOOKUP(H$10,'Arriva tarieventabel (2026)'!$A:$C,3,FALSE)), J$10+(VLOOKUP(H17,'Arriva tarieventabel (2026)'!$A:$C,2,FALSE)-VLOOKUP(H$10,'Arriva tarieventabel (2026)'!$A:$C,2,FALSE))) -> 16.93 | K17: =$B17 -> 29 | L17: =IF(L$4="2e klas", L$10+(VLOOKUP(K17,'Arriva tarieventabel (2026)'!$A:$C,3,FALSE)-VLOOKUP(K$10,'Arriva tarieventabel (2026)'!$A:$C,3,FALSE)), L$10+(VLOOKUP(K17,'Arriva tarieventabel (2026)'!$A:$C,2,FALSE)-VLOOKUP(K$10,'Arriva tarieventabel (2026)'!$A:$C,2,FALSE))) -> 7.86 | M17: =IF(M$4="2e klas", M$10+(VLOOKUP(K17,'Arriva tarieventabel (2026)'!$A:$C,3,FALSE)-VLOOKUP(K$10,'Arriva tarieventabel (2026)'!$A:$C,3,FALSE)), M$10+(VLOOKUP(K17,'Arriva tarieventabel (2026)'!$A:$C,2,FALSE)-VLOOKUP(K$10,'Arriva tarieventabel (2026)'!$A:$C,2,FALSE))) -> 13.33 | N17: =$B17-$K$9 -> 27 | O17: =IF(O$4="2e klas", O$10+(VLOOKUP(N17,'Arriva tarieventabel (2026)'!$A:$C,3,FALSE)-VLOOKUP(N$10,'Arriva tarieventabel (2026)'!$A:$C,3,FALSE)), O$10+(VLOOKUP(N17,'Arriva tarieventabel (2026)'!$A:$C,2,FALSE)-VLOOKUP(N$10,'Arriva tarieventabel (2026)'!$A:$C,2,FALSE))) -> 7.36 | P17: =IF(P$4="2e klas", P$10+(VLOOKUP(N17,'Arriva tarieventabel (2026)'!$A:$C,3,FALSE)-VLOOKUP(N$10,'Arriva tarieventabel (2026)'!$A:$C,3,FALSE)), P$10+(VLOOKUP(N17,'Arriva tarieventabel (2026)'!$A:$C,2,FALSE)-VLOOKUP(N$10,'Arriva tarieventabel (2026)'!$A:$C,2,FALSE))) -> 13.33 | Q17: 19 | R17: =VLOOKUP(Q17,'Arriva tarieventabel (2026)'!$A:$C,3,FALSE)*1 -> 5.52 | S17: =VLOOKUP(Q17,'Arriva tarieventabel (2026)'!$A:$C,2,FALSE)*1 -> 8.54 | T17: =Q17-Q$11 -> 18 | U17: =VLOOKUP(T17,'Arriva tarieventabel (2026)'!$A:$C,3,FALSE)*1 -> 5.29 | V17: =VLOOKUP(T17,'Arriva tarieventabel (2026)'!$A:$C,2,FALSE)*1 -> 8.15 | W17: =T17-T$12 -> 15 | X17: =VLOOKUP(W17,'Arriva tarieventabel (2026)'!$A:$C,3,FALSE)*1 -> 4.6 | Y17: =VLOOKUP(W17,'Arriva tarieventabel (2026)'!$A:$C,2,FALSE)*1 -> 6.99 | Z17: =W17-W$13 -> 12 | AA17: =VLOOKUP(Z17,'Arriva tarieventabel (2026)'!$A:$C,3,FALSE)*1 -> 3.91 | AB17: =VLOOKUP(Z17,'Arriva tarieventabel (2026)'!$A:$C,2,FALSE)*1 -> 5.82 | AC17: =Z17-Z$14 -> 8 | AD17: =VLOOKUP(AC17,'Arriva tarieventabel (2026)'!$A:$C,3,FALSE)*1 -> 2.99 | AE17: =VLOOKUP(AC17,'Arriva tarieventabel (2026)'!$A:$C,2,FALSE)*1 -> 4.27 | AF17: =AC17-AC$15 -> 5 | AG17: =VLOOKUP(AF17,'Arriva tarieventabel (2026)'!$A:$C,3,FALSE)*1 -> 2.31 | AH17: =VLOOKUP(AF17,'Arriva tarieventabel (2026)'!$A:$C,2,FALSE)*1 -> 3.1 | AI17: =AF17-AF16 -> 2 | AJ17: =VLOOKUP(AI17,'Arriva tarieventabel (2026)'!$A:$C,3,FALSE)*1 -> 1.62 | AK17: =VLOOKUP(AI17,'Arriva tarieventabel (2026)'!$A:$C,2,FALSE)*1 -> 1.94 | AO17: 4 | AP17: =IF(AP$4="2e klas", (VLOOKUP(AO17,'Arriva tarieventabel (2026)'!$A:$C,3,FALSE))*1, (VLOOKUP(AO17,'Arriva tarieventabel (2026)'!$A:$C,2,FALSE)))*1 -> 2.08 | AQ17: =IF(AQ$4="2e klas", (VLOOKUP(AO17,'Arriva tarieventabel (2026)'!$A:$C,3,FALSE))*1, (VLOOKUP(AO17,'Arriva tarieventabel (2026)'!$A:$C,2,FALSE)))*1 -> 2.71 | AR17: =AO17+$AR$18 -> 6 | AS17: =IF(AS$4="2e klas", (VLOOKUP(AR17,'Arriva tarieventabel (2026)'!$A:$C,3,FALSE))*1, (VLOOKUP(AR17,'Arriva tarieventabel (2026)'!$A:$C,2,FALSE)))*1 -> 2.54 | AT17: =IF(AT$4="2e klas", (VLOOKUP(AR17,'Arriva tarieventabel (2026)'!$A:$C,3,FALSE))*1, (VLOOKUP(AR17,'Arriva tarieventabel (2026)'!$A:$C,2,FALSE)))*1 -> 3.49 | AU17: =AR17+$AU$19 -> 8 | AV17: =IF(AV$4="2e klas", (VLOOKUP(AU17,'Arriva tarieventabel (2026)'!$A:$C,3,FALSE))*1, (VLOOKUP(AU17,'Arriva tarieventabel (2026)'!$A:$C,2,FALSE)))*1 -> 2.99 | AW17: =IF(AW$4="2e klas", (VLOOKUP(AU17,'Arriva tarieventabel (2026)'!$A:$C,3,FALSE))*1, (VLOOKUP(AU17,'Arriva tarieventabel (2026)'!$A:$C,2,FALSE)))*1 -> 4.27 | AX17: =AU17+$AX$20 -> 11 | AY17: =IF(AY$4="2e klas", (VLOOKUP(AX17,'Arriva tarieventabel (2026)'!$A:$C,3,FALSE))*1, (VLOOKUP(AX17,'Arriva tarieventabel (2026)'!$A:$C,2,FALSE)))*1 -> 3.68 | AZ17: =IF(AZ$4="2e klas", (VLOOKUP(AX17,'Arriva tarieventabel (2026)'!$A:$C,3,FALSE))*1, (VLOOKUP(AX17,'Arriva tarieventabel (2026)'!$A:$C,2,FALSE)))*1 -> 5.43 | BA17: =AX17+$BA$21 -> 14 | BB17: =IF(BB$4="2e klas", (VLOOKUP(BA17,'Arriva tarieventabel (2026)'!$A:$C,3,FALSE))*1, (VLOOKUP(BA17,'Arriva tarieventabel (2026)'!$A:$C,2,FALSE)))*1 -> 4.37 | BC17: =IF(BC$4="2e klas", (VLOOKUP(BA17,'Arriva tarieventabel (2026)'!$A:$C,3,FALSE))*1, (VLOOKUP(BA17,'Arriva tarieventabel (2026)'!$A:$C,2,FALSE)))*1 -> 6.6 | BD17: =BA17+$BD$22 -> 17 | BE17: =IF(BE$4="2e klas", (VLOOKUP(BD17,'Arriva tarieventabel (2026)'!$A:$C,3,FALSE))*1, (VLOOKUP(BD17,'Arriva tarieventabel (2026)'!$A:$C,2,FALSE)))*1 -> 5.06 | BF17: =IF(BF$4="2e klas", (VLOOKUP(BD17,'Arriva tarieventabel (2026)'!$A:$C,3,FALSE))*1, (VLOOKUP(BD17,'Arriva tarieventabel (2026)'!$A:$C,2,FALSE)))*1 -> 7.76 | BG17: =BD17+$BG$23 -> 18 | BH17: =IF(BH$4="2e klas", (VLOOKUP(BG17,'Arriva tarieventabel (2026)'!$A:$C,3,FALSE))*1, (VLOOKUP(BG17,'Arriva tarieventabel (2026)'!$A:$C,2,FALSE)))*1 -> 5.29 | BI17: =IF(BI$4="2e klas", (VLOOKUP(BG17,'Arriva tarieventabel (2026)'!$A:$C,3,FALSE))*1, (VLOOKUP(BG17,'Arriva tarieventabel (2026)'!$A:$C,2,FALSE)))*1 -> 8.15 | BJ17: =BG17+$BJ$24 -> 29 | BK17: =IF(BK$4="2e klas", (VLOOKUP(BJ17,'Arriva tarieventabel (2026)'!$A:$C,3,FALSE))*1, (VLOOKUP(BJ17,'Arriva tarieventabel (2026)'!$A:$C,2,FALSE)))*1 -> 7.81 | BL17: =IF(BL$4="2e klas", (VLOOKUP(BJ17,'Arriva tarieventabel (2026)'!$A:$C,3,FALSE))*1, (VLOOKUP(BJ17,'Arriva tarieventabel (2026)'!$A:$C,2,FALSE)))*1 -> 12.42 | BM17: =BJ17+$BM$25 -> 32 | BN17: =IF(BN$4="2e klas", (VLOOKUP(BM17,'Arriva tarieventabel (2026)'!$A:$C,3,FALSE))*1, (VLOOKUP(BM17,'Arriva tarieventabel (2026)'!$A:$C,2,FALSE)))*1 -> 8.5 | BO17: =IF(BO$4="2e klas", (VLOOKUP(BM17,'Arriva tarieventabel (2026)'!$A:$C,3,FALSE))*1, (VLOOKUP(BM17,'Arriva tarieventabel (2026)'!$A:$C,2,FALSE)))*1 -> 13.59 | BP17: 13 | BQ17: =IF(BQ$4="2e klas", (VLOOKUP(BP17,'Arriva tarieventabel (2026)'!$A:$C,3,FALSE))*1, (VLOOKUP(BP17,'Arriva tarieventabel (2026)'!$A:$C,2,FALSE)))*1 -> 4.14 | BR17: =IF(BR$4="2e klas", (VLOOKUP(BP17,'Arriva tarieventabel (2026)'!$A:$C,3,FALSE))*1, (VLOOKUP(BP17,'Arriva tarieventabel (2026)'!$A:$C,2,FALSE)))*1 -> 6.21 | BS17: =$BP17+$BS$27 -> 14 | BT17: =IF(BT$4="2e klas", (VLOOKUP(BS17,'Arriva tarieventabel (2026)'!$A:$C,3,FALSE))*1, (VLOOKUP(BS17,'Arriva tarieventabel (2026)'!$A:$C,2,FALSE)))*1 -> 4.37 | BU17: =IF(BU$4="2e klas", (VLOOKUP(BS17,'Arriva tarieventabel (2026)'!$A:$C,3,FALSE))*1, (VLOOKUP(BS17,'Arriva tarieventabel (2026)'!$A:$C,2,FALSE)))*1 -> 6.6 | BV17: =$BP17+$BV$27 -> 16 | BW17: =IF(BW$4="2e klas", (VLOOKUP(BV17,'Arriva tarieventabel (2026)'!$A:$C,3,FALSE))*1, (VLOOKUP(BV17,'Arriva tarieventabel (2026)'!$A:$C,2,FALSE)))*1 -> 4.83 | BX17: =IF(BX$4="2e klas", (VLOOKUP(BV17,'Arriva tarieventabel (2026)'!$A:$C,3,FALSE))*1, (VLOOKUP(BV17,'Arriva tarieventabel (2026)'!$A:$C,2,FALSE)))*1 -> 7.37
A18: Voerendaal | B18: 33 | C18: =IF(C$4="2e klas", C$10+(VLOOKUP(B18,'Arriva tarieventabel (2026)'!$A:$C,3,FALSE)-VLOOKUP(B$10,'Arriva tarieventabel (2026)'!$A:$C,3,FALSE)), C$10+(VLOOKUP(B18,'Arriva tarieventabel (2026)'!$A:$C,2,FALSE)-VLOOKUP(B$10,'Arriva tarieventabel (2026)'!$A:$C,2,FALSE))) -> 13.68 | D18: =IF(D$4="2e klas", D$10+(VLOOKUP(B18,'Arriva tarieventabel (2026)'!$A:$C,3,FALSE)-VLOOKUP(B$10,'Arriva tarieventabel (2026)'!$A:$C,3,FALSE)), D$10+(VLOOKUP(B18,'Arriva tarieventabel (2026)'!$A:$C,2,FALSE)-VLOOKUP(B$10,'Arriva tarieventabel (2026)'!$A:$C,2,FALSE))) -> 21.69 | E18: =$B18 -> 33 | F18: =IF(F$4="2e klas", F$10+(VLOOKUP(E18,'Arriva tarieventabel (2026)'!$A:$C,3,FALSE)-VLOOKUP(E$10,'Arriva tarieventabel (2026)'!$A:$C,3,FALSE)), F$10+(VLOOKUP(E18,'Arriva tarieventabel (2026)'!$A:$C,2,FALSE)-VLOOKUP(E$10,'Arriva tarieventabel (2026)'!$A:$C,2,FALSE))) -> 13.68 | G18: =IF(G$4="2e klas", G$10+(VLOOKUP(E18,'Arriva tarieventabel (2026)'!$A:$C,3,FALSE)-VLOOKUP(E$10,'Arriva tarieventabel (2026)'!$A:$C,3,FALSE)), G$10+(VLOOKUP(E18,'Arriva tarieventabel (2026)'!$A:$C,2,FALSE)-VLOOKUP(E$10,'Arriva tarieventabel (2026)'!$A:$C,2,FALSE))) -> 21.69 | H18: =$B18 -> 33 | I18: =IF(I$4="2e klas", I$10+(VLOOKUP(H18,'Arriva tarieventabel (2026)'!$A:$C,3,FALSE)-VLOOKUP(H$10,'Arriva tarieventabel (2026)'!$A:$C,3,FALSE)), I$10+(VLOOKUP(H18,'Arriva tarieventabel (2026)'!$A:$C,2,FALSE)-VLOOKUP(H$10,'Arriva tarieventabel (2026)'!$A:$C,2,FALSE))) -> 11.28 | J18: =IF(J$4="2e klas", J$10+(VLOOKUP(H18,'Arriva tarieventabel (2026)'!$A:$C,3,FALSE)-VLOOKUP(H$10,'Arriva tarieventabel (2026)'!$A:$C,3,FALSE)), J$10+(VLOOKUP(H18,'Arriva tarieventabel (2026)'!$A:$C,2,FALSE)-VLOOKUP(H$10,'Arriva tarieventabel (2026)'!$A:$C,2,FALSE))) -> 18.49 | K18: =$B18 -> 33 | L18: =IF(L$4="2e klas", L$10+(VLOOKUP(K18,'Arriva tarieventabel (2026)'!$A:$C,3,FALSE)-VLOOKUP(K$10,'Arriva tarieventabel (2026)'!$A:$C,3,FALSE)), L$10+(VLOOKUP(K18,'Arriva tarieventabel (2026)'!$A:$C,2,FALSE)-VLOOKUP(K$10,'Arriva tarieventabel (2026)'!$A:$C,2,FALSE))) -> 8.78 | M18: =IF(M$4="2e klas", M$10+(VLOOKUP(K18,'Arriva tarieventabel (2026)'!$A:$C,3,FALSE)-VLOOKUP(K$10,'Arriva tarieventabel (2026)'!$A:$C,3,FALSE)), M$10+(VLOOKUP(K18,'Arriva tarieventabel (2026)'!$A:$C,2,FALSE)-VLOOKUP(K$10,'Arriva tarieventabel (2026)'!$A:$C,2,FALSE))) -> 14.89 | N18: =$B18-$K$9 -> 31 | O18: =IF(O$4="2e klas", O$10+(VLOOKUP(N18,'Arriva tarieventabel (2026)'!$A:$C,3,FALSE)-VLOOKUP(N$10,'Arriva tarieventabel (2026)'!$A:$C,3,FALSE)), O$10+(VLOOKUP(N18,'Arriva tarieventabel (2026)'!$A:$C,2,FALSE)-VLOOKUP(N$10,'Arriva tarieventabel (2026)'!$A:$C,2,FALSE))) -> 8.28 | P18: =IF(P$4="2e klas", P$10+(VLOOKUP(N18,'Arriva tarieventabel (2026)'!$A:$C,3,FALSE)-VLOOKUP(N$10,'Arriva tarieventabel (2026)'!$A:$C,3,FALSE)), P$10+(VLOOKUP(N18,'Arriva tarieventabel (2026)'!$A:$C,2,FALSE)-VLOOKUP(N$10,'Arriva tarieventabel (2026)'!$A:$C,2,FALSE))) -> 14.88 | Q18: 23 | R18: =VLOOKUP(Q18,'Arriva tarieventabel (2026)'!$A:$C,3,FALSE)*1 -> 6.43 | S18: =VLOOKUP(Q18,'Arriva tarieventabel (2026)'!$A:$C,2,FALSE)*1 -> 10.09 | T18: =Q18-Q$11 -> 22 | U18: =VLOOKUP(T18,'Arriva tarieventabel (2026)'!$A:$C,3,FALSE)*1 -> 6.2 | V18: =VLOOKUP(T18,'Arriva tarieventabel (2026)'!$A:$C,2,FALSE)*1 -> 9.7 | W18: =T18-T$12 -> 19 | X18: =VLOOKUP(W18,'Arriva tarieventabel (2026)'!$A:$C,3,FALSE)*1 -> 5.52 | Y18: =VLOOKUP(W18,'Arriva tarieventabel (2026)'!$A:$C,2,FALSE)*1 -> 8.54 | Z18: =W18-W$13 -> 16 | AA18: =VLOOKUP(Z18,'Arriva tarieventabel (2026)'!$A:$C,3,FALSE)*1 -> 4.83 | AB18: =VLOOKUP(Z18,'Arriva tarieventabel (2026)'!$A:$C,2,FALSE)*1 -> 7.37 | AC18: =Z18-Z$14 -> 12 | AD18: =VLOOKUP(AC18,'Arriva tarieventabel (2026)'!$A:$C,3,FALSE)*1 -> 3.91 | AE18: =VLOOKUP(AC18,'Arriva tarieventabel (2026)'!$A:$C,2,FALSE)*1 -> 5.82 | AF18: =AC18-AC$15 -> 9 | AG18: =VLOOKUP(AF18,'Arriva tarieventabel (2026)'!$A:$C,3,FALSE)*1 -> 3.22 | AH18: =VLOOKUP(AF18,'Arriva tarieventabel (2026)'!$A:$C,2,FALSE)*1 -> 4.66 | AI18: =AF18-AF$16 -> 6 | AJ18: =VLOOKUP(AI18,'Arriva tarieventabel (2026)'!$A:$C,3,FALSE)*1 -> 2.54 | AK18: =VLOOKUP(AI18,'Arriva tarieventabel (2026)'!$A:$C,2,FALSE)*1 -> 3.49 | AL18: =AI18-AI17 -> 4 | AM18: =VLOOKUP(AL18,'Arriva tarieventabel (2026)'!$A:$C,3,FALSE)*1 -> 2.08 | AN18: =VLOOKUP(AL18,'Arriva tarieventabel (2026)'!$A:$C,2,FALSE)*1 -> 2.71 | AR18: 2 | AS18: =IF(AS$4="2e klas", (VLOOKUP(AR18,'Arriva tarieventabel (2026)'!$A:$C,3,FALSE))*1, (VLOOKUP(AR18,'Arriva tarieventabel (2026)'!$A:$C,2,FALSE)))*1 -> 1.62 | AT18: =IF(AT$4="2e klas", (VLOOKUP(AR18,'Arriva tarieventabel (2026)'!$A:$C,3,FALSE))*1, (VLOOKUP(AR18,'Arriva tarieventabel (2026)'!$A:$C,2,FALSE)))*1 -> 1.94 | AU18: =AR18+$AU$19 -> 4 | AV18: =IF(AV$4="2e klas", (VLOOKUP(AU18,'Arriva tarieventabel (2026)'!$A:$C,3,FALSE))*1, (VLOOKUP(AU18,'Arriva tarieventabel (2026)'!$A:$C,2,FALSE)))*1 -> 2.08 | AW18: =IF(AW$4="2e klas", (VLOOKUP(AU18,'Arriva tarieventabel (2026)'!$A:$C,3,FALSE))*1, (VLOOKUP(AU18,'Arriva tarieventabel (2026)'!$A:$C,2,FALSE)))*1 -> 2.71 | AX18: =AU18+$AX$20 -> 7 | AY18: =IF(AY$4="2e klas", (VLOOKUP(AX18,'Arriva tarieventabel (2026)'!$A:$C,3,FALSE))*1, (VLOOKUP(AX18,'Arriva tarieventabel (2026)'!$A:$C,2,FALSE)))*1 -> 2.76 | AZ18: =IF(AZ$4="2e klas", (VLOOKUP(AX18,'Arriva tarieventabel (2026)'!$A:$C,3,FALSE))*1, (VLOOKUP(AX18,'Arriva tarieventabel (2026)'!$A:$C,2,FALSE)))*1 -> 3.88 | BA18: =AX18+$BA$21 -> 10 | BB18: =IF(BB$4="2e klas", (VLOOKUP(BA18,'Arriva tarieventabel (2026)'!$A:$C,3,FALSE))*1, (VLOOKUP(BA18,'Arriva tarieventabel (2026)'!$A:$C,2,FALSE)))*1 -> 3.45 | BC18: =IF(BC$4="2e klas", (VLOOKUP(BA18,'Arriva tarieventabel (2026)'!$A:$C,3,FALSE))*1, (VLOOKUP(BA18,'Arriva tarieventabel (2026)'!$A:$C,2,FALSE)))*1 -> 5.04 | BD18: =BA18+$BD$22 -> 13 | BE18: =IF(BE$4="2e klas", (VLOOKUP(BD18,'Arriva tarieventabel (2026)'!$A:$C,3,FALSE))*1, (VLOOKUP(BD18,'Arriva tarieventabel (2026)'!$A:$C,2,FALSE)))*1 -> 4.14 | BF18: =IF(BF$4="2e klas", (VLOOKUP(BD18,'Arriva tarieventabel (2026)'!$A:$C,3,FALSE))*1, (VLOOKUP(BD18,'Arriva tarieventabel (2026)'!$A:$C,2,FALSE)))*1 -> 6.21 | BG18: =BD18+$BG$23 -> 14 | BH18: =IF(BH$4="2e klas", (VLOOKUP(BG18,'Arriva tarieventabel (2026)'!$A:$C,3,FALSE))*1, (VLOOKUP(BG18,'Arriva tarieventabel (2026)'!$A:$C,2,FALSE)))*1 -> 4.37 | BI18: =IF(BI$4="2e klas", (VLOOKUP(BG18,'Arriva tarieventabel (2026)'!$A:$C,3,FALSE))*1, (VLOOKUP(BG18,'Arriva tarieventabel (2026)'!$A:$C,2,FALSE)))*1 -> 6.6 | BJ18: =BG18+$BJ$24 -> 25 | BK18: =IF(BK$4="2e klas", (VLOOKUP(BJ18,'Arriva tarieventabel (2026)'!$A:$C,3,FALSE))*1, (VLOOKUP(BJ18,'Arriva tarieventabel (2026)'!$A:$C,2,FALSE)))*1 -> 6.89 | BL18: =IF(BL$4="2e klas", (VLOOKUP(BJ18,'Arriva tarieventabel (2026)'!$A:$C,3,FALSE))*1, (VLOOKUP(BJ18,'Arriva tarieventabel (2026)'!$A:$C,2,FALSE)))*1 -> 10.87 | BM18: =BJ18+$BM$25 -> 28 | BN18: =IF(BN$4="2e klas", (VLOOKUP(BM18,'Arriva tarieventabel (2026)'!$A:$C,3,FALSE))*1, (VLOOKUP(BM18,'Arriva tarieventabel (2026)'!$A:$C,2,FALSE)))*1 -> 7.58 | BO18: =IF(BO$4="2e klas", (VLOOKUP(BM18,'Arriva tarieventabel (2026)'!$A:$C,3,FALSE))*1, (VLOOKUP(BM18,'Arriva tarieventabel (2026)'!$A:$C,2,FALSE)))*1 -> 12.04 | BP18: 9 | BQ18: =IF(BQ$4="2e klas", (VLOOKUP(BP18,'Arriva tarieventabel (2026)'!$A:$C,3,FALSE))*1, (VLOOKUP(BP18,'Arriva tarieventabel (2026)'!$A:$C,2,FALSE)))*1 -> 3.22 | BR18: =IF(BR$4="2e klas", (VLOOKUP(BP18,'Arriva tarieventabel (2026)'!$A:$C,3,FALSE))*1, (VLOOKUP(BP18,'Arriva tarieventabel (2026)'!$A:$C,2,FALSE)))*1 -> 4.66 | BS18: =$BP18+$BS$27 -> 10 | BT18: =IF(BT$4="2e klas", (VLOOKUP(BS18,'Arriva tarieventabel (2026)'!$A:$C,3,FALSE))*1, (VLOOKUP(BS18,'Arriva tarieventabel (2026)'!$A:$C,2,FALSE)))*1 -> 3.45 | BU18: =IF(BU$4="2e klas", (VLOOKUP(BS18,'Arriva tarieventabel (2026)'!$A:$C,3,FALSE))*1, (VLOOKUP(BS18,'Arriva tarieventabel (2026)'!$A:$C,2,FALSE)))*1 -> 5.04 | BV18: =$BP18+$BV$27 -> 12 | BW18: =IF(BW$4="2e klas", (VLOOKUP(BV18,'Arriva tarieventabel (2026)'!$A:$C,3,FALSE))*1, (VLOOKUP(BV18,'Arriva tarieventabel (2026)'!$A:$C,2,FALSE)))*1 -> 3.91 | BX18: =IF(BX$4="2e klas", (VLOOKUP(BV18,'Arriva tarieventabel (2026)'!$A:$C,3,FALSE))*1, (VLOOKUP(BV18,'Arriva tarieventabel (2026)'!$A:$C,2,FALSE)))*1 -> 5.82
A19: Heerlen Woonboulevard | B19: 35 | C19: =IF(C$4="2e klas", C$10+(VLOOKUP(B19,'Arriva tarieventabel (2026)'!$A:$C,3,FALSE)-VLOOKUP(B$10,'Arriva tarieventabel (2026)'!$A:$C,3,FALSE)), C$10+(VLOOKUP(B19,'Arriva tarieventabel (2026)'!$A:$C,2,FALSE)-VLOOKUP(B$10,'Arriva tarieventabel (2026)'!$A:$C,2,FALSE))) -> 14.14 | D19: =IF(D$4="2e klas", D$10+(VLOOKUP(B19,'Arriva tarieventabel (2026)'!$A:$C,3,FALSE)-VLOOKUP(B$10,'Arriva tarieventabel (2026)'!$A:$C,3,FALSE)), D$10+(VLOOKUP(B19,'Arriva tarieventabel (2026)'!$A:$C,2,FALSE)-VLOOKUP(B$10,'Arriva tarieventabel (2026)'!$A:$C,2,FALSE))) -> 22.46 | E19: =$B19 -> 35 | F19: =IF(F$4="2e klas", F$10+(VLOOKUP(E19,'Arriva tarieventabel (2026)'!$A:$C,3,FALSE)-VLOOKUP(E$10,'Arriva tarieventabel (2026)'!$A:$C,3,FALSE)), F$10+(VLOOKUP(E19,'Arriva tarieventabel (2026)'!$A:$C,2,FALSE)-VLOOKUP(E$10,'Arriva tarieventabel (2026)'!$A:$C,2,FALSE))) -> 14.14 | G19: =IF(G$4="2e klas", G$10+(VLOOKUP(E19,'Arriva tarieventabel (2026)'!$A:$C,3,FALSE)-VLOOKUP(E$10,'Arriva tarieventabel (2026)'!$A:$C,3,FALSE)), G$10+(VLOOKUP(E19,'Arriva tarieventabel (2026)'!$A:$C,2,FALSE)-VLOOKUP(E$10,'Arriva tarieventabel (2026)'!$A:$C,2,FALSE))) -> 22.46 | H19: =$B19 -> 35 | I19: =IF(I$4="2e klas", I$10+(VLOOKUP(H19,'Arriva tarieventabel (2026)'!$A:$C,3,FALSE)-VLOOKUP(H$10,'Arriva tarieventabel (2026)'!$A:$C,3,FALSE)), I$10+(VLOOKUP(H19,'Arriva tarieventabel (2026)'!$A:$C,2,FALSE)-VLOOKUP(H$10,'Arriva tarieventabel (2026)'!$A:$C,2,FALSE))) -> 11.74 | J19: =IF(J$4="2e klas", J$10+(VLOOKUP(H19,'Arriva tarieventabel (2026)'!$A:$C,3,FALSE)-VLOOKUP(H$10,'Arriva tarieventabel (2026)'!$A:$C,3,FALSE)), J$10+(VLOOKUP(H19,'Arriva tarieventabel (2026)'!$A:$C,2,FALSE)-VLOOKUP(H$10,'Arriva tarieventabel (2026)'!$A:$C,2,FALSE))) -> 19.26 | K19: =$B19 -> 35 | L19: =IF(L$4="2e klas", L$10+(VLOOKUP(K19,'Arriva tarieventabel (2026)'!$A:$C,3,FALSE)-VLOOKUP(K$10,'Arriva tarieventabel (2026)'!$A:$C,3,FALSE)), L$10+(VLOOKUP(K19,'Arriva tarieventabel (2026)'!$A:$C,2,FALSE)-VLOOKUP(K$10,'Arriva tarieventabel (2026)'!$A:$C,2,FALSE))) -> 9.24 | M19: =IF(M$4="2e klas", M$10+(VLOOKUP(K19,'Arriva tarieventabel (2026)'!$A:$C,3,FALSE)-VLOOKUP(K$10,'Arriva tarieventabel (2026)'!$A:$C,3,FALSE)), M$10+(VLOOKUP(K19,'Arriva tarieventabel (2026)'!$A:$C,2,FALSE)-VLOOKUP(K$10,'Arriva tarieventabel (2026)'!$A:$C,2,FALSE))) -> 15.66 | N19: =$B19-$K$9 -> 33 | O19: =IF(O$4="2e klas", O$10+(VLOOKUP(N19,'Arriva tarieventabel (2026)'!$A:$C,3,FALSE)-VLOOKUP(N$10,'Arriva tarieventabel (2026)'!$A:$C,3,FALSE)), O$10+(VLOOKUP(N19,'Arriva tarieventabel (2026)'!$A:$C,2,FALSE)-VLOOKUP(N$10,'Arriva tarieventabel (2026)'!$A:$C,2,FALSE))) -> 8.74 | P19: =IF(P$4="2e klas", P$10+(VLOOKUP(N19,'Arriva tarieventabel (2026)'!$A:$C,3,FALSE)-VLOOKUP(N$10,'Arriva tarieventabel (2026)'!$A:$C,3,FALSE)), P$10+(VLOOKUP(N19,'Arriva tarieventabel (2026)'!$A:$C,2,FALSE)-VLOOKUP(N$10,'Arriva tarieventabel (2026)'!$A:$C,2,FALSE))) -> 15.66 | Q19: 25 | R19: =VLOOKUP(Q19,'Arriva tarieventabel (2026)'!$A:$C,3,FALSE)*1 -> 6.89 | S19: =VLOOKUP(Q19,'Arriva tarieventabel (2026)'!$A:$C,2,FALSE)*1 -> 10.87 | T19: =Q19-Q$11 -> 24 | U19: =VLOOKUP(T19,'Arriva tarieventabel (2026)'!$A:$C,3,FALSE)*1 -> 6.66 | V19: =VLOOKUP(T19,'Arriva tarieventabel (2026)'!$A:$C,2,FALSE)*1 -> 10.48 | W19: =T19-T$12 -> 21 | X19: =VLOOKUP(W19,'Arriva tarieventabel (2026)'!$A:$C,3,FALSE)*1 -> 5.98 | Y19: =VLOOKUP(W19,'Arriva tarieventabel (2026)'!$A:$C,2,FALSE)*1 -> 9.32 | Z19: =W19-W$13 -> 18 | AA19: =VLOOKUP(Z19,'Arriva tarieventabel (2026)'!$A:$C,3,FALSE)*1 -> 5.29 | AB19: =VLOOKUP(Z19,'Arriva tarieventabel (2026)'!$A:$C,2,FALSE)*1 -> 8.15 | AC19: =Z19-Z$14 -> 14 | AD19: =VLOOKUP(AC19,'Arriva tarieventabel (2026)'!$A:$C,3,FALSE)*1 -> 4.37 | AE19: =VLOOKUP(AC19,'Arriva tarieventabel (2026)'!$A:$C,2,FALSE)*1 -> 6.6 | AF19: =AC19-AC$15 -> 11 | AG19: =VLOOKUP(AF19,'Arriva tarieventabel (2026)'!$A:$C,3,FALSE)*1 -> 3.68 | AH19: =VLOOKUP(AF19,'Arriva tarieventabel (2026)'!$A:$C,2,FALSE)*1 -> 5.43 | AI19: =AF19-AF$16 -> 8 | AJ19: =VLOOKUP(AI19,'Arriva tarieventabel (2026)'!$A:$C,3,FALSE)*1 -> 2.99 | AK19: =VLOOKUP(AI19,'Arriva tarieventabel (2026)'!$A:$C,2,FALSE)*1 -> 4.27 | AL19: =AI19-AI$17 -> 6 | AM19: =VLOOKUP(AL19,'Arriva tarieventabel (2026)'!$A:$C,3,FALSE)*1 -> 2.54 | AN19: =VLOOKUP(AL19,'Arriva tarieventabel (2026)'!$A:$C,2,FALSE)*1 -> 3.49 | AO19: =AL19-AL18 -> 2 | AP19: =VLOOKUP(AO19,'Arriva tarieventabel (2026)'!$A:$C,3,FALSE)*1 -> 1.62 | AQ19: =VLOOKUP(AO19,'Arriva tarieventabel (2026)'!$A:$C,2,FALSE)*1 -> 1.94 | AU19: 2 | AV19: =IF(AV$4="2e klas", (VLOOKUP(AU19,'Arriva tarieventabel (2026)'!$A:$C,3,FALSE))*1, (VLOOKUP(AU19,'Arriva tarieventabel (2026)'!$A:$C,2,FALSE)))*1 -> 1.62 | AW19: =IF(AW$4="2e klas", (VLOOKUP(AU19,'Arriva tarieventabel (2026)'!$A:$C,3,FALSE))*1, (VLOOKUP(AU19,'Arriva tarieventabel (2026)'!$A:$C,2,FALSE)))*1 -> 1.94 | AX19: =AU19+$AX$20 -> 5 | AY19: =IF(AY$4="2e klas", (VLOOKUP(AX19,'Arriva tarieventabel (2026)'!$A:$C,3,FALSE))*1, (VLOOKUP(AX19,'Arriva tarieventabel (2026)'!$A:$C,2,FALSE)))*1 -> 2.31 | AZ19: =IF(AZ$4="2e klas", (VLOOKUP(AX19,'Arriva tarieventabel (2026)'!$A:$C,3,FALSE))*1, (VLOOKUP(AX19,'Arriva tarieventabel (2026)'!$A:$C,2,FALSE)))*1 -> 3.1 | BA19: =AX19+$BA$21 -> 8 | BB19: =IF(BB$4="2e klas", (VLOOKUP(BA19,'Arriva tarieventabel (2026)'!$A:$C,3,FALSE))*1, (VLOOKUP(BA19,'Arriva tarieventabel (2026)'!$A:$C,2,FALSE)))*1 -> 2.99 | BC19: =IF(BC$4="2e klas", (VLOOKUP(BA19,'Arriva tarieventabel (2026)'!$A:$C,3,FALSE))*1, (VLOOKUP(BA19,'Arriva tarieventabel (2026)'!$A:$C,2,FALSE)))*1 -> 4.27 | BD19: =BA19+$BD$22 -> 11 | BE19: =IF(BE$4="2e klas", (VLOOKUP(BD19,'Arriva tarieventabel (2026)'!$A:$C,3,FALSE))*1, (VLOOKUP(BD19,'Arriva tarieventabel (2026)'!$A:$C,2,FALSE)))*1 -> 3.68 | BF19: =IF(BF$4="2e klas", (VLOOKUP(BD19,'Arriva tarieventabel (2026)'!$A:$C,3,FALSE))*1, (VLOOKUP(BD19,'Arriva tarieventabel (2026)'!$A:$C,2,FALSE)))*1 -> 5.43 | BG19: =BD19+$BG$23 -> 12 | BH19: =IF(BH$4="2e klas", (VLOOKUP(BG19,'Arriva tarieventabel (2026)'!$A:$C,3,FALSE))*1, (VLOOKUP(BG19,'Arriva tarieventabel (2026)'!$A:$C,2,FALSE)))*1 -> 3.91 | BI19: =IF(BI$4="2e klas", (VLOOKUP(BG19,'Arriva tarieventabel (2026)'!$A:$C,3,FALSE))*1, (VLOOKUP(BG19,'Arriva tarieventabel (2026)'!$A:$C,2,FALSE)))*1 -> 5.82 | BJ19: =BG19+$BJ$24 -> 23 | BK19: =IF(BK$4="2e klas", (VLOOKUP(BJ19,'Arriva tarieventabel (2026)'!$A:$C,3,FALSE))*1, (VLOOKUP(BJ19,'Arriva tarieventabel (2026)'!$A:$C,2,FALSE)))*1 -> 6.43 | BL19: =IF(BL$4="2e klas", (VLOOKUP(BJ19,'Arriva tarieventabel (2026)'!$A:$C,3,FALSE))*1, (VLOOKUP(BJ19,'Arriva tarieventabel (2026)'!$A:$C,2,FALSE)))*1 -> 10.09 | BM19: =BJ19+$BM$25 -> 26 | BN19: =IF(BN$4="2e klas", (VLOOKUP(BM19,'Arriva tarieventabel (2026)'!$A:$C,3,FALSE))*1, (VLOOKUP(BM19,'Arriva tarieventabel (2026)'!$A:$C,2,FALSE)))*1 -> 7.12 | BO19: =IF(BO$4="2e klas", (VLOOKUP(BM19,'Arriva tarieventabel (2026)'!$A:$C,3,FALSE))*1, (VLOOKUP(BM19,'Arriva tarieventabel (2026)'!$A:$C,2,FALSE)))*1 -> 11.26 | BP19: 7 | BQ19: =IF(BQ$4="2e klas", (VLOOKUP(BP19,'Arriva tarieventabel (2026)'!$A:$C,3,FALSE))*1, (VLOOKUP(BP19,'Arriva tarieventabel (2026)'!$A:$C,2,FALSE)))*1 -> 2.76 | BR19: =IF(BR$4="2e klas", (VLOOKUP(BP19,'Arriva tarieventabel (2026)'!$A:$C,3,FALSE))*1, (VLOOKUP(BP19,'Arriva tarieventabel (2026)'!$A:$C,2,FALSE)))*1 -> 3.88 | BS19: =$BP19+$BS$27 -> 8 | BT19: =IF(BT$4="2e klas", (VLOOKUP(BS19,'Arriva tarieventabel (2026)'!$A:$C,3,FALSE))*1, (VLOOKUP(BS19,'Arriva tarieventabel (2026)'!$A:$C,2,FALSE)))*1 -> 2.99 | BU19: =IF(BU$4="2e klas", (VLOOKUP(BS19,'Arriva tarieventabel (2026)'!$A:$C,3,FALSE))*1, (VLOOKUP(BS19,'Arriva tarieventabel (2026)'!$A:$C,2,FALSE)))*1 -> 4.27 | BV19: =$BP19+$BV$27 -> 10 | BW19: =IF(BW$4="2e klas", (VLOOKUP(BV19,'Arriva tarieventabel (2026)'!$A:$C,3,FALSE))*1, (VLOOKUP(BV19,'Arriva tarieventabel (2026)'!$A:$C,2,FALSE)))*1 -> 3.45 | BX19: =IF(BX$4="2e klas", (VLOOKUP(BV19,'Arriva tarieventabel (2026)'!$A:$C,3,FALSE))*1, (VLOOKUP(BV19,'Arriva tarieventabel (2026)'!$A:$C,2,FALSE)))*1 -> 5.04
A20: Heerlen | B20: 37 | C20: =IF(C$4="2e klas", C$10+(VLOOKUP(B20,'Arriva tarieventabel (2026)'!$A:$C,3,FALSE)-VLOOKUP(B$10,'Arriva tarieventabel (2026)'!$A:$C,3,FALSE)), C$10+(VLOOKUP(B20,'Arriva tarieventabel (2026)'!$A:$C,2,FALSE)-VLOOKUP(B$10,'Arriva tarieventabel (2026)'!$A:$C,2,FALSE))) -> 14.6 | D20: =IF(D$4="2e klas", D$10+(VLOOKUP(B20,'Arriva tarieventabel (2026)'!$A:$C,3,FALSE)-VLOOKUP(B$10,'Arriva tarieventabel (2026)'!$A:$C,3,FALSE)), D$10+(VLOOKUP(B20,'Arriva tarieventabel (2026)'!$A:$C,2,FALSE)-VLOOKUP(B$10,'Arriva tarieventabel (2026)'!$A:$C,2,FALSE))) -> 23.24 | E20: =$B20 -> 37 | F20: =IF(F$4="2e klas", F$10+(VLOOKUP(E20,'Arriva tarieventabel (2026)'!$A:$C,3,FALSE)-VLOOKUP(E$10,'Arriva tarieventabel (2026)'!$A:$C,3,FALSE)), F$10+(VLOOKUP(E20,'Arriva tarieventabel (2026)'!$A:$C,2,FALSE)-VLOOKUP(E$10,'Arriva tarieventabel (2026)'!$A:$C,2,FALSE))) -> 14.6 | G20: =IF(G$4="2e klas", G$10+(VLOOKUP(E20,'Arriva tarieventabel (2026)'!$A:$C,3,FALSE)-VLOOKUP(E$10,'Arriva tarieventabel (2026)'!$A:$C,3,FALSE)), G$10+(VLOOKUP(E20,'Arriva tarieventabel (2026)'!$A:$C,2,FALSE)-VLOOKUP(E$10,'Arriva tarieventabel (2026)'!$A:$C,2,FALSE))) -> 23.24 | H20: =$B20 -> 37 | I20: =IF(I$4="2e klas", I$10+(VLOOKUP(H20,'Arriva tarieventabel (2026)'!$A:$C,3,FALSE)-VLOOKUP(H$10,'Arriva tarieventabel (2026)'!$A:$C,3,FALSE)), I$10+(VLOOKUP(H20,'Arriva tarieventabel (2026)'!$A:$C,2,FALSE)-VLOOKUP(H$10,'Arriva tarieventabel (2026)'!$A:$C,2,FALSE))) -> 12.2 | J20: =IF(J$4="2e klas", J$10+(VLOOKUP(H20,'Arriva tarieventabel (2026)'!$A:$C,3,FALSE)-VLOOKUP(H$10,'Arriva tarieventabel (2026)'!$A:$C,3,FALSE)), J$10+(VLOOKUP(H20,'Arriva tarieventabel (2026)'!$A:$C,2,FALSE)-VLOOKUP(H$10,'Arriva tarieventabel (2026)'!$A:$C,2,FALSE))) -> 20.04 | K20: =$B20 -> 37 | L20: =IF(L$4="2e klas", L$10+(VLOOKUP(K20,'Arriva tarieventabel (2026)'!$A:$C,3,FALSE)-VLOOKUP(K$10,'Arriva tarieventabel (2026)'!$A:$C,3,FALSE)), L$10+(VLOOKUP(K20,'Arriva tarieventabel (2026)'!$A:$C,2,FALSE)-VLOOKUP(K$10,'Arriva tarieventabel (2026)'!$A:$C,2,FALSE))) -> 9.7 | M20: =IF(M$4="2e klas", M$10+(VLOOKUP(K20,'Arriva tarieventabel (2026)'!$A:$C,3,FALSE)-VLOOKUP(K$10,'Arriva tarieventabel (2026)'!$A:$C,3,FALSE)), M$10+(VLOOKUP(K20,'Arriva tarieventabel (2026)'!$A:$C,2,FALSE)-VLOOKUP(K$10,'Arriva tarieventabel (2026)'!$A:$C,2,FALSE))) -> 16.44 | N20: =$B20-$K$9 -> 35 | O20: =IF(O$4="2e klas", O$10+(VLOOKUP(N20,'Arriva tarieventabel (2026)'!$A:$C,3,FALSE)-VLOOKUP(N$10,'Arriva tarieventabel (2026)'!$A:$C,3,FALSE)), O$10+(VLOOKUP(N20,'Arriva tarieventabel (2026)'!$A:$C,2,FALSE)-VLOOKUP(N$10,'Arriva tarieventabel (2026)'!$A:$C,2,FALSE))) -> 9.2 | P20: =IF(P$4="2e klas", P$10+(VLOOKUP(N20,'Arriva tarieventabel (2026)'!$A:$C,3,FALSE)-VLOOKUP(N$10,'Arriva tarieventabel (2026)'!$A:$C,3,FALSE)), P$10+(VLOOKUP(N20,'Arriva tarieventabel (2026)'!$A:$C,2,FALSE)-VLOOKUP(N$10,'Arriva tarieventabel (2026)'!$A:$C,2,FALSE))) -> 16.43 | Q20: 27 | R20: =VLOOKUP(Q20,'Arriva tarieventabel (2026)'!$A:$C,3,FALSE)*1 -> 7.35 | S20: =VLOOKUP(Q20,'Arriva tarieventabel (2026)'!$A:$C,2,FALSE)*1 -> 11.65 | T20: =Q20-Q$11 -> 26 | U20: =VLOOKUP(T20,'Arriva tarieventabel (2026)'!$A:$C,3,FALSE)*1 -> 7.12 | V20: =VLOOKUP(T20,'Arriva tarieventabel (2026)'!$A:$C,2,FALSE)*1 -> 11.26 | W20: =T20-T$12 -> 23 | X20: =VLOOKUP(W20,'Arriva tarieventabel (2026)'!$A:$C,3,FALSE)*1 -> 6.43 | Y20: =VLOOKUP(W20,'Arriva tarieventabel (2026)'!$A:$C,2,FALSE)*1 -> 10.09 | Z20: =W20-W$13 -> 20 | AA20: =VLOOKUP(Z20,'Arriva tarieventabel (2026)'!$A:$C,3,FALSE)*1 -> 5.75 | AB20: =VLOOKUP(Z20,'Arriva tarieventabel (2026)'!$A:$C,2,FALSE)*1 -> 8.93 | AC20: =Z20-Z$14 -> 16 | AD20: =VLOOKUP(AC20,'Arriva tarieventabel (2026)'!$A:$C,3,FALSE)*1 -> 4.83 | AE20: =VLOOKUP(AC20,'Arriva tarieventabel (2026)'!$A:$C,2,FALSE)*1 -> 7.37 | AF20: =AC20-AC$15 -> 13 | AG20: =VLOOKUP(AF20,'Arriva tarieventabel (2026)'!$A:$C,3,FALSE)*1 -> 4.14 | AH20: =VLOOKUP(AF20,'Arriva tarieventabel (2026)'!$A:$C,2,FALSE)*1 -> 6.21 | AI20: =AF20-AF$16 -> 10 | AJ20: =VLOOKUP(AI20,'Arriva tarieventabel (2026)'!$A:$C,3,FALSE)*1 -> 3.45 | AK20: =VLOOKUP(AI20,'Arriva tarieventabel (2026)'!$A:$C,2,FALSE)*1 -> 5.04 | AL20: =AI20-AI$17 -> 8 | AM20: =VLOOKUP(AL20,'Arriva tarieventabel (2026)'!$A:$C,3,FALSE)*1 -> 2.99 | AN20: =VLOOKUP(AL20,'Arriva tarieventabel (2026)'!$A:$C,2,FALSE)*1 -> 4.27 | AO20: =AL20-AL$18 -> 4 | AP20: =VLOOKUP(AO20,'Arriva tarieventabel (2026)'!$A:$C,3,FALSE)*1 -> 2.08 | AQ20: =VLOOKUP(AO20,'Arriva tarieventabel (2026)'!$A:$C,2,FALSE)*1 -> 2.71 | AR20: =AO20-AO19 -> 2 | AS20: =VLOOKUP(AR20,'Arriva tarieventabel (2026)'!$A:$C,3,FALSE)*1 -> 1.62 | AT20: =VLOOKUP(AR20,'Arriva tarieventabel (2026)'!$A:$C,2,FALSE)*1 -> 1.94 | AX20: 3 | AY20: =IF(AY$4="2e klas", (VLOOKUP(AX20,'Arriva tarieventabel (2026)'!$A:$C,3,FALSE))*1, (VLOOKUP(AX20,'Arriva tarieventabel (2026)'!$A:$C,2,FALSE)))*1 -> 1.85 | AZ20: =IF(AZ$4="2e klas", (VLOOKUP(AX20,'Arriva tarieventabel (2026)'!$A:$C,3,FALSE))*1, (VLOOKUP(AX20,'Arriva tarieventabel (2026)'!$A:$C,2,FALSE)))*1 -> 2.32 | BA20: =AX20+$BA$21 -> 6 | BB20: =IF(BB$4="2e klas", (VLOOKUP(BA20,'Arriva tarieventabel (2026)'!$A:$C,3,FALSE))*1, (VLOOKUP(BA20,'Arriva tarieventabel (2026)'!$A:$C,2,FALSE)))*1 -> 2.54 | BC20: =IF(BC$4="2e klas", (VLOOKUP(BA20,'Arriva tarieventabel (2026)'!$A:$C,3,FALSE))*1, (VLOOKUP(BA20,'Arriva tarieventabel (2026)'!$A:$C,2,FALSE)))*1 -> 3.49 | BD20: =BA20+$BD$22 -> 9 | BE20: =IF(BE$4="2e klas", (VLOOKUP(BD20,'Arriva tarieventabel (2026)'!$A:$C,3,FALSE))*1, (VLOOKUP(BD20,'Arriva tarieventabel (2026)'!$A:$C,2,FALSE)))*1 -> 3.22 | BF20: =IF(BF$4="2e klas", (VLOOKUP(BD20,'Arriva tarieventabel (2026)'!$A:$C,3,FALSE))*1, (VLOOKUP(BD20,'Arriva tarieventabel (2026)'!$A:$C,2,FALSE)))*1 -> 4.66 | BG20: =BD20+$BG$23 -> 10 | BH20: =IF(BH$4="2e klas", (VLOOKUP(BG20,'Arriva tarieventabel (2026)'!$A:$C,3,FALSE))*1, (VLOOKUP(BG20,'Arriva tarieventabel (2026)'!$A:$C,2,FALSE)))*1 -> 3.45 | BI20: =IF(BI$4="2e klas", (VLOOKUP(BG20,'Arriva tarieventabel (2026)'!$A:$C,3,FALSE))*1, (VLOOKUP(BG20,'Arriva tarieventabel (2026)'!$A:$C,2,FALSE)))*1 -> 5.04 | BJ20: =BG20+$BJ$24 -> 21 | BK20: =IF(BK$4="2e klas", (VLOOKUP(BJ20,'Arriva tarieventabel (2026)'!$A:$C,3,FALSE))*1, (VLOOKUP(BJ20,'Arriva tarieventabel (2026)'!$A:$C,2,FALSE)))*1 -> 5.98 | BL20: =IF(BL$4="2e klas", (VLOOKUP(BJ20,'Arriva tarieventabel (2026)'!$A:$C,3,FALSE))*1, (VLOOKUP(BJ20,'Arriva tarieventabel (2026)'!$A:$C,2,FALSE)))*1 -> 9.32 | BM20: =BJ20+$BM$25 -> 24 | BN20: =IF(BN$4="2e klas", (VLOOKUP(BM20,'Arriva tarieventabel (2026)'!$A:$C,3,FALSE))*1, (VLOOKUP(BM20,'Arriva tarieventabel (2026)'!$A:$C,2,FALSE)))*1 -> 6.66 | BO20: =IF(BO$4="2e klas", (VLOOKUP(BM20,'Arriva tarieventabel (2026)'!$A:$C,3,FALSE))*1, (VLOOKUP(BM20,'Arriva tarieventabel (2026)'!$A:$C,2,FALSE)))*1 -> 10.48 | BP20: 5 | BQ20: =IF(BQ$4="2e klas", (VLOOKUP(BP20,'Arriva tarieventabel (2026)'!$A:$C,3,FALSE))*1, (VLOOKUP(BP20,'Arriva tarieventabel (2026)'!$A:$C,2,FALSE)))*1 -> 2.31 | BR20: =IF(BR$4="2e klas", (VLOOKUP(BP20,'Arriva tarieventabel (2026)'!$A:$C,3,FALSE))*1, (VLOOKUP(BP20,'Arriva tarieventabel (2026)'!$A:$C,2,FALSE)))*1 -> 3.1 | BS20: =$BP20+$BS$27 -> 6 | BT20: =IF(BT$4="2e klas", (VLOOKUP(BS20,'Arriva tarieventabel (2026)'!$A:$C,3,FALSE))*1, (VLOOKUP(BS20,'Arriva tarieventabel (2026)'!$A:$C,2,FALSE)))*1 -> 2.54 | BU20: =IF(BU$4="2e klas", (VLOOKUP(BS20,'Arriva tarieventabel (2026)'!$A:$C,3,FALSE))*1, (VLOOKUP(BS20,'Arriva tarieventabel (2026)'!$A:$C,2,FALSE)))*1 -> 3.49 | BV20: =$BP20+$BV$27 -> 8 | BW20: =IF(BW$4="2e klas", (VLOOKUP(BV20,'Arriva tarieventabel (2026)'!$A:$C,3,FALSE))*1, (VLOOKUP(BV20,'Arriva tarieventabel (2026)'!$A:$C,2,FALSE)))*1 -> 2.99 | BX20: =IF(BX$4="2e klas", (VLOOKUP(BV20,'Arriva tarieventabel (2026)'!$A:$C,3,FALSE))*1, (VLOOKUP(BV20,'Arriva tarieventabel (2026)'!$A:$C,2,FALSE)))*1 -> 4.27
A21: Landgraaf | B21: 40 | C21: =IF(C$4="2e klas", C$10+(VLOOKUP(B21,'Arriva tarieventabel (2026)'!$A:$C,3,FALSE)-VLOOKUP(B$10,'Arriva tarieventabel (2026)'!$A:$C,3,FALSE)), C$10+(VLOOKUP(B21,'Arriva tarieventabel (2026)'!$A:$C,2,FALSE)-VLOOKUP(B$10,'Arriva tarieventabel (2026)'!$A:$C,2,FALSE))) -> 15.28 | D21: =IF(D$4="2e klas", D$10+(VLOOKUP(B21,'Arriva tarieventabel (2026)'!$A:$C,3,FALSE)-VLOOKUP(B$10,'Arriva tarieventabel (2026)'!$A:$C,3,FALSE)), D$10+(VLOOKUP(B21,'Arriva tarieventabel (2026)'!$A:$C,2,FALSE)-VLOOKUP(B$10,'Arriva tarieventabel (2026)'!$A:$C,2,FALSE))) -> 24.41 | E21: =$B21 -> 40 | F21: =IF(F$4="2e klas", F$10+(VLOOKUP(E21,'Arriva tarieventabel (2026)'!$A:$C,3,FALSE)-VLOOKUP(E$10,'Arriva tarieventabel (2026)'!$A:$C,3,FALSE)), F$10+(VLOOKUP(E21,'Arriva tarieventabel (2026)'!$A:$C,2,FALSE)-VLOOKUP(E$10,'Arriva tarieventabel (2026)'!$A:$C,2,FALSE))) -> 15.28 | G21: =IF(G$4="2e klas", G$10+(VLOOKUP(E21,'Arriva tarieventabel (2026)'!$A:$C,3,FALSE)-VLOOKUP(E$10,'Arriva tarieventabel (2026)'!$A:$C,3,FALSE)), G$10+(VLOOKUP(E21,'Arriva tarieventabel (2026)'!$A:$C,2,FALSE)-VLOOKUP(E$10,'Arriva tarieventabel (2026)'!$A:$C,2,FALSE))) -> 24.41 | H21: =$B21 -> 40 | I21: =IF(I$4="2e klas", I$10+(VLOOKUP(H21,'Arriva tarieventabel (2026)'!$A:$C,3,FALSE)-VLOOKUP(H$10,'Arriva tarieventabel (2026)'!$A:$C,3,FALSE)), I$10+(VLOOKUP(H21,'Arriva tarieventabel (2026)'!$A:$C,2,FALSE)-VLOOKUP(H$10,'Arriva tarieventabel (2026)'!$A:$C,2,FALSE))) -> 12.88 | J21: =IF(J$4="2e klas", J$10+(VLOOKUP(H21,'Arriva tarieventabel (2026)'!$A:$C,3,FALSE)-VLOOKUP(H$10,'Arriva tarieventabel (2026)'!$A:$C,3,FALSE)), J$10+(VLOOKUP(H21,'Arriva tarieventabel (2026)'!$A:$C,2,FALSE)-VLOOKUP(H$10,'Arriva tarieventabel (2026)'!$A:$C,2,FALSE))) -> 21.21 | K21: =$B21 -> 40 | L21: =IF(L$4="2e klas", L$10+(VLOOKUP(K21,'Arriva tarieventabel (2026)'!$A:$C,3,FALSE)-VLOOKUP(K$10,'Arriva tarieventabel (2026)'!$A:$C,3,FALSE)), L$10+(VLOOKUP(K21,'Arriva tarieventabel (2026)'!$A:$C,2,FALSE)-VLOOKUP(K$10,'Arriva tarieventabel (2026)'!$A:$C,2,FALSE))) -> 10.38 | M21: =IF(M$4="2e klas", M$10+(VLOOKUP(K21,'Arriva tarieventabel (2026)'!$A:$C,3,FALSE)-VLOOKUP(K$10,'Arriva tarieventabel (2026)'!$A:$C,3,FALSE)), M$10+(VLOOKUP(K21,'Arriva tarieventabel (2026)'!$A:$C,2,FALSE)-VLOOKUP(K$10,'Arriva tarieventabel (2026)'!$A:$C,2,FALSE))) -> 17.61 | N21: =$B21-$K$9 -> 38 | O21: =IF(O$4="2e klas", O$10+(VLOOKUP(N21,'Arriva tarieventabel (2026)'!$A:$C,3,FALSE)-VLOOKUP(N$10,'Arriva tarieventabel (2026)'!$A:$C,3,FALSE)), O$10+(VLOOKUP(N21,'Arriva tarieventabel (2026)'!$A:$C,2,FALSE)-VLOOKUP(N$10,'Arriva tarieventabel (2026)'!$A:$C,2,FALSE))) -> 9.88 | P21: =IF(P$4="2e klas", P$10+(VLOOKUP(N21,'Arriva tarieventabel (2026)'!$A:$C,3,FALSE)-VLOOKUP(N$10,'Arriva tarieventabel (2026)'!$A:$C,3,FALSE)), P$10+(VLOOKUP(N21,'Arriva tarieventabel (2026)'!$A:$C,2,FALSE)-VLOOKUP(N$10,'Arriva tarieventabel (2026)'!$A:$C,2,FALSE))) -> 17.6 | Q21: 30 | R21: =VLOOKUP(Q21,'Arriva tarieventabel (2026)'!$A:$C,3,FALSE)*1 -> 8.04 | S21: =VLOOKUP(Q21,'Arriva tarieventabel (2026)'!$A:$C,2,FALSE)*1 -> 12.81 | T21: =Q21-Q$11 -> 29 | U21: =VLOOKUP(T21,'Arriva tarieventabel (2026)'!$A:$C,3,FALSE)*1 -> 7.81 | V21: =VLOOKUP(T21,'Arriva tarieventabel (2026)'!$A:$C,2,FALSE)*1 -> 12.42 | W21: =T21-T$12 -> 26 | X21: =VLOOKUP(W21,'Arriva tarieventabel (2026)'!$A:$C,3,FALSE)*1 -> 7.12 | Y21: =VLOOKUP(W21,'Arriva tarieventabel (2026)'!$A:$C,2,FALSE)*1 -> 11.26 | Z21: =W21-W$13 -> 23 | AA21: =VLOOKUP(Z21,'Arriva tarieventabel (2026)'!$A:$C,3,FALSE)*1 -> 6.43 | AB21: =VLOOKUP(Z21,'Arriva tarieventabel (2026)'!$A:$C,2,FALSE)*1 -> 10.09 | AC21: =Z21-Z$14 -> 19 | AD21: =VLOOKUP(AC21,'Arriva tarieventabel (2026)'!$A:$C,3,FALSE)*1 -> 5.52 | AE21: =VLOOKUP(AC21,'Arriva tarieventabel (2026)'!$A:$C,2,FALSE)*1 -> 8.54 | AF21: =AC21-AC$15 -> 16 | AG21: =VLOOKUP(AF21,'Arriva tarieventabel (2026)'!$A:$C,3,FALSE)*1 -> 4.83 | AH21: =VLOOKUP(AF21,'Arriva tarieventabel (2026)'!$A:$C,2,FALSE)*1 -> 7.37 | AI21: =AF21-AF$16 -> 13 | AJ21: =VLOOKUP(AI21,'Arriva tarieventabel (2026)'!$A:$C,3,FALSE)*1 -> 4.14 | AK21: =VLOOKUP(AI21,'Arriva tarieventabel (2026)'!$A:$C,2,FALSE)*1 -> 6.21 | AL21: =AI21-AI$17 -> 11 | AM21: =VLOOKUP(AL21,'Arriva tarieventabel (2026)'!$A:$C,3,FALSE)*1 -> 3.68 | AN21: =VLOOKUP(AL21,'Arriva tarieventabel (2026)'!$A:$C,2,FALSE)*1 -> 5.43 | AO21: =AL21-AL$18 -> 7 | AP21: =VLOOKUP(AO21,'Arriva tarieventabel (2026)'!$A:$C,3,FALSE)*1 -> 2.76 | AQ21: =VLOOKUP(AO21,'Arriva tarieventabel (2026)'!$A:$C,2,FALSE)*1 -> 3.88 | AR21: =AO21-AO$19 -> 5 | AS21: =VLOOKUP(AR21,'Arriva tarieventabel (2026)'!$A:$C,3,FALSE)*1 -> 2.31 | AT21: =VLOOKUP(AR21,'Arriva tarieventabel (2026)'!$A:$C,2,FALSE)*1 -> 3.1 | AU21: =AR21-AR20 -> 3 | AV21: =VLOOKUP(AU21,'Arriva tarieventabel (2026)'!$A:$C,3,FALSE)*1 -> 1.85 | AW21: =VLOOKUP(AU21,'Arriva tarieventabel (2026)'!$A:$C,2,FALSE)*1 -> 2.32 | BA21: 3 | BB21: =IF(BB$4="2e klas", (VLOOKUP(BA21,'Arriva tarieventabel (2026)'!$A:$C,3,FALSE))*1, (VLOOKUP(BA21,'Arriva tarieventabel (2026)'!$A:$C,2,FALSE)))*1 -> 1.85 | BC21: =IF(BC$4="2e klas", (VLOOKUP(BA21,'Arriva tarieventabel (2026)'!$A:$C,3,FALSE))*1, (VLOOKUP(BA21,'Arriva tarieventabel (2026)'!$A:$C,2,FALSE)))*1 -> 2.32 | BD21: =BA21+$BD$22 -> 6 | BE21: =IF(BE$4="2e klas", (VLOOKUP(BD21,'Arriva tarieventabel (2026)'!$A:$C,3,FALSE))*1, (VLOOKUP(BD21,'Arriva tarieventabel (2026)'!$A:$C,2,FALSE)))*1 -> 2.54 | BF21: =IF(BF$4="2e klas", (VLOOKUP(BD21,'Arriva tarieventabel (2026)'!$A:$C,3,FALSE))*1, (VLOOKUP(BD21,'Arriva tarieventabel (2026)'!$A:$C,2,FALSE)))*1 -> 3.49 | BG21: =BD21+$BG$23 -> 7 | BH21: =IF(BH$4="2e klas", (VLOOKUP(BG21,'Arriva tarieventabel (2026)'!$A:$C,3,FALSE))*1, (VLOOKUP(BG21,'Arriva tarieventabel (2026)'!$A:$C,2,FALSE)))*1 -> 2.76 | BI21: =IF(BI$4="2e klas", (VLOOKUP(BG21,'Arriva tarieventabel (2026)'!$A:$C,3,FALSE))*1, (VLOOKUP(BG21,'Arriva tarieventabel (2026)'!$A:$C,2,FALSE)))*1 -> 3.88 | BJ21: =BG21+$BJ$24 -> 18 | BK21: =IF(BK$4="2e klas", (VLOOKUP(BJ21,'Arriva tarieventabel (2026)'!$A:$C,3,FALSE))*1, (VLOOKUP(BJ21,'Arriva tarieventabel (2026)'!$A:$C,2,FALSE)))*1 -> 5.29 | BL21: =IF(BL$4="2e klas", (VLOOKUP(BJ21,'Arriva tarieventabel (2026)'!$A:$C,3,FALSE))*1, (VLOOKUP(BJ21,'Arriva tarieventabel (2026)'!$A:$C,2,FALSE)))*1 -> 8.15 | BM21: =BJ21+$BM$25 -> 21 | BN21: =IF(BN$4="2e klas", (VLOOKUP(BM21,'Arriva tarieventabel (2026)'!$A:$C,3,FALSE))*1, (VLOOKUP(BM21,'Arriva tarieventabel (2026)'!$A:$C,2,FALSE)))*1 -> 5.98 | BO21: =IF(BO$4="2e klas", (VLOOKUP(BM21,'Arriva tarieventabel (2026)'!$A:$C,3,FALSE))*1, (VLOOKUP(BM21,'Arriva tarieventabel (2026)'!$A:$C,2,FALSE)))*1 -> 9.32 | BP21: 2 | BQ21: =IF(BQ$4="2e klas", (VLOOKUP(BP21,'Arriva tarieventabel (2026)'!$A:$C,3,FALSE))*1, (VLOOKUP(BP21,'Arriva tarieventabel (2026)'!$A:$C,2,FALSE)))*1 -> 1.62 | BR21: =IF(BR$4="2e klas", (VLOOKUP(BP21,'Arriva tarieventabel (2026)'!$A:$C,3,FALSE))*1, (VLOOKUP(BP21,'Arriva tarieventabel (2026)'!$A:$C,2,FALSE)))*1 -> 1.94 | BS21: =$BP21+$BS$27 -> 3 | BT21: =IF(BT$4="2e klas", (VLOOKUP(BS21,'Arriva tarieventabel (2026)'!$A:$C,3,FALSE))*1, (VLOOKUP(BS21,'Arriva tarieventabel (2026)'!$A:$C,2,FALSE)))*1 -> 1.85 | BU21: =IF(BU$4="2e klas", (VLOOKUP(BS21,'Arriva tarieventabel (2026)'!$A:$C,3,FALSE))*1, (VLOOKUP(BS21,'Arriva tarieventabel (2026)'!$A:$C,2,FALSE)))*1 -> 2.32 | BV21: =$BP21+$BV$27 -> 5 | BW21: =IF(BW$4="2e klas", (VLOOKUP(BV21,'Arriva tarieventabel (2026)'!$A:$C,3,FALSE))*1, (VLOOKUP(BV21,'Arriva tarieventabel (2026)'!$A:$C,2,FALSE)))*1 -> 2.31 | BX21: =IF(BX$4="2e klas", (VLOOKUP(BV21,'Arriva tarieventabel (2026)'!$A:$C,3,FALSE))*1, (VLOOKUP(BV21,'Arriva tarieventabel (2026)'!$A:$C,2,FALSE)))*1 -> 3.1
A22: Eygelshoven Markt | B22: 43 | C22: =IF(C$4="2e klas", C$10+(VLOOKUP(B22,'Arriva tarieventabel (2026)'!$A:$C,3,FALSE)-VLOOKUP(B$10,'Arriva tarieventabel (2026)'!$A:$C,3,FALSE)), C$10+(VLOOKUP(B22,'Arriva tarieventabel (2026)'!$A:$C,2,FALSE)-VLOOKUP(B$10,'Arriva tarieventabel (2026)'!$A:$C,2,FALSE))) -> 15.96 | D22: =IF(D$4="2e klas", D$10+(VLOOKUP(B22,'Arriva tarieventabel (2026)'!$A:$C,3,FALSE)-VLOOKUP(B$10,'Arriva tarieventabel (2026)'!$A:$C,3,FALSE)), D$10+(VLOOKUP(B22,'Arriva tarieventabel (2026)'!$A:$C,2,FALSE)-VLOOKUP(B$10,'Arriva tarieventabel (2026)'!$A:$C,2,FALSE))) -> 25.56 | E22: =$B22 -> 43 | F22: =IF(F$4="2e klas", F$10+(VLOOKUP(E22,'Arriva tarieventabel (2026)'!$A:$C,3,FALSE)-VLOOKUP(E$10,'Arriva tarieventabel (2026)'!$A:$C,3,FALSE)), F$10+(VLOOKUP(E22,'Arriva tarieventabel (2026)'!$A:$C,2,FALSE)-VLOOKUP(E$10,'Arriva tarieventabel (2026)'!$A:$C,2,FALSE))) -> 15.96 | G22: =IF(G$4="2e klas", G$10+(VLOOKUP(E22,'Arriva tarieventabel (2026)'!$A:$C,3,FALSE)-VLOOKUP(E$10,'Arriva tarieventabel (2026)'!$A:$C,3,FALSE)), G$10+(VLOOKUP(E22,'Arriva tarieventabel (2026)'!$A:$C,2,FALSE)-VLOOKUP(E$10,'Arriva tarieventabel (2026)'!$A:$C,2,FALSE))) -> 25.56 | H22: =$B22 -> 43 | I22: =IF(I$4="2e klas", I$10+(VLOOKUP(H22,'Arriva tarieventabel (2026)'!$A:$C,3,FALSE)-VLOOKUP(H$10,'Arriva tarieventabel (2026)'!$A:$C,3,FALSE)), I$10+(VLOOKUP(H22,'Arriva tarieventabel (2026)'!$A:$C,2,FALSE)-VLOOKUP(H$10,'Arriva tarieventabel (2026)'!$A:$C,2,FALSE))) -> 13.56 | J22: =IF(J$4="2e klas", J$10+(VLOOKUP(H22,'Arriva tarieventabel (2026)'!$A:$C,3,FALSE)-VLOOKUP(H$10,'Arriva tarieventabel (2026)'!$A:$C,3,FALSE)), J$10+(VLOOKUP(H22,'Arriva tarieventabel (2026)'!$A:$C,2,FALSE)-VLOOKUP(H$10,'Arriva tarieventabel (2026)'!$A:$C,2,FALSE))) -> 22.36 | K22: =$B22 -> 43 | L22: =IF(L$4="2e klas", L$10+(VLOOKUP(K22,'Arriva tarieventabel (2026)'!$A:$C,3,FALSE)-VLOOKUP(K$10,'Arriva tarieventabel (2026)'!$A:$C,3,FALSE)), L$10+(VLOOKUP(K22,'Arriva tarieventabel (2026)'!$A:$C,2,FALSE)-VLOOKUP(K$10,'Arriva tarieventabel (2026)'!$A:$C,2,FALSE))) -> 11.06 | M22: =IF(M$4="2e klas", M$10+(VLOOKUP(K22,'Arriva tarieventabel (2026)'!$A:$C,3,FALSE)-VLOOKUP(K$10,'Arriva tarieventabel (2026)'!$A:$C,3,FALSE)), M$10+(VLOOKUP(K22,'Arriva tarieventabel (2026)'!$A:$C,2,FALSE)-VLOOKUP(K$10,'Arriva tarieventabel (2026)'!$A:$C,2,FALSE))) -> 18.76 | N22: =$B22-$K$9 -> 41 | O22: =IF(O$4="2e klas", O$10+(VLOOKUP(N22,'Arriva tarieventabel (2026)'!$A:$C,3,FALSE)-VLOOKUP(N$10,'Arriva tarieventabel (2026)'!$A:$C,3,FALSE)), O$10+(VLOOKUP(N22,'Arriva tarieventabel (2026)'!$A:$C,2,FALSE)-VLOOKUP(N$10,'Arriva tarieventabel (2026)'!$A:$C,2,FALSE))) -> 10.57 | P22: =IF(P$4="2e klas", P$10+(VLOOKUP(N22,'Arriva tarieventabel (2026)'!$A:$C,3,FALSE)-VLOOKUP(N$10,'Arriva tarieventabel (2026)'!$A:$C,3,FALSE)), P$10+(VLOOKUP(N22,'Arriva tarieventabel (2026)'!$A:$C,2,FALSE)-VLOOKUP(N$10,'Arriva tarieventabel (2026)'!$A:$C,2,FALSE))) -> 18.76 | Q22: 33 | R22: =VLOOKUP(Q22,'Arriva tarieventabel (2026)'!$A:$C,3,FALSE)*1 -> 8.73 | S22: =VLOOKUP(Q22,'Arriva tarieventabel (2026)'!$A:$C,2,FALSE)*1 -> 13.98 | T22: =Q22-Q$11 -> 32 | U22: =VLOOKUP(T22,'Arriva tarieventabel (2026)'!$A:$C,3,FALSE)*1 -> 8.5 | V22: =VLOOKUP(T22,'Arriva tarieventabel (2026)'!$A:$C,2,FALSE)*1 -> 13.59 | W22: =T22-T$12 -> 29 | X22: =VLOOKUP(W22,'Arriva tarieventabel (2026)'!$A:$C,3,FALSE)*1 -> 7.81 | Y22: =VLOOKUP(W22,'Arriva tarieventabel (2026)'!$A:$C,2,FALSE)*1 -> 12.42 | Z22: =W22-W$13 -> 26 | AA22: =VLOOKUP(Z22,'Arriva tarieventabel (2026)'!$A:$C,3,FALSE)*1 -> 7.12 | AB22: =VLOOKUP(Z22,'Arriva tarieventabel (2026)'!$A:$C,2,FALSE)*1 -> 11.26 | AC22: =Z22-Z$14 -> 22 | AD22: =VLOOKUP(AC22,'Arriva tarieventabel (2026)'!$A:$C,3,FALSE)*1 -> 6.2 | AE22: =VLOOKUP(AC22,'Arriva tarieventabel (2026)'!$A:$C,2,FALSE)*1 -> 9.7 | AF22: =AC22-AC$15 -> 19 | AG22: =VLOOKUP(AF22,'Arriva tarieventabel (2026)'!$A:$C,3,FALSE)*1 -> 5.52 | AH22: =VLOOKUP(AF22,'Arriva tarieventabel (2026)'!$A:$C,2,FALSE)*1 -> 8.54 | AI22: =AF22-AF$16 -> 16 | AJ22: =VLOOKUP(AI22,'Arriva tarieventabel (2026)'!$A:$C,3,FALSE)*1 -> 4.83 | AK22: =VLOOKUP(AI22,'Arriva tarieventabel (2026)'!$A:$C,2,FALSE)*1 -> 7.37 | AL22: =AI22-AI$17 -> 14 | AM22: =VLOOKUP(AL22,'Arriva tarieventabel (2026)'!$A:$C,3,FALSE)*1 -> 4.37 | AN22: =VLOOKUP(AL22,'Arriva tarieventabel (2026)'!$A:$C,2,FALSE)*1 -> 6.6 | AO22: =AL22-AL$18 -> 10 | AP22: =VLOOKUP(AO22,'Arriva tarieventabel (2026)'!$A:$C,3,FALSE)*1 -> 3.45 | AQ22: =VLOOKUP(AO22,'Arriva tarieventabel (2026)'!$A:$C,2,FALSE)*1 -> 5.04 | AR22: =AO22-AO$19 -> 8 | AS22: =VLOOKUP(AR22,'Arriva tarieventabel (2026)'!$A:$C,3,FALSE)*1 -> 2.99 | AT22: =VLOOKUP(AR22,'Arriva tarieventabel (2026)'!$A:$C,2,FALSE)*1 -> 4.27 | AU22: =AR22-AR$20 -> 6 | AV22: =VLOOKUP(AU22,'Arriva tarieventabel (2026)'!$A:$C,3,FALSE)*1 -> 2.54 | AW22: =VLOOKUP(AU22,'Arriva tarieventabel (2026)'!$A:$C,2,FALSE)*1 -> 3.49 | AX22: =AU22-AU21 -> 3 | AY22: =VLOOKUP(AX22,'Arriva tarieventabel (2026)'!$A:$C,3,FALSE)*1 -> 1.85 | AZ22: =VLOOKUP(AX22,'Arriva tarieventabel (2026)'!$A:$C,2,FALSE)*1 -> 2.32 | BD22: 3 | BE22: =IF(BE$4="2e klas", (VLOOKUP(BD22,'Arriva tarieventabel (2026)'!$A:$C,3,FALSE))*1, (VLOOKUP(BD22,'Arriva tarieventabel (2026)'!$A:$C,2,FALSE)))*1 -> 1.85 | BF22: =IF(BF$4="2e klas", (VLOOKUP(BD22,'Arriva tarieventabel (2026)'!$A:$C,3,FALSE))*1, (VLOOKUP(BD22,'Arriva tarieventabel (2026)'!$A:$C,2,FALSE)))*1 -> 2.32 | BG22: =BD22+$BG$23 -> 4 | BH22: =IF(BH$4="2e klas", (VLOOKUP(BG22,'Arriva tarieventabel (2026)'!$A:$C,3,FALSE))*1, (VLOOKUP(BG22,'Arriva tarieventabel (2026)'!$A:$C,2,FALSE)))*1 -> 2.08 | BI22: =IF(BI$4="2e klas", (VLOOKUP(BG22,'Arriva tarieventabel (2026)'!$A:$C,3,FALSE))*1, (VLOOKUP(BG22,'Arriva tarieventabel (2026)'!$A:$C,2,FALSE)))*1 -> 2.71 | BJ22: =BG22+$BJ$24 -> 15 | BK22: =IF(BK$4="2e klas", (VLOOKUP(BJ22,'Arriva tarieventabel (2026)'!$A:$C,3,FALSE))*1, (VLOOKUP(BJ22,'Arriva tarieventabel (2026)'!$A:$C,2,FALSE)))*1 -> 4.6 | BL22: =IF(BL$4="2e klas", (VLOOKUP(BJ22,'Arriva tarieventabel (2026)'!$A:$C,3,FALSE))*1, (VLOOKUP(BJ22,'Arriva tarieventabel (2026)'!$A:$C,2,FALSE)))*1 -> 6.99 | BM22: =BJ22+$BM$25 -> 18 | BN22: =IF(BN$4="2e klas", (VLOOKUP(BM22,'Arriva tarieventabel (2026)'!$A:$C,3,FALSE))*1, (VLOOKUP(BM22,'Arriva tarieventabel (2026)'!$A:$C,2,FALSE)))*1 -> 5.29 | BO22: =IF(BO$4="2e klas", (VLOOKUP(BM22,'Arriva tarieventabel (2026)'!$A:$C,3,FALSE))*1, (VLOOKUP(BM22,'Arriva tarieventabel (2026)'!$A:$C,2,FALSE)))*1 -> 8.15 | BP22: 5 | BQ22: =IF(BQ$4="2e klas", (VLOOKUP(BP22,'Arriva tarieventabel (2026)'!$A:$C,3,FALSE))*1, (VLOOKUP(BP22,'Arriva tarieventabel (2026)'!$A:$C,2,FALSE)))*1 -> 2.31 | BR22: =IF(BR$4="2e klas", (VLOOKUP(BP22,'Arriva tarieventabel (2026)'!$A:$C,3,FALSE))*1, (VLOOKUP(BP22,'Arriva tarieventabel (2026)'!$A:$C,2,FALSE)))*1 -> 3.1 | BS22: =$BP22+$BS$27 -> 6 | BT22: =IF(BT$4="2e klas", (VLOOKUP(BS22,'Arriva tarieventabel (2026)'!$A:$C,3,FALSE))*1, (VLOOKUP(BS22,'Arriva tarieventabel (2026)'!$A:$C,2,FALSE)))*1 -> 2.54 | BU22: =IF(BU$4="2e klas", (VLOOKUP(BS22,'Arriva tarieventabel (2026)'!$A:$C,3,FALSE))*1, (VLOOKUP(BS22,'Arriva tarieventabel (2026)'!$A:$C,2,FALSE)))*1 -> 3.49 | BV22: =$BP22+$BV$27 -> 8 | BW22: =IF(BW$4="2e klas", (VLOOKUP(BV22,'Arriva tarieventabel (2026)'!$A:$C,3,FALSE))*1, (VLOOKUP(BV22,'Arriva tarieventabel (2026)'!$A:$C,2,FALSE)))*1 -> 2.99 | BX22: =IF(BX$4="2e klas", (VLOOKUP(BV22,'Arriva tarieventabel (2026)'!$A:$C,3,FALSE))*1, (VLOOKUP(BV22,'Arriva tarieventabel (2026)'!$A:$C,2,FALSE)))*1 -> 4.27
A23: Herzogenrath-Grens | B23: 46 | C23: =IF(C$4="2e klas", C$10+(VLOOKUP(B23,'Arriva tarieventabel (2026)'!$A:$C,3,FALSE)-VLOOKUP(B$10,'Arriva tarieventabel (2026)'!$A:$C,3,FALSE)), C$10+(VLOOKUP(B23,'Arriva tarieventabel (2026)'!$A:$C,2,FALSE)-VLOOKUP(B$10,'Arriva tarieventabel (2026)'!$A:$C,2,FALSE))) -> 16.65 | D23: =IF(D$4="2e klas", D$10+(VLOOKUP(B23,'Arriva tarieventabel (2026)'!$A:$C,3,FALSE)-VLOOKUP(B$10,'Arriva tarieventabel (2026)'!$A:$C,3,FALSE)), D$10+(VLOOKUP(B23,'Arriva tarieventabel (2026)'!$A:$C,2,FALSE)-VLOOKUP(B$10,'Arriva tarieventabel (2026)'!$A:$C,2,FALSE))) -> 26.71 | E23: =$B23 -> 46 | F23: =IF(F$4="2e klas", F$10+(VLOOKUP(E23,'Arriva tarieventabel (2026)'!$A:$C,3,FALSE)-VLOOKUP(E$10,'Arriva tarieventabel (2026)'!$A:$C,3,FALSE)), F$10+(VLOOKUP(E23,'Arriva tarieventabel (2026)'!$A:$C,2,FALSE)-VLOOKUP(E$10,'Arriva tarieventabel (2026)'!$A:$C,2,FALSE))) -> 16.65 | G23: =IF(G$4="2e klas", G$10+(VLOOKUP(E23,'Arriva tarieventabel (2026)'!$A:$C,3,FALSE)-VLOOKUP(E$10,'Arriva tarieventabel (2026)'!$A:$C,3,FALSE)), G$10+(VLOOKUP(E23,'Arriva tarieventabel (2026)'!$A:$C,2,FALSE)-VLOOKUP(E$10,'Arriva tarieventabel (2026)'!$A:$C,2,FALSE))) -> 26.71 | H23: =$B23 -> 46 | I23: =IF(I$4="2e klas", I$10+(VLOOKUP(H23,'Arriva tarieventabel (2026)'!$A:$C,3,FALSE)-VLOOKUP(H$10,'Arriva tarieventabel (2026)'!$A:$C,3,FALSE)), I$10+(VLOOKUP(H23,'Arriva tarieventabel (2026)'!$A:$C,2,FALSE)-VLOOKUP(H$10,'Arriva tarieventabel (2026)'!$A:$C,2,FALSE))) -> 14.25 | J23: =IF(J$4="2e klas", J$10+(VLOOKUP(H23,'Arriva tarieventabel (2026)'!$A:$C,3,FALSE)-VLOOKUP(H$10,'Arriva tarieventabel (2026)'!$A:$C,3,FALSE)), J$10+(VLOOKUP(H23,'Arriva tarieventabel (2026)'!$A:$C,2,FALSE)-VLOOKUP(H$10,'Arriva tarieventabel (2026)'!$A:$C,2,FALSE))) -> 23.51 | K23: =$B23 -> 46 | L23: =IF(L$4="2e klas", L$10+(VLOOKUP(K23,'Arriva tarieventabel (2026)'!$A:$C,3,FALSE)-VLOOKUP(K$10,'Arriva tarieventabel (2026)'!$A:$C,3,FALSE)), L$10+(VLOOKUP(K23,'Arriva tarieventabel (2026)'!$A:$C,2,FALSE)-VLOOKUP(K$10,'Arriva tarieventabel (2026)'!$A:$C,2,FALSE))) -> 11.75 | M23: =IF(M$4="2e klas", M$10+(VLOOKUP(K23,'Arriva tarieventabel (2026)'!$A:$C,3,FALSE)-VLOOKUP(K$10,'Arriva tarieventabel (2026)'!$A:$C,3,FALSE)), M$10+(VLOOKUP(K23,'Arriva tarieventabel (2026)'!$A:$C,2,FALSE)-VLOOKUP(K$10,'Arriva tarieventabel (2026)'!$A:$C,2,FALSE))) -> 19.91 | N23: =$B23-$K$9 -> 44 | O23: =IF(O$4="2e klas", O$10+(VLOOKUP(N23,'Arriva tarieventabel (2026)'!$A:$C,3,FALSE)-VLOOKUP(N$10,'Arriva tarieventabel (2026)'!$A:$C,3,FALSE)), O$10+(VLOOKUP(N23,'Arriva tarieventabel (2026)'!$A:$C,2,FALSE)-VLOOKUP(N$10,'Arriva tarieventabel (2026)'!$A:$C,2,FALSE))) -> 11.25 | P23: =IF(P$4="2e klas", P$10+(VLOOKUP(N23,'Arriva tarieventabel (2026)'!$A:$C,3,FALSE)-VLOOKUP(N$10,'Arriva tarieventabel (2026)'!$A:$C,3,FALSE)), P$10+(VLOOKUP(N23,'Arriva tarieventabel (2026)'!$A:$C,2,FALSE)-VLOOKUP(N$10,'Arriva tarieventabel (2026)'!$A:$C,2,FALSE))) -> 19.91 | Q23: 36 | R23: =VLOOKUP(Q23,'Arriva tarieventabel (2026)'!$A:$C,3,FALSE)*1 -> 9.42 | S23: =VLOOKUP(Q23,'Arriva tarieventabel (2026)'!$A:$C,2,FALSE)*1 -> 15.14 | T23: =Q23-Q$11 -> 35 | U23: =VLOOKUP(T23,'Arriva tarieventabel (2026)'!$A:$C,3,FALSE)*1 -> 9.19 | V23: =VLOOKUP(T23,'Arriva tarieventabel (2026)'!$A:$C,2,FALSE)*1 -> 14.75 | W23: =T23-T$12 -> 32 | X23: =VLOOKUP(W23,'Arriva tarieventabel (2026)'!$A:$C,3,FALSE)*1 -> 8.5 | Y23: =VLOOKUP(W23,'Arriva tarieventabel (2026)'!$A:$C,2,FALSE)*1 -> 13.59 | Z23: =W23-W$13 -> 29 | AA23: =VLOOKUP(Z23,'Arriva tarieventabel (2026)'!$A:$C,3,FALSE)*1 -> 7.81 | AB23: =VLOOKUP(Z23,'Arriva tarieventabel (2026)'!$A:$C,2,FALSE)*1 -> 12.42 | AC23: =Z23-Z$14 -> 25 | AD23: =VLOOKUP(AC23,'Arriva tarieventabel (2026)'!$A:$C,3,FALSE)*1 -> 6.89 | AE23: =VLOOKUP(AC23,'Arriva tarieventabel (2026)'!$A:$C,2,FALSE)*1 -> 10.87 | AF23: =AC23-AC$15 -> 22 | AG23: =VLOOKUP(AF23,'Arriva tarieventabel (2026)'!$A:$C,3,FALSE)*1 -> 6.2 | AH23: =VLOOKUP(AF23,'Arriva tarieventabel (2026)'!$A:$C,2,FALSE)*1 -> 9.7 | AI23: =AF23-AF$16 -> 19 | AJ23: =VLOOKUP(AI23,'Arriva tarieventabel (2026)'!$A:$C,3,FALSE)*1 -> 5.52 | AK23: =VLOOKUP(AI23,'Arriva tarieventabel (2026)'!$A:$C,2,FALSE)*1 -> 8.54 | AL23: =AI23-AI$17 -> 17 | AM23: =VLOOKUP(AL23,'Arriva tarieventabel (2026)'!$A:$C,3,FALSE)*1 -> 5.06 | AN23: =VLOOKUP(AL23,'Arriva tarieventabel (2026)'!$A:$C,2,FALSE)*1 -> 7.76 | AO23: =AL23-AL$18 -> 13 | AP23: =VLOOKUP(AO23,'Arriva tarieventabel (2026)'!$A:$C,3,FALSE)*1 -> 4.14 | AQ23: =VLOOKUP(AO23,'Arriva tarieventabel (2026)'!$A:$C,2,FALSE)*1 -> 6.21 | AR23: =AO23-AO$19 -> 11 | AS23: =VLOOKUP(AR23,'Arriva tarieventabel (2026)'!$A:$C,3,FALSE)*1 -> 3.68 | AT23: =VLOOKUP(AR23,'Arriva tarieventabel (2026)'!$A:$C,2,FALSE)*1 -> 5.43 | AU23: =AR23-AR$20 -> 9 | AV23: =VLOOKUP(AU23,'Arriva tarieventabel (2026)'!$A:$C,3,FALSE)*1 -> 3.22 | AW23: =VLOOKUP(AU23,'Arriva tarieventabel (2026)'!$A:$C,2,FALSE)*1 -> 4.66 | AX23: =AU23-AU$21 -> 6 | AY23: =VLOOKUP(AX23,'Arriva tarieventabel (2026)'!$A:$C,3,FALSE)*1 -> 2.54 | AZ23: =VLOOKUP(AX23,'Arriva tarieventabel (2026)'!$A:$C,2,FALSE)*1 -> 3.49 | BA23: =AX23-AX22 -> 3 | BB23: =VLOOKUP(BA23,'Arriva tarieventabel (2026)'!$A:$C,3,FALSE)*1 -> 1.85 | BC23: =VLOOKUP(BA23,'Arriva tarieventabel (2026)'!$A:$C,2,FALSE)*1 -> 2.32 | BG23: 1 | BH23: =IF(BH$4="2e klas", (VLOOKUP(BG23,'Arriva tarieventabel (2026)'!$A:$C,3,FALSE))*1, (VLOOKUP(BG23,'Arriva tarieventabel (2026)'!$A:$C,2,FALSE)))*1 -> 1.39 | BI23: =IF(BI$4="2e klas", (VLOOKUP(BG23,'Arriva tarieventabel (2026)'!$A:$C,3,FALSE))*1, (VLOOKUP(BG23,'Arriva tarieventabel (2026)'!$A:$C,2,FALSE)))*1 -> 1.55 | BJ23: =BG23+$BJ$24 -> 12 | BK23: =IF(BK$4="2e klas", (VLOOKUP(BJ23,'Arriva tarieventabel (2026)'!$A:$C,3,FALSE))*1, (VLOOKUP(BJ23,'Arriva tarieventabel (2026)'!$A:$C,2,FALSE)))*1 -> 3.91 | BL23: =IF(BL$4="2e klas", (VLOOKUP(BJ23,'Arriva tarieventabel (2026)'!$A:$C,3,FALSE))*1, (VLOOKUP(BJ23,'Arriva tarieventabel (2026)'!$A:$C,2,FALSE)))*1 -> 5.82 | BM23: =BJ23+$BM$25 -> 15 | BN23: =IF(BN$4="2e klas", (VLOOKUP(BM23,'Arriva tarieventabel (2026)'!$A:$C,3,FALSE))*1, (VLOOKUP(BM23,'Arriva tarieventabel (2026)'!$A:$C,2,FALSE)))*1 -> 4.6 | BO23: =IF(BO$4="2e klas", (VLOOKUP(BM23,'Arriva tarieventabel (2026)'!$A:$C,3,FALSE))*1, (VLOOKUP(BM23,'Arriva tarieventabel (2026)'!$A:$C,2,FALSE)))*1 -> 6.99 | BP23: 8 | BQ23: =IF(BQ$4="2e klas", (VLOOKUP(BP23,'Arriva tarieventabel (2026)'!$A:$C,3,FALSE))*1, (VLOOKUP(BP23,'Arriva tarieventabel (2026)'!$A:$C,2,FALSE)))*1 -> 2.99 | BR23: =IF(BR$4="2e klas", (VLOOKUP(BP23,'Arriva tarieventabel (2026)'!$A:$C,3,FALSE))*1, (VLOOKUP(BP23,'Arriva tarieventabel (2026)'!$A:$C,2,FALSE)))*1 -> 4.27 | BS23: =$BP23+$BS$27 -> 9 | BT23: =IF(BT$4="2e klas", (VLOOKUP(BS23,'Arriva tarieventabel (2026)'!$A:$C,3,FALSE))*1, (VLOOKUP(BS23,'Arriva tarieventabel (2026)'!$A:$C,2,FALSE)))*1 -> 3.22 | BU23: =IF(BU$4="2e klas", (VLOOKUP(BS23,'Arriva tarieventabel (2026)'!$A:$C,3,FALSE))*1, (VLOOKUP(BS23,'Arriva tarieventabel (2026)'!$A:$C,2,FALSE)))*1 -> 4.66 | BV23: =$BP23+$BV$27 -> 11 | BW23: =IF(BW$4="2e klas", (VLOOKUP(BV23,'Arriva tarieventabel (2026)'!$A:$C,3,FALSE))*1, (VLOOKUP(BV23,'Arriva tarieventabel (2026)'!$A:$C,2,FALSE)))*1 -> 3.68 | BX23: =IF(BX$4="2e klas", (VLOOKUP(BV23,'Arriva tarieventabel (2026)'!$A:$C,3,FALSE))*1, (VLOOKUP(BV23,'Arriva tarieventabel (2026)'!$A:$C,2,FALSE)))*1 -> 5.43
A24: Herzogenrath | B24: 47 | C24: =IF(C$4="2e klas", C$10+(VLOOKUP(B24,'Arriva tarieventabel (2026)'!$A:$C,3,FALSE)-VLOOKUP(B$10,'Arriva tarieventabel (2026)'!$A:$C,3,FALSE)), C$10+(VLOOKUP(B24,'Arriva tarieventabel (2026)'!$A:$C,2,FALSE)-VLOOKUP(B$10,'Arriva tarieventabel (2026)'!$A:$C,2,FALSE))) -> 16.87 | D24: =IF(D$4="2e klas", D$10+(VLOOKUP(B24,'Arriva tarieventabel (2026)'!$A:$C,3,FALSE)-VLOOKUP(B$10,'Arriva tarieventabel (2026)'!$A:$C,3,FALSE)), D$10+(VLOOKUP(B24,'Arriva tarieventabel (2026)'!$A:$C,2,FALSE)-VLOOKUP(B$10,'Arriva tarieventabel (2026)'!$A:$C,2,FALSE))) -> 27.1 | E24: =$B24 -> 47 | F24: =IF(F$4="2e klas", F$10+(VLOOKUP(E24,'Arriva tarieventabel (2026)'!$A:$C,3,FALSE)-VLOOKUP(E$10,'Arriva tarieventabel (2026)'!$A:$C,3,FALSE)), F$10+(VLOOKUP(E24,'Arriva tarieventabel (2026)'!$A:$C,2,FALSE)-VLOOKUP(E$10,'Arriva tarieventabel (2026)'!$A:$C,2,FALSE))) -> 16.87 | G24: =IF(G$4="2e klas", G$10+(VLOOKUP(E24,'Arriva tarieventabel (2026)'!$A:$C,3,FALSE)-VLOOKUP(E$10,'Arriva tarieventabel (2026)'!$A:$C,3,FALSE)), G$10+(VLOOKUP(E24,'Arriva tarieventabel (2026)'!$A:$C,2,FALSE)-VLOOKUP(E$10,'Arriva tarieventabel (2026)'!$A:$C,2,FALSE))) -> 27.1 | H24: =$B24 -> 47 | I24: =IF(I$4="2e klas", I$10+(VLOOKUP(H24,'Arriva tarieventabel (2026)'!$A:$C,3,FALSE)-VLOOKUP(H$10,'Arriva tarieventabel (2026)'!$A:$C,3,FALSE)), I$10+(VLOOKUP(H24,'Arriva tarieventabel (2026)'!$A:$C,2,FALSE)-VLOOKUP(H$10,'Arriva tarieventabel (2026)'!$A:$C,2,FALSE))) -> 14.47 | J24: =IF(J$4="2e klas", J$10+(VLOOKUP(H24,'Arriva tarieventabel (2026)'!$A:$C,3,FALSE)-VLOOKUP(H$10,'Arriva tarieventabel (2026)'!$A:$C,3,FALSE)), J$10+(VLOOKUP(H24,'Arriva tarieventabel (2026)'!$A:$C,2,FALSE)-VLOOKUP(H$10,'Arriva tarieventabel (2026)'!$A:$C,2,FALSE))) -> 23.9 | K24: =$B24 -> 47 | L24: =IF(L$4="2e klas", L$10+(VLOOKUP(K24,'Arriva tarieventabel (2026)'!$A:$C,3,FALSE)-VLOOKUP(K$10,'Arriva tarieventabel (2026)'!$A:$C,3,FALSE)), L$10+(VLOOKUP(K24,'Arriva tarieventabel (2026)'!$A:$C,2,FALSE)-VLOOKUP(K$10,'Arriva tarieventabel (2026)'!$A:$C,2,FALSE))) -> 11.97 | M24: =IF(M$4="2e klas", M$10+(VLOOKUP(K24,'Arriva tarieventabel (2026)'!$A:$C,3,FALSE)-VLOOKUP(K$10,'Arriva tarieventabel (2026)'!$A:$C,3,FALSE)), M$10+(VLOOKUP(K24,'Arriva tarieventabel (2026)'!$A:$C,2,FALSE)-VLOOKUP(K$10,'Arriva tarieventabel (2026)'!$A:$C,2,FALSE))) -> 20.3 | N24: =$B24-$K$9 -> 45 | O24: =IF(O$4="2e klas", O$10+(VLOOKUP(N24,'Arriva tarieventabel (2026)'!$A:$C,3,FALSE)-VLOOKUP(N$10,'Arriva tarieventabel (2026)'!$A:$C,3,FALSE)), O$10+(VLOOKUP(N24,'Arriva tarieventabel (2026)'!$A:$C,2,FALSE)-VLOOKUP(N$10,'Arriva tarieventabel (2026)'!$A:$C,2,FALSE))) -> 11.48 | P24: =IF(P$4="2e klas", P$10+(VLOOKUP(N24,'Arriva tarieventabel (2026)'!$A:$C,3,FALSE)-VLOOKUP(N$10,'Arriva tarieventabel (2026)'!$A:$C,3,FALSE)), P$10+(VLOOKUP(N24,'Arriva tarieventabel (2026)'!$A:$C,2,FALSE)-VLOOKUP(N$10,'Arriva tarieventabel (2026)'!$A:$C,2,FALSE))) -> 20.3 | Q24: 37 | R24: =VLOOKUP(Q24,'Arriva tarieventabel (2026)'!$A:$C,3,FALSE)*1 -> 9.65 | S24: =VLOOKUP(Q24,'Arriva tarieventabel (2026)'!$A:$C,2,FALSE)*1 -> 15.53 | T24: =Q24-Q$11 -> 36 | U24: =VLOOKUP(T24,'Arriva tarieventabel (2026)'!$A:$C,3,FALSE)*1 -> 9.42 | V24: =VLOOKUP(T24,'Arriva tarieventabel (2026)'!$A:$C,2,FALSE)*1 -> 15.14 | W24: =T24-T$12 -> 33 | X24: =VLOOKUP(W24,'Arriva tarieventabel (2026)'!$A:$C,3,FALSE)*1 -> 8.73 | Y24: =VLOOKUP(W24,'Arriva tarieventabel (2026)'!$A:$C,2,FALSE)*1 -> 13.98 | Z24: =W24-W$13 -> 30 | AA24: =VLOOKUP(Z24,'Arriva tarieventabel (2026)'!$A:$C,3,FALSE)*1 -> 8.04 | AB24: =VLOOKUP(Z24,'Arriva tarieventabel (2026)'!$A:$C,2,FALSE)*1 -> 12.81 | AC24: =Z24-Z$14 -> 26 | AD24: =VLOOKUP(AC24,'Arriva tarieventabel (2026)'!$A:$C,3,FALSE)*1 -> 7.12 | AE24: =VLOOKUP(AC24,'Arriva tarieventabel (2026)'!$A:$C,2,FALSE)*1 -> 11.26 | AF24: =AC24-AC$15 -> 23 | AG24: =VLOOKUP(AF24,'Arriva tarieventabel (2026)'!$A:$C,3,FALSE)*1 -> 6.43 | AH24: =VLOOKUP(AF24,'Arriva tarieventabel (2026)'!$A:$C,2,FALSE)*1 -> 10.09 | AI24: =AF24-AF$16 -> 20 | AJ24: =VLOOKUP(AI24,'Arriva tarieventabel (2026)'!$A:$C,3,FALSE)*1 -> 5.75 | AK24: =VLOOKUP(AI24,'Arriva tarieventabel (2026)'!$A:$C,2,FALSE)*1 -> 8.93 | AL24: =AI24-AI$17 -> 18 | AM24: =VLOOKUP(AL24,'Arriva tarieventabel (2026)'!$A:$C,3,FALSE)*1 -> 5.29 | AN24: =VLOOKUP(AL24,'Arriva tarieventabel (2026)'!$A:$C,2,FALSE)*1 -> 8.15 | AO24: =AL24-AL$18 -> 14 | AP24: =VLOOKUP(AO24,'Arriva tarieventabel (2026)'!$A:$C,3,FALSE)*1 -> 4.37 | AQ24: =VLOOKUP(AO24,'Arriva tarieventabel (2026)'!$A:$C,2,FALSE)*1 -> 6.6 | AR24: =AO24-AO$19 -> 12 | AS24: =VLOOKUP(AR24,'Arriva tarieventabel (2026)'!$A:$C,3,FALSE)*1 -> 3.91 | AT24: =VLOOKUP(AR24,'Arriva tarieventabel (2026)'!$A:$C,2,FALSE)*1 -> 5.82 | AU24: =AR24-AR$20 -> 10 | AV24: =VLOOKUP(AU24,'Arriva tarieventabel (2026)'!$A:$C,3,FALSE)*1 -> 3.45 | AW24: =VLOOKUP(AU24,'Arriva tarieventabel (2026)'!$A:$C,2,FALSE)*1 -> 5.04 | AX24: =AU24-AU$21 -> 7 | AY24: =VLOOKUP(AX24,'Arriva tarieventabel (2026)'!$A:$C,3,FALSE)*1 -> 2.76 | AZ24: =VLOOKUP(AX24,'Arriva tarieventabel (2026)'!$A:$C,2,FALSE)*1 -> 3.88 | BA24: =AX24-AX$22 -> 4 | BB24: =VLOOKUP(BA24,'Arriva tarieventabel (2026)'!$A:$C,3,FALSE)*1 -> 2.08 | BC24: =VLOOKUP(BA24,'Arriva tarieventabel (2026)'!$A:$C,2,FALSE)*1 -> 2.71 | BD24: =BA24-BA23 -> 1 | BE24: =VLOOKUP(BD24,'Arriva tarieventabel (2026)'!$A:$C,3,FALSE)*1 -> 1.39 | BF24: =VLOOKUP(BD24,'Arriva tarieventabel (2026)'!$A:$C,2,FALSE)*1 -> 1.55 | BJ24: 11 | BK24: =IF(BK$4="2e klas", (VLOOKUP(BJ24,'Arriva tarieventabel (2026)'!$A:$C,3,FALSE))*1, (VLOOKUP(BJ24,'Arriva tarieventabel (2026)'!$A:$C,2,FALSE)))*1 -> 3.68 | BL24: =IF(BL$4="2e klas", (VLOOKUP(BJ24,'Arriva tarieventabel (2026)'!$A:$C,3,FALSE))*1, (VLOOKUP(BJ24,'Arriva tarieventabel (2026)'!$A:$C,2,FALSE)))*1 -> 5.43 | BM24: =BJ24+$BM$25 -> 14 | BN24: =IF(BN$4="2e klas", (VLOOKUP(BM24,'Arriva tarieventabel (2026)'!$A:$C,3,FALSE))*1, (VLOOKUP(BM24,'Arriva tarieventabel (2026)'!$A:$C,2,FALSE)))*1 -> 4.37 | BO24: =IF(BO$4="2e klas", (VLOOKUP(BM24,'Arriva tarieventabel (2026)'!$A:$C,3,FALSE))*1, (VLOOKUP(BM24,'Arriva tarieventabel (2026)'!$A:$C,2,FALSE)))*1 -> 6.6 | BP24: 9 | BQ24: =IF(BQ$4="2e klas", (VLOOKUP(BP24,'Arriva tarieventabel (2026)'!$A:$C,3,FALSE))*1, (VLOOKUP(BP24,'Arriva tarieventabel (2026)'!$A:$C,2,FALSE)))*1 -> 3.22 | BR24: =IF(BR$4="2e klas", (VLOOKUP(BP24,'Arriva tarieventabel (2026)'!$A:$C,3,FALSE))*1, (VLOOKUP(BP24,'Arriva tarieventabel (2026)'!$A:$C,2,FALSE)))*1 -> 4.66 | BS24: =$BP24+$BS$27 -> 10 | BT24: =IF(BT$4="2e klas", (VLOOKUP(BS24,'Arriva tarieventabel (2026)'!$A:$C,3,FALSE))*1, (VLOOKUP(BS24,'Arriva tarieventabel (2026)'!$A:$C,2,FALSE)))*1 -> 3.45 | BU24: =IF(BU$4="2e klas", (VLOOKUP(BS24,'Arriva tarieventabel (2026)'!$A:$C,3,FALSE))*1, (VLOOKUP(BS24,'Arriva tarieventabel (2026)'!$A:$C,2,FALSE)))*1 -> 5.04 | BV24: =$BP24+$BV$27 -> 12 | BW24: =IF(BW$4="2e klas", (VLOOKUP(BV24,'Arriva tarieventabel (2026)'!$A:$C,3,FALSE))*1, (VLOOKUP(BV24,'Arriva tarieventabel (2026)'!$A:$C,2,FALSE)))*1 -> 3.91 | BX24: =IF(BX$4="2e klas", (VLOOKUP(BV24,'Arriva tarieventabel (2026)'!$A:$C,3,FALSE))*1, (VLOOKUP(BV24,'Arriva tarieventabel (2026)'!$A:$C,2,FALSE)))*1 -> 5.82
A25: Aachen West | B25: 58 | C25: =IF(C$4="2e klas", C$10+(VLOOKUP(B25,'Arriva tarieventabel (2026)'!$A:$C,3,FALSE)-VLOOKUP(B$10,'Arriva tarieventabel (2026)'!$A:$C,3,FALSE)), C$10+(VLOOKUP(B25,'Arriva tarieventabel (2026)'!$A:$C,2,FALSE)-VLOOKUP(B$10,'Arriva tarieventabel (2026)'!$A:$C,2,FALSE))) -> 19.37 | D25: =IF(D$4="2e klas", D$10+(VLOOKUP(B25,'Arriva tarieventabel (2026)'!$A:$C,3,FALSE)-VLOOKUP(B$10,'Arriva tarieventabel (2026)'!$A:$C,3,FALSE)), D$10+(VLOOKUP(B25,'Arriva tarieventabel (2026)'!$A:$C,2,FALSE)-VLOOKUP(B$10,'Arriva tarieventabel (2026)'!$A:$C,2,FALSE))) -> 31.33 | E25: =$B25 -> 58 | F25: =IF(F$4="2e klas", F$10+(VLOOKUP(E25,'Arriva tarieventabel (2026)'!$A:$C,3,FALSE)-VLOOKUP(E$10,'Arriva tarieventabel (2026)'!$A:$C,3,FALSE)), F$10+(VLOOKUP(E25,'Arriva tarieventabel (2026)'!$A:$C,2,FALSE)-VLOOKUP(E$10,'Arriva tarieventabel (2026)'!$A:$C,2,FALSE))) -> 19.37 | G25: =IF(G$4="2e klas", G$10+(VLOOKUP(E25,'Arriva tarieventabel (2026)'!$A:$C,3,FALSE)-VLOOKUP(E$10,'Arriva tarieventabel (2026)'!$A:$C,3,FALSE)), G$10+(VLOOKUP(E25,'Arriva tarieventabel (2026)'!$A:$C,2,FALSE)-VLOOKUP(E$10,'Arriva tarieventabel (2026)'!$A:$C,2,FALSE))) -> 31.33 | H25: =$B25 -> 58 | I25: =IF(I$4="2e klas", I$10+(VLOOKUP(H25,'Arriva tarieventabel (2026)'!$A:$C,3,FALSE)-VLOOKUP(H$10,'Arriva tarieventabel (2026)'!$A:$C,3,FALSE)), I$10+(VLOOKUP(H25,'Arriva tarieventabel (2026)'!$A:$C,2,FALSE)-VLOOKUP(H$10,'Arriva tarieventabel (2026)'!$A:$C,2,FALSE))) -> 16.97 | J25: =IF(J$4="2e klas", J$10+(VLOOKUP(H25,'Arriva tarieventabel (2026)'!$A:$C,3,FALSE)-VLOOKUP(H$10,'Arriva tarieventabel (2026)'!$A:$C,3,FALSE)), J$10+(VLOOKUP(H25,'Arriva tarieventabel (2026)'!$A:$C,2,FALSE)-VLOOKUP(H$10,'Arriva tarieventabel (2026)'!$A:$C,2,FALSE))) -> 28.13 | K25: =$B25 -> 58 | L25: =IF(L$4="2e klas", L$10+(VLOOKUP(K25,'Arriva tarieventabel (2026)'!$A:$C,3,FALSE)-VLOOKUP(K$10,'Arriva tarieventabel (2026)'!$A:$C,3,FALSE)), L$10+(VLOOKUP(K25,'Arriva tarieventabel (2026)'!$A:$C,2,FALSE)-VLOOKUP(K$10,'Arriva tarieventabel (2026)'!$A:$C,2,FALSE))) -> 14.47 | M25: =IF(M$4="2e klas", M$10+(VLOOKUP(K25,'Arriva tarieventabel (2026)'!$A:$C,3,FALSE)-VLOOKUP(K$10,'Arriva tarieventabel (2026)'!$A:$C,3,FALSE)), M$10+(VLOOKUP(K25,'Arriva tarieventabel (2026)'!$A:$C,2,FALSE)-VLOOKUP(K$10,'Arriva tarieventabel (2026)'!$A:$C,2,FALSE))) -> 24.53 | N25: =$B25-$K$9 -> 56 | O25: =IF(O$4="2e klas", O$10+(VLOOKUP(N25,'Arriva tarieventabel (2026)'!$A:$C,3,FALSE)-VLOOKUP(N$10,'Arriva tarieventabel (2026)'!$A:$C,3,FALSE)), O$10+(VLOOKUP(N25,'Arriva tarieventabel (2026)'!$A:$C,2,FALSE)-VLOOKUP(N$10,'Arriva tarieventabel (2026)'!$A:$C,2,FALSE))) -> 13.98 | P25: =IF(P$4="2e klas", P$10+(VLOOKUP(N25,'Arriva tarieventabel (2026)'!$A:$C,3,FALSE)-VLOOKUP(N$10,'Arriva tarieventabel (2026)'!$A:$C,3,FALSE)), P$10+(VLOOKUP(N25,'Arriva tarieventabel (2026)'!$A:$C,2,FALSE)-VLOOKUP(N$10,'Arriva tarieventabel (2026)'!$A:$C,2,FALSE))) -> 24.53 | Q25: 48 | R25: =VLOOKUP(Q25,'Arriva tarieventabel (2026)'!$A:$C,3,FALSE)*1 -> 12.15 | S25: =VLOOKUP(Q25,'Arriva tarieventabel (2026)'!$A:$C,2,FALSE)*1 -> 19.77 | T25: =Q25-Q$11 -> 47 | U25: =VLOOKUP(T25,'Arriva tarieventabel (2026)'!$A:$C,3,FALSE)*1 -> 11.92 | V25: =VLOOKUP(T25,'Arriva tarieventabel (2026)'!$A:$C,2,FALSE)*1 -> 19.39 | W25: =T25-T$12 -> 44 | X25: =VLOOKUP(W25,'Arriva tarieventabel (2026)'!$A:$C,3,FALSE)*1 -> 11.24 | Y25: =VLOOKUP(W25,'Arriva tarieventabel (2026)'!$A:$C,2,FALSE)*1 -> 18.23 | Z25: =W25-W$13 -> 41 | AA25: =VLOOKUP(Z25,'Arriva tarieventabel (2026)'!$A:$C,3,FALSE)*1 -> 10.56 | AB25: =VLOOKUP(Z25,'Arriva tarieventabel (2026)'!$A:$C,2,FALSE)*1 -> 17.08 | AC25: =Z25-Z$14 -> 37 | AD25: =VLOOKUP(AC25,'Arriva tarieventabel (2026)'!$A:$C,3,FALSE)*1 -> 9.65 | AE25: =VLOOKUP(AC25,'Arriva tarieventabel (2026)'!$A:$C,2,FALSE)*1 -> 15.53 | AF25: =AC25-AC$15 -> 34 | AG25: =VLOOKUP(AF25,'Arriva tarieventabel (2026)'!$A:$C,3,FALSE)*1 -> 8.96 | AH25: =VLOOKUP(AF25,'Arriva tarieventabel (2026)'!$A:$C,2,FALSE)*1 -> 14.37 | AI25: =AF25-AF$16 -> 31 | AJ25: =VLOOKUP(AI25,'Arriva tarieventabel (2026)'!$A:$C,3,FALSE)*1 -> 8.27 | AK25: =VLOOKUP(AI25,'Arriva tarieventabel (2026)'!$A:$C,2,FALSE)*1 -> 13.2 | AL25: =AI25-AI$17 -> 29 | AM25: =VLOOKUP(AL25,'Arriva tarieventabel (2026)'!$A:$C,3,FALSE)*1 -> 7.81 | AN25: =VLOOKUP(AL25,'Arriva tarieventabel (2026)'!$A:$C,2,FALSE)*1 -> 12.42 | AO25: =AL25-AL$18 -> 25 | AP25: =VLOOKUP(AO25,'Arriva tarieventabel (2026)'!$A:$C,3,FALSE)*1 -> 6.89 | AQ25: =VLOOKUP(AO25,'Arriva tarieventabel (2026)'!$A:$C,2,FALSE)*1 -> 10.87 | AR25: =AO25-AO$19 -> 23 | AS25: =VLOOKUP(AR25,'Arriva tarieventabel (2026)'!$A:$C,3,FALSE)*1 -> 6.43 | AT25: =VLOOKUP(AR25,'Arriva tarieventabel (2026)'!$A:$C,2,FALSE)*1 -> 10.09 | AU25: =AR25-AR$20 -> 21 | AV25: =VLOOKUP(AU25,'Arriva tarieventabel (2026)'!$A:$C,3,FALSE)*1 -> 5.98 | AW25: =VLOOKUP(AU25,'Arriva tarieventabel (2026)'!$A:$C,2,FALSE)*1 -> 9.32 | AX25: =AU25-AU$21 -> 18 | AY25: =VLOOKUP(AX25,'Arriva tarieventabel (2026)'!$A:$C,3,FALSE)*1 -> 5.29 | AZ25: =VLOOKUP(AX25,'Arriva tarieventabel (2026)'!$A:$C,2,FALSE)*1 -> 8.15 | BA25: =AX25-AX$22 -> 15 | BB25: =VLOOKUP(BA25,'Arriva tarieventabel (2026)'!$A:$C,3,FALSE)*1 -> 4.6 | BC25: =VLOOKUP(BA25,'Arriva tarieventabel (2026)'!$A:$C,2,FALSE)*1 -> 6.99 | BD25: =BA25-BA$18 -> 5 | BE25: =VLOOKUP(BD25,'Arriva tarieventabel (2026)'!$A:$C,3,FALSE)*1 -> 2.31 | BF25: =VLOOKUP(BD25,'Arriva tarieventabel (2026)'!$A:$C,2,FALSE)*1 -> 3.1 | BG25: =BD25-BD24 -> 4 | BH25: =VLOOKUP(BG25,'Arriva tarieventabel (2026)'!$A:$C,3,FALSE)*1 -> 2.08 | BI25: =VLOOKUP(BG25,'Arriva tarieventabel (2026)'!$A:$C,2,FALSE)*1 -> 2.71 | BM25: 3 | BN25: =IF(BN$4="2e klas", (VLOOKUP(BM25,'Arriva tarieventabel (2026)'!$A:$C,3,FALSE))*1, (VLOOKUP(BM25,'Arriva tarieventabel (2026)'!$A:$C,2,FALSE)))*1 -> 1.85 | BO25: =IF(BO$4="2e klas", (VLOOKUP(BM25,'Arriva tarieventabel (2026)'!$A:$C,3,FALSE))*1, (VLOOKUP(BM25,'Arriva tarieventabel (2026)'!$A:$C,2,FALSE)))*1 -> 2.32 | BP25: 20 | BQ25: =IF(BQ$4="2e klas", (VLOOKUP(BP25,'Arriva tarieventabel (2026)'!$A:$C,3,FALSE))*1, (VLOOKUP(BP25,'Arriva tarieventabel (2026)'!$A:$C,2,FALSE)))*1 -> 5.75 | BR25: =IF(BR$4="2e klas", (VLOOKUP(BP25,'Arriva tarieventabel (2026)'!$A:$C,3,FALSE))*1, (VLOOKUP(BP25,'Arriva tarieventabel (2026)'!$A:$C,2,FALSE)))*1 -> 8.93 | BS25: =$BP25+$BS$27 -> 21 | BT25: =IF(BT$4="2e klas", (VLOOKUP(BS25,'Arriva tarieventabel (2026)'!$A:$C,3,FALSE))*1, (VLOOKUP(BS25,'Arriva tarieventabel (2026)'!$A:$C,2,FALSE)))*1 -> 5.98 | BU25: =IF(BU$4="2e klas", (VLOOKUP(BS25,'Arriva tarieventabel (2026)'!$A:$C,3,FALSE))*1, (VLOOKUP(BS25,'Arriva tarieventabel (2026)'!$A:$C,2,FALSE)))*1 -> 9.32 | BV25: =$BP25+$BV$27 -> 23 | BW25: =IF(BW$4="2e klas", (VLOOKUP(BV25,'Arriva tarieventabel (2026)'!$A:$C,3,FALSE))*1, (VLOOKUP(BV25,'Arriva tarieventabel (2026)'!$A:$C,2,FALSE)))*1 -> 6.43 | BX25: =IF(BX$4="2e klas", (VLOOKUP(BV25,'Arriva tarieventabel (2026)'!$A:$C,3,FALSE))*1, (VLOOKUP(BV25,'Arriva tarieventabel (2026)'!$A:$C,2,FALSE)))*1 -> 10.09
A26: Aachen Hbf. | B26: 61 | C26: =IF(C$4="2e klas", C$10+(VLOOKUP(B26,'Arriva tarieventabel (2026)'!$A:$C,3,FALSE)-VLOOKUP(B$10,'Arriva tarieventabel (2026)'!$A:$C,3,FALSE)), C$10+(VLOOKUP(B26,'Arriva tarieventabel (2026)'!$A:$C,2,FALSE)-VLOOKUP(B$10,'Arriva tarieventabel (2026)'!$A:$C,2,FALSE))) -> 20.05 | D26: =IF(D$4="2e klas", D$10+(VLOOKUP(B26,'Arriva tarieventabel (2026)'!$A:$C,3,FALSE)-VLOOKUP(B$10,'Arriva tarieventabel (2026)'!$A:$C,3,FALSE)), D$10+(VLOOKUP(B26,'Arriva tarieventabel (2026)'!$A:$C,2,FALSE)-VLOOKUP(B$10,'Arriva tarieventabel (2026)'!$A:$C,2,FALSE))) -> 32.48 | E26: =$B26 -> 61 | F26: =IF(F$4="2e klas", F$10+(VLOOKUP(E26,'Arriva tarieventabel (2026)'!$A:$C,3,FALSE)-VLOOKUP(E$10,'Arriva tarieventabel (2026)'!$A:$C,3,FALSE)), F$10+(VLOOKUP(E26,'Arriva tarieventabel (2026)'!$A:$C,2,FALSE)-VLOOKUP(E$10,'Arriva tarieventabel (2026)'!$A:$C,2,FALSE))) -> 20.05 | G26: =IF(G$4="2e klas", G$10+(VLOOKUP(E26,'Arriva tarieventabel (2026)'!$A:$C,3,FALSE)-VLOOKUP(E$10,'Arriva tarieventabel (2026)'!$A:$C,3,FALSE)), G$10+(VLOOKUP(E26,'Arriva tarieventabel (2026)'!$A:$C,2,FALSE)-VLOOKUP(E$10,'Arriva tarieventabel (2026)'!$A:$C,2,FALSE))) -> 32.48 | H26: =$B26 -> 61 | I26: =IF(I$4="2e klas", I$10+(VLOOKUP(H26,'Arriva tarieventabel (2026)'!$A:$C,3,FALSE)-VLOOKUP(H$10,'Arriva tarieventabel (2026)'!$A:$C,3,FALSE)), I$10+(VLOOKUP(H26,'Arriva tarieventabel (2026)'!$A:$C,2,FALSE)-VLOOKUP(H$10,'Arriva tarieventabel (2026)'!$A:$C,2,FALSE))) -> 17.65 | J26: =IF(J$4="2e klas", J$10+(VLOOKUP(H26,'Arriva tarieventabel (2026)'!$A:$C,3,FALSE)-VLOOKUP(H$10,'Arriva tarieventabel (2026)'!$A:$C,3,FALSE)), J$10+(VLOOKUP(H26,'Arriva tarieventabel (2026)'!$A:$C,2,FALSE)-VLOOKUP(H$10,'Arriva tarieventabel (2026)'!$A:$C,2,FALSE))) -> 29.28 | K26: =$B26 -> 61 | L26: =IF(L$4="2e klas", L$10+(VLOOKUP(K26,'Arriva tarieventabel (2026)'!$A:$C,3,FALSE)-VLOOKUP(K$10,'Arriva tarieventabel (2026)'!$A:$C,3,FALSE)), L$10+(VLOOKUP(K26,'Arriva tarieventabel (2026)'!$A:$C,2,FALSE)-VLOOKUP(K$10,'Arriva tarieventabel (2026)'!$A:$C,2,FALSE))) -> 15.15 | M26: =IF(M$4="2e klas", M$10+(VLOOKUP(K26,'Arriva tarieventabel (2026)'!$A:$C,3,FALSE)-VLOOKUP(K$10,'Arriva tarieventabel (2026)'!$A:$C,3,FALSE)), M$10+(VLOOKUP(K26,'Arriva tarieventabel (2026)'!$A:$C,2,FALSE)-VLOOKUP(K$10,'Arriva tarieventabel (2026)'!$A:$C,2,FALSE))) -> 25.68 | N26: =$B26-$K$9 -> 59 | O26: =IF(O$4="2e klas", O$10+(VLOOKUP(N26,'Arriva tarieventabel (2026)'!$A:$C,3,FALSE)-VLOOKUP(N$10,'Arriva tarieventabel (2026)'!$A:$C,3,FALSE)), O$10+(VLOOKUP(N26,'Arriva tarieventabel (2026)'!$A:$C,2,FALSE)-VLOOKUP(N$10,'Arriva tarieventabel (2026)'!$A:$C,2,FALSE))) -> 14.66 | P26: =IF(P$4="2e klas", P$10+(VLOOKUP(N26,'Arriva tarieventabel (2026)'!$A:$C,3,FALSE)-VLOOKUP(N$10,'Arriva tarieventabel (2026)'!$A:$C,3,FALSE)), P$10+(VLOOKUP(N26,'Arriva tarieventabel (2026)'!$A:$C,2,FALSE)-VLOOKUP(N$10,'Arriva tarieventabel (2026)'!$A:$C,2,FALSE))) -> 25.68 | Q26: 51 | R26: =VLOOKUP(Q26,'Arriva tarieventabel (2026)'!$A:$C,3,FALSE)*1 -> 12.83 | S26: =VLOOKUP(Q26,'Arriva tarieventabel (2026)'!$A:$C,2,FALSE)*1 -> 20.93 | T26: =Q26-Q$11 -> 50 | U26: =VLOOKUP(T26,'Arriva tarieventabel (2026)'!$A:$C,3,FALSE)*1 -> 12.6 | V26: =VLOOKUP(T26,'Arriva tarieventabel (2026)'!$A:$C,2,FALSE)*1 -> 20.54 | W26: =T26-T$12 -> 47 | X26: =VLOOKUP(W26,'Arriva tarieventabel (2026)'!$A:$C,3,FALSE)*1 -> 11.92 | Y26: =VLOOKUP(W26,'Arriva tarieventabel (2026)'!$A:$C,2,FALSE)*1 -> 19.39 | Z26: =W26-W$13 -> 44 | AA26: =VLOOKUP(Z26,'Arriva tarieventabel (2026)'!$A:$C,3,FALSE)*1 -> 11.24 | AB26: =VLOOKUP(Z26,'Arriva tarieventabel (2026)'!$A:$C,2,FALSE)*1 -> 18.23 | AC26: =Z26-Z$14 -> 40 | AD26: =VLOOKUP(AC26,'Arriva tarieventabel (2026)'!$A:$C,3,FALSE)*1 -> 10.33 | AE26: =VLOOKUP(AC26,'Arriva tarieventabel (2026)'!$A:$C,2,FALSE)*1 -> 16.7 | AF26: =AC26-AC$15 -> 37 | AG26: =VLOOKUP(AF26,'Arriva tarieventabel (2026)'!$A:$C,3,FALSE)*1 -> 9.65 | AH26: =VLOOKUP(AF26,'Arriva tarieventabel (2026)'!$A:$C,2,FALSE)*1 -> 15.53 | AI26: =AF26-AF$16 -> 34 | AJ26: =VLOOKUP(AI26,'Arriva tarieventabel (2026)'!$A:$C,3,FALSE)*1 -> 8.96 | AK26: =VLOOKUP(AI26,'Arriva tarieventabel (2026)'!$A:$C,2,FALSE)*1 -> 14.37 | AL26: =AI26-AI$17 -> 32 | AM26: =VLOOKUP(AL26,'Arriva tarieventabel (2026)'!$A:$C,3,FALSE)*1 -> 8.5 | AN26: =VLOOKUP(AL26,'Arriva tarieventabel (2026)'!$A:$C,2,FALSE)*1 -> 13.59 | AO26: =AL26-AL$18 -> 28 | AP26: =VLOOKUP(AO26,'Arriva tarieventabel (2026)'!$A:$C,3,FALSE)*1 -> 7.58 | AQ26: =VLOOKUP(AO26,'Arriva tarieventabel (2026)'!$A:$C,2,FALSE)*1 -> 12.04 | AR26: =AO26-AO$19 -> 26 | AS26: =VLOOKUP(AR26,'Arriva tarieventabel (2026)'!$A:$C,3,FALSE)*1 -> 7.12 | AT26: =VLOOKUP(AR26,'Arriva tarieventabel (2026)'!$A:$C,2,FALSE)*1 -> 11.26 | AU26: =AR26-AR$20 -> 24 | AV26: =VLOOKUP(AU26,'Arriva tarieventabel (2026)'!$A:$C,3,FALSE)*1 -> 6.66 | AW26: =VLOOKUP(AU26,'Arriva tarieventabel (2026)'!$A:$C,2,FALSE)*1 -> 10.48 | AX26: =AU26-AU$21 -> 21 | AY26: =VLOOKUP(AX26,'Arriva tarieventabel (2026)'!$A:$C,3,FALSE)*1 -> 5.98 | AZ26: =VLOOKUP(AX26,'Arriva tarieventabel (2026)'!$A:$C,2,FALSE)*1 -> 9.32 | BA26: =AX26-AX$22 -> 18 | BB26: =VLOOKUP(BA26,'Arriva tarieventabel (2026)'!$A:$C,3,FALSE)*1 -> 5.29 | BC26: =VLOOKUP(BA26,'Arriva tarieventabel (2026)'!$A:$C,2,FALSE)*1 -> 8.15 | BD26: =BA26-BA$18 -> 8 | BE26: =VLOOKUP(BD26,'Arriva tarieventabel (2026)'!$A:$C,3,FALSE)*1 -> 2.99 | BF26: =VLOOKUP(BD26,'Arriva tarieventabel (2026)'!$A:$C,2,FALSE)*1 -> 4.27 | BG26: =BD26-BD$24 -> 7 | BH26: =VLOOKUP(BG26,'Arriva tarieventabel (2026)'!$A:$C,3,FALSE)*1 -> 2.76 | BI26: =VLOOKUP(BG26,'Arriva tarieventabel (2026)'!$A:$C,2,FALSE)*1 -> 3.88 | BJ26: =BG26-BG25 -> 3 | BK26: =VLOOKUP(BJ26,'Arriva tarieventabel (2026)'!$A:$C,3,FALSE)*1 -> 1.85 | BL26: =VLOOKUP(BJ26,'Arriva tarieventabel (2026)'!$A:$C,2,FALSE)*1 -> 2.32 | BP26: 23 | BQ26: =IF(BQ$4="2e klas", (VLOOKUP(BP26,'Arriva tarieventabel (2026)'!$A:$C,3,FALSE))*1, (VLOOKUP(BP26,'Arriva tarieventabel (2026)'!$A:$C,2,FALSE)))*1 -> 6.43 | BR26: =IF(BR$4="2e klas", (VLOOKUP(BP26,'Arriva tarieventabel (2026)'!$A:$C,3,FALSE))*1, (VLOOKUP(BP26,'Arriva tarieventabel (2026)'!$A:$C,2,FALSE)))*1 -> 10.09 | BS26: =$BP26+$BS$27 -> 24 | BT26: =IF(BT$4="2e klas", (VLOOKUP(BS26,'Arriva tarieventabel (2026)'!$A:$C,3,FALSE))*1, (VLOOKUP(BS26,'Arriva tarieventabel (2026)'!$A:$C,2,FALSE)))*1 -> 6.66 | BU26: =IF(BU$4="2e klas", (VLOOKUP(BS26,'Arriva tarieventabel (2026)'!$A:$C,3,FALSE))*1, (VLOOKUP(BS26,'Arriva tarieventabel (2026)'!$A:$C,2,FALSE)))*1 -> 10.48 | BV26: =$BP26+$BV$27 -> 26 | BW26: =IF(BW$4="2e klas", (VLOOKUP(BV26,'Arriva tarieventabel (2026)'!$A:$C,3,FALSE))*1, (VLOOKUP(BV26,'Arriva tarieventabel (2026)'!$A:$C,2,FALSE)))*1 -> 7.12 | BX26: =IF(BX$4="2e klas", (VLOOKUP(BV26,'Arriva tarieventabel (2026)'!$A:$C,3,FALSE))*1, (VLOOKUP(BV26,'Arriva tarieventabel (2026)'!$A:$C,2,FALSE)))*1 -> 11.26
A27: Eygelshoven | B27: =B$21+2 -> 42 | C27: =IF(C$4="2e klas", C$10+(VLOOKUP(B27,'Arriva tarieventabel (2026)'!$A:$C,3,FALSE)-VLOOKUP(B$10,'Arriva tarieventabel (2026)'!$A:$C,3,FALSE)), C$10+(VLOOKUP(B27,'Arriva tarieventabel (2026)'!$A:$C,2,FALSE)-VLOOKUP(B$10,'Arriva tarieventabel (2026)'!$A:$C,2,FALSE))) -> 15.74 | D27: =IF(D$4="2e klas", D$10+(VLOOKUP(B27,'Arriva tarieventabel (2026)'!$A:$C,3,FALSE)-VLOOKUP(B$10,'Arriva tarieventabel (2026)'!$A:$C,3,FALSE)), D$10+(VLOOKUP(B27,'Arriva tarieventabel (2026)'!$A:$C,2,FALSE)-VLOOKUP(B$10,'Arriva tarieventabel (2026)'!$A:$C,2,FALSE))) -> 25.18 | E27: =E$21+2 -> 42 | F27: =IF(F$4="2e klas", F$10+(VLOOKUP(E27,'Arriva tarieventabel (2026)'!$A:$C,3,FALSE)-VLOOKUP(E$10,'Arriva tarieventabel (2026)'!$A:$C,3,FALSE)), F$10+(VLOOKUP(E27,'Arriva tarieventabel (2026)'!$A:$C,2,FALSE)-VLOOKUP(E$10,'Arriva tarieventabel (2026)'!$A:$C,2,FALSE))) -> 15.74 | G27: =IF(G$4="2e klas", G$10+(VLOOKUP(E27,'Arriva tarieventabel (2026)'!$A:$C,3,FALSE)-VLOOKUP(E$10,'Arriva tarieventabel (2026)'!$A:$C,3,FALSE)), G$10+(VLOOKUP(E27,'Arriva tarieventabel (2026)'!$A:$C,2,FALSE)-VLOOKUP(E$10,'Arriva tarieventabel (2026)'!$A:$C,2,FALSE))) -> 25.18 | H27: =H$21+2 -> 42 | I27: =IF(I$4="2e klas", I$10+(VLOOKUP(H27,'Arriva tarieventabel (2026)'!$A:$C,3,FALSE)-VLOOKUP(H$10,'Arriva tarieventabel (2026)'!$A:$C,3,FALSE)), I$10+(VLOOKUP(H27,'Arriva tarieventabel (2026)'!$A:$C,2,FALSE)-VLOOKUP(H$10,'Arriva tarieventabel (2026)'!$A:$C,2,FALSE))) -> 13.34 | J27: =IF(J$4="2e klas", J$10+(VLOOKUP(H27,'Arriva tarieventabel (2026)'!$A:$C,3,FALSE)-VLOOKUP(H$10,'Arriva tarieventabel (2026)'!$A:$C,3,FALSE)), J$10+(VLOOKUP(H27,'Arriva tarieventabel (2026)'!$A:$C,2,FALSE)-VLOOKUP(H$10,'Arriva tarieventabel (2026)'!$A:$C,2,FALSE))) -> 21.98 | K27: =K$21+2 -> 42 | L27: =IF(L$4="2e klas", L$10+(VLOOKUP(K27,'Arriva tarieventabel (2026)'!$A:$C,3,FALSE)-VLOOKUP(K$10,'Arriva tarieventabel (2026)'!$A:$C,3,FALSE)), L$10+(VLOOKUP(K27,'Arriva tarieventabel (2026)'!$A:$C,2,FALSE)-VLOOKUP(K$10,'Arriva tarieventabel (2026)'!$A:$C,2,FALSE))) -> 10.84 | M27: =IF(M$4="2e klas", M$10+(VLOOKUP(K27,'Arriva tarieventabel (2026)'!$A:$C,3,FALSE)-VLOOKUP(K$10,'Arriva tarieventabel (2026)'!$A:$C,3,FALSE)), M$10+(VLOOKUP(K27,'Arriva tarieventabel (2026)'!$A:$C,2,FALSE)-VLOOKUP(K$10,'Arriva tarieventabel (2026)'!$A:$C,2,FALSE))) -> 18.38 | N27: =N$21+2 -> 40 | O27: =IF(O$4="2e klas", O$10+(VLOOKUP(N27,'Arriva tarieventabel (2026)'!$A:$C,3,FALSE)-VLOOKUP(N$10,'Arriva tarieventabel (2026)'!$A:$C,3,FALSE)), O$10+(VLOOKUP(N27,'Arriva tarieventabel (2026)'!$A:$C,2,FALSE)-VLOOKUP(N$10,'Arriva tarieventabel (2026)'!$A:$C,2,FALSE))) -> 10.34 | P27: =IF(P$4="2e klas", P$10+(VLOOKUP(N27,'Arriva tarieventabel (2026)'!$A:$C,3,FALSE)-VLOOKUP(N$10,'Arriva tarieventabel (2026)'!$A:$C,3,FALSE)), P$10+(VLOOKUP(N27,'Arriva tarieventabel (2026)'!$A:$C,2,FALSE)-VLOOKUP(N$10,'Arriva tarieventabel (2026)'!$A:$C,2,FALSE))) -> 18.38 | Q27: =Q$21+2 -> 32 | R27: =IF(R$4="2e klas", R$10+(VLOOKUP(Q27,'Arriva tarieventabel (2026)'!$A:$C,3,FALSE)-VLOOKUP(Q$10,'Arriva tarieventabel (2026)'!$A:$C,3,FALSE)), R$10+(VLOOKUP(Q27,'Arriva tarieventabel (2026)'!$A:$C,2,FALSE)-VLOOKUP(Q$10,'Arriva tarieventabel (2026)'!$A:$C,2,FALSE))) -> 7.34 | S27: =IF(S$4="2e klas", S$10+(VLOOKUP(Q27,'Arriva tarieventabel (2026)'!$A:$C,3,FALSE)-VLOOKUP(Q$10,'Arriva tarieventabel (2026)'!$A:$C,3,FALSE)), S$10+(VLOOKUP(Q27,'Arriva tarieventabel (2026)'!$A:$C,2,FALSE)-VLOOKUP(Q$10,'Arriva tarieventabel (2026)'!$A:$C,2,FALSE))) -> 12.43 | T27: =T$21+2 -> 31 | U27: =IF(U$4="2e klas", U$10+(VLOOKUP(T27,'Arriva tarieventabel (2026)'!$A:$C,3,FALSE)-VLOOKUP(T$10,'Arriva tarieventabel (2026)'!$A:$C,3,FALSE)), U$10+(VLOOKUP(T27,'Arriva tarieventabel (2026)'!$A:$C,2,FALSE)-VLOOKUP(T$10,'Arriva tarieventabel (2026)'!$A:$C,2,FALSE))) -> 8.27 | V27: =IF(V$4="2e klas", V$10+(VLOOKUP(T27,'Arriva tarieventabel (2026)'!$A:$C,3,FALSE)-VLOOKUP(T$10,'Arriva tarieventabel (2026)'!$A:$C,3,FALSE)), V$10+(VLOOKUP(T27,'Arriva tarieventabel (2026)'!$A:$C,2,FALSE)-VLOOKUP(T$10,'Arriva tarieventabel (2026)'!$A:$C,2,FALSE))) -> 13.2 | W27: =W$21+2 -> 28 | X27: =IF(X$4="2e klas", X$10+(VLOOKUP(W27,'Arriva tarieventabel (2026)'!$A:$C,3,FALSE)-VLOOKUP(W$10,'Arriva tarieventabel (2026)'!$A:$C,3,FALSE)), X$10+(VLOOKUP(W27,'Arriva tarieventabel (2026)'!$A:$C,2,FALSE)-VLOOKUP(W$10,'Arriva tarieventabel (2026)'!$A:$C,2,FALSE))) -> 7.58 | Y27: =IF(Y$4="2e klas", Y$10+(VLOOKUP(W27,'Arriva tarieventabel (2026)'!$A:$C,3,FALSE)-VLOOKUP(W$10,'Arriva tarieventabel (2026)'!$A:$C,3,FALSE)), Y$10+(VLOOKUP(W27,'Arriva tarieventabel (2026)'!$A:$C,2,FALSE)-VLOOKUP(W$10,'Arriva tarieventabel (2026)'!$A:$C,2,FALSE))) -> 12.04 | Z27: =Z$21+2 -> 25 | AA27: =IF(AA$4="2e klas", AA$10+(VLOOKUP(Z27,'Arriva tarieventabel (2026)'!$A:$C,3,FALSE)-VLOOKUP(Z$10,'Arriva tarieventabel (2026)'!$A:$C,3,FALSE)), AA$10+(VLOOKUP(Z27,'Arriva tarieventabel (2026)'!$A:$C,2,FALSE)-VLOOKUP(Z$10,'Arriva tarieventabel (2026)'!$A:$C,2,FALSE))) -> 6.89 | AB27: =IF(AB$4="2e klas", AB$10+(VLOOKUP(Z27,'Arriva tarieventabel (2026)'!$A:$C,3,FALSE)-VLOOKUP(Z$10,'Arriva tarieventabel (2026)'!$A:$C,3,FALSE)), AB$10+(VLOOKUP(Z27,'Arriva tarieventabel (2026)'!$A:$C,2,FALSE)-VLOOKUP(Z$10,'Arriva tarieventabel (2026)'!$A:$C,2,FALSE))) -> 10.87 | AC27: =AC$21+2 -> 21 | AD27: =IF(AD$4="2e klas", AD$10+(VLOOKUP(AC27,'Arriva tarieventabel (2026)'!$A:$C,3,FALSE)-VLOOKUP(AC$10,'Arriva tarieventabel (2026)'!$A:$C,3,FALSE)), AD$10+(VLOOKUP(AC27,'Arriva tarieventabel (2026)'!$A:$C,2,FALSE)-VLOOKUP(AC$10,'Arriva tarieventabel (2026)'!$A:$C,2,FALSE))) -> 5.98 | AE27: =IF(AE$4="2e klas", AE$10+(VLOOKUP(AC27,'Arriva tarieventabel (2026)'!$A:$C,3,FALSE)-VLOOKUP(AC$10,'Arriva tarieventabel (2026)'!$A:$C,3,FALSE)), AE$10+(VLOOKUP(AC27,'Arriva tarieventabel (2026)'!$A:$C,2,FALSE)-VLOOKUP(AC$10,'Arriva tarieventabel (2026)'!$A:$C,2,FALSE))) -> 9.32 | AF27: =AF$21+2 -> 18 | AG27: =IF(AG$4="2e klas", AG$10+(VLOOKUP(AF27,'Arriva tarieventabel (2026)'!$A:$C,3,FALSE)-VLOOKUP(AF$10,'Arriva tarieventabel (2026)'!$A:$C,3,FALSE)), AG$10+(VLOOKUP(AF27,'Arriva tarieventabel (2026)'!$A:$C,2,FALSE)-VLOOKUP(AF$10,'Arriva tarieventabel (2026)'!$A:$C,2,FALSE))) -> 5.29 | AH27: =IF(AH$4="2e klas", AH$10+(VLOOKUP(AF27,'Arriva tarieventabel (2026)'!$A:$C,3,FALSE)-VLOOKUP(AF$10,'Arriva tarieventabel (2026)'!$A:$C,3,FALSE)), AH$10+(VLOOKUP(AF27,'Arriva tarieventabel (2026)'!$A:$C,2,FALSE)-VLOOKUP(AF$10,'Arriva tarieventabel (2026)'!$A:$C,2,FALSE))) -> 8.15 | AI27: =AI$21+2 -> 15 | AJ27: =IF(AJ$4="2e klas", AJ$10+(VLOOKUP(AI27,'Arriva tarieventabel (2026)'!$A:$C,3,FALSE)-VLOOKUP(AI$10,'Arriva tarieventabel (2026)'!$A:$C,3,FALSE)), AJ$10+(VLOOKUP(AI27,'Arriva tarieventabel (2026)'!$A:$C,2,FALSE)-VLOOKUP(AI$10,'Arriva tarieventabel (2026)'!$A:$C,2,FALSE))) -> 4.6 | AK27: =IF(AK$4="2e klas", AK$10+(VLOOKUP(AI27,'Arriva tarieventabel (2026)'!$A:$C,3,FALSE)-VLOOKUP(AI$10,'Arriva tarieventabel (2026)'!$A:$C,3,FALSE)), AK$10+(VLOOKUP(AI27,'Arriva tarieventabel (2026)'!$A:$C,2,FALSE)-VLOOKUP(AI$10,'Arriva tarieventabel (2026)'!$A:$C,2,FALSE))) -> 6.99 | AL27: =AL$21+2 -> 13 | AM27: =IF(AM$4="2e klas", AM$10+(VLOOKUP(AL27,'Arriva tarieventabel (2026)'!$A:$C,3,FALSE)-VLOOKUP(AL$10,'Arriva tarieventabel (2026)'!$A:$C,3,FALSE)), AM$10+(VLOOKUP(AL27,'Arriva tarieventabel (2026)'!$A:$C,2,FALSE)-VLOOKUP(AL$10,'Arriva tarieventabel (2026)'!$A:$C,2,FALSE))) -> 4.14 | AN27: =IF(AN$4="2e klas", AN$10+(VLOOKUP(AL27,'Arriva tarieventabel (2026)'!$A:$C,3,FALSE)-VLOOKUP(AL$10,'Arriva tarieventabel (2026)'!$A:$C,3,FALSE)), AN$10+(VLOOKUP(AL27,'Arriva tarieventabel (2026)'!$A:$C,2,FALSE)-VLOOKUP(AL$10,'Arriva tarieventabel (2026)'!$A:$C,2,FALSE))) -> 6.21 | AO27: =AO$21+2 -> 9 | AP27: =IF(AP$4="2e klas", AP$10+(VLOOKUP(AO27,'Arriva tarieventabel (2026)'!$A:$C,3,FALSE)-VLOOKUP(AO$10,'Arriva tarieventabel (2026)'!$A:$C,3,FALSE)), AP$10+(VLOOKUP(AO27,'Arriva tarieventabel (2026)'!$A:$C,2,FALSE)-VLOOKUP(AO$10,'Arriva tarieventabel (2026)'!$A:$C,2,FALSE))) -> 3.22 | AQ27: =IF(AQ$4="2e klas", AQ$10+(VLOOKUP(AO27,'Arriva tarieventabel (2026)'!$A:$C,3,FALSE)-VLOOKUP(AO$10,'Arriva tarieventabel (2026)'!$A:$C,3,FALSE)), AQ$10+(VLOOKUP(AO27,'Arriva tarieventabel (2026)'!$A:$C,2,FALSE)-VLOOKUP(AO$10,'Arriva tarieventabel (2026)'!$A:$C,2,FALSE))) -> 4.66 | AR27: =AR$21+2 -> 7 | AS27: =IF(AS$4="2e klas", AS$10+(VLOOKUP(AR27,'Arriva tarieventabel (2026)'!$A:$C,3,FALSE)-VLOOKUP(AR$10,'Arriva tarieventabel (2026)'!$A:$C,3,FALSE)), AS$10+(VLOOKUP(AR27,'Arriva tarieventabel (2026)'!$A:$C,2,FALSE)-VLOOKUP(AR$10,'Arriva tarieventabel (2026)'!$A:$C,2,FALSE))) -> 2.76 | AT27: =IF(AT$4="2e klas", AT$10+(VLOOKUP(AR27,'Arriva tarieventabel (2026)'!$A:$C,3,FALSE)-VLOOKUP(AR$10,'Arriva tarieventabel (2026)'!$A:$C,3,FALSE)), AT$10+(VLOOKUP(AR27,'Arriva tarieventabel (2026)'!$A:$C,2,FALSE)-VLOOKUP(AR$10,'Arriva tarieventabel (2026)'!$A:$C,2,FALSE))) -> 3.88 | AU27: =AU$21+2 -> 5 | AV27: =IF(AV$4="2e klas", AV$10+(VLOOKUP(AU27,'Arriva tarieventabel (2026)'!$A:$C,3,FALSE)-VLOOKUP(AU$10,'Arriva tarieventabel (2026)'!$A:$C,3,FALSE)), AV$10+(VLOOKUP(AU27,'Arriva tarieventabel (2026)'!$A:$C,2,FALSE)-VLOOKUP(AU$10,'Arriva tarieventabel (2026)'!$A:$C,2,FALSE))) -> 2.31 | AW27: =IF(AW$4="2e klas", AW$10+(VLOOKUP(AU27,'Arriva tarieventabel (2026)'!$A:$C,3,FALSE)-VLOOKUP(AU$10,'Arriva tarieventabel (2026)'!$A:$C,3,FALSE)), AW$10+(VLOOKUP(AU27,'Arriva tarieventabel (2026)'!$A:$C,2,FALSE)-VLOOKUP(AU$10,'Arriva tarieventabel (2026)'!$A:$C,2,FALSE))) -> 3.1 | AX27: =AX$21+2 -> 2 | AY27: =IF(AY$4="2e klas", AY$10+(VLOOKUP(AX27,'Arriva tarieventabel (2026)'!$A:$C,3,FALSE)-VLOOKUP(AX$10,'Arriva tarieventabel (2026)'!$A:$C,3,FALSE)), AY$10+(VLOOKUP(AX27,'Arriva tarieventabel (2026)'!$A:$C,2,FALSE)-VLOOKUP(AX$10,'Arriva tarieventabel (2026)'!$A:$C,2,FALSE))) -> 1.62 | AZ27: =IF(AZ$4="2e klas", AZ$10+(VLOOKUP(AX27,'Arriva tarieventabel (2026)'!$A:$C,3,FALSE)-VLOOKUP(AX$10,'Arriva tarieventabel (2026)'!$A:$C,3,FALSE)), AZ$10+(VLOOKUP(AX27,'Arriva tarieventabel (2026)'!$A:$C,2,FALSE)-VLOOKUP(AX$10,'Arriva tarieventabel (2026)'!$A:$C,2,FALSE))) -> 1.94 | BA27: =BA$21+2 -> 5 | BB27: =IF(BB$4="2e klas", BB$10+(VLOOKUP(BA27,'Arriva tarieventabel (2026)'!$A:$C,3,FALSE)-VLOOKUP(BA$10,'Arriva tarieventabel (2026)'!$A:$C,3,FALSE)), BB$10+(VLOOKUP(BA27,'Arriva tarieventabel (2026)'!$A:$C,2,FALSE)-VLOOKUP(BA$10,'Arriva tarieventabel (2026)'!$A:$C,2,FALSE))) -> 2.31 | BC27: =IF(BC$4="2e klas", BC$10+(VLOOKUP(BA27,'Arriva tarieventabel (2026)'!$A:$C,3,FALSE)-VLOOKUP(BA$10,'Arriva tarieventabel (2026)'!$A:$C,3,FALSE)), BC$10+(VLOOKUP(BA27,'Arriva tarieventabel (2026)'!$A:$C,2,FALSE)-VLOOKUP(BA$10,'Arriva tarieventabel (2026)'!$A:$C,2,FALSE))) -> 3.1 | BD27: =BD$21+2 -> 8 | BE27: =IF(BE$4="2e klas", BE$10+(VLOOKUP(BD27,'Arriva tarieventabel (2026)'!$A:$C,3,FALSE)-VLOOKUP(BD$10,'Arriva tarieventabel (2026)'!$A:$C,3,FALSE)), BE$10+(VLOOKUP(BD27,'Arriva tarieventabel (2026)'!$A:$C,2,FALSE)-VLOOKUP(BD$10,'Arriva tarieventabel (2026)'!$A:$C,2,FALSE))) -> 2.99 | BF27: =IF(BF$4="2e klas", BF$10+(VLOOKUP(BD27,'Arriva tarieventabel (2026)'!$A:$C,3,FALSE)-VLOOKUP(BD$10,'Arriva tarieventabel (2026)'!$A:$C,3,FALSE)), BF$10+(VLOOKUP(BD27,'Arriva tarieventabel (2026)'!$A:$C,2,FALSE)-VLOOKUP(BD$10,'Arriva tarieventabel (2026)'!$A:$C,2,FALSE))) -> 4.27 | BG27: =BG$21+2 -> 9 | BH27: =IF(BH$4="2e klas", BH$10+(VLOOKUP(BG27,'Arriva tarieventabel (2026)'!$A:$C,3,FALSE)-VLOOKUP(BG$10,'Arriva tarieventabel (2026)'!$A:$C,3,FALSE)), BH$10+(VLOOKUP(BG27,'Arriva tarieventabel (2026)'!$A:$C,2,FALSE)-VLOOKUP(BG$10,'Arriva tarieventabel (2026)'!$A:$C,2,FALSE))) -> 3.22 | BI27: =IF(BI$4="2e klas", BI$10+(VLOOKUP(BG27,'Arriva tarieventabel (2026)'!$A:$C,3,FALSE)-VLOOKUP(BG$10,'Arriva tarieventabel (2026)'!$A:$C,3,FALSE)), BI$10+(VLOOKUP(BG27,'Arriva tarieventabel (2026)'!$A:$C,2,FALSE)-VLOOKUP(BG$10,'Arriva tarieventabel (2026)'!$A:$C,2,FALSE))) -> 4.66 | BJ27: =BJ$21+2 -> 20 | BK27: =IF(BK$4="2e klas", BK$10+(VLOOKUP(BJ27,'Arriva tarieventabel (2026)'!$A:$C,3,FALSE)-VLOOKUP(BJ$10,'Arriva tarieventabel (2026)'!$A:$C,3,FALSE)), BK$10+(VLOOKUP(BJ27,'Arriva tarieventabel (2026)'!$A:$C,2,FALSE)-VLOOKUP(BJ$10,'Arriva tarieventabel (2026)'!$A:$C,2,FALSE))) -> 5.75 | BL27: =IF(BL$4="2e klas", BL$10+(VLOOKUP(BJ27,'Arriva tarieventabel (2026)'!$A:$C,3,FALSE)-VLOOKUP(BJ$10,'Arriva tarieventabel (2026)'!$A:$C,3,FALSE)), BL$10+(VLOOKUP(BJ27,'Arriva tarieventabel (2026)'!$A:$C,2,FALSE)-VLOOKUP(BJ$10,'Arriva tarieventabel (2026)'!$A:$C,2,FALSE))) -> 8.93 | BM27: =BM$21+2 -> 23 | BN27: =IF(BN$4="2e klas", BN$10+(VLOOKUP(BM27,'Arriva tarieventabel (2026)'!$A:$C,3,FALSE)-VLOOKUP(BM$10,'Arriva tarieventabel (2026)'!$A:$C,3,FALSE)), BN$10+(VLOOKUP(BM27,'Arriva tarieventabel (2026)'!$A:$C,2,FALSE)-VLOOKUP(BM$10,'Arriva tarieventabel (2026)'!$A:$C,2,FALSE))) -> 6.43 | BO27: =IF(BO$4="2e klas", BO$10+(VLOOKUP(BM27,'Arriva tarieventabel (2026)'!$A:$C,3,FALSE)-VLOOKUP(BM$10,'Arriva tarieventabel (2026)'!$A:$C,3,FALSE)), BO$10+(VLOOKUP(BM27,'Arriva tarieventabel (2026)'!$A:$C,2,FALSE)-VLOOKUP(BM$10,'Arriva tarieventabel (2026)'!$A:$C,2,FALSE))) -> 10.09 | BS27: 1 | BT27: =IF(BT$4="2e klas", (VLOOKUP(BS27,'Arriva tarieventabel (2026)'!$A:$C,3,FALSE))*1, (VLOOKUP(BS27,'Arriva tarieventabel (2026)'!$A:$C,2,FALSE)))*1 -> 1.39 | BU27: =IF(BU$4="2e klas", (VLOOKUP(BS27,'Arriva tarieventabel (2026)'!$A:$C,3,FALSE))*1, (VLOOKUP(BS27,'Arriva tarieventabel (2026)'!$A:$C,2,FALSE)))*1 -> 1.55 | BV27: 3 | BW27: =IF(BW$4="2e klas", (VLOOKUP(BV27,'Arriva tarieventabel (2026)'!$A:$C,3,FALSE))*1, (VLOOKUP(BV27,'Arriva tarieventabel (2026)'!$A:$C,2,FALSE)))*1 -> 1.85 | BX27: =IF(BX$4="2e klas", (VLOOKUP(BV27,'Arriva tarieventabel (2026)'!$A:$C,3,FALSE))*1, (VLOOKUP(BV27,'Arriva tarieventabel (2026)'!$A:$C,2,FALSE)))*1 -> 2.32
A28: Chevremont | B28: =B$21+3 -> 43 | C28: =IF(C$4="2e klas", C$10+(VLOOKUP(B28,'Arriva tarieventabel (2026)'!$A:$C,3,FALSE)-VLOOKUP(B$10,'Arriva tarieventabel (2026)'!$A:$C,3,FALSE)), C$10+(VLOOKUP(B28,'Arriva tarieventabel (2026)'!$A:$C,2,FALSE)-VLOOKUP(B$10,'Arriva tarieventabel (2026)'!$A:$C,2,FALSE))) -> 15.96 | D28: =IF(D$4="2e klas", D$10+(VLOOKUP(B28,'Arriva tarieventabel (2026)'!$A:$C,3,FALSE)-VLOOKUP(B$10,'Arriva tarieventabel (2026)'!$A:$C,3,FALSE)), D$10+(VLOOKUP(B28,'Arriva tarieventabel (2026)'!$A:$C,2,FALSE)-VLOOKUP(B$10,'Arriva tarieventabel (2026)'!$A:$C,2,FALSE))) -> 25.56 | E28: =E$21+3 -> 43 | F28: =IF(F$4="2e klas", F$10+(VLOOKUP(E28,'Arriva tarieventabel (2026)'!$A:$C,3,FALSE)-VLOOKUP(E$10,'Arriva tarieventabel (2026)'!$A:$C,3,FALSE)), F$10+(VLOOKUP(E28,'Arriva tarieventabel (2026)'!$A:$C,2,FALSE)-VLOOKUP(E$10,'Arriva tarieventabel (2026)'!$A:$C,2,FALSE))) -> 15.96 | G28: =IF(G$4="2e klas", G$10+(VLOOKUP(E28,'Arriva tarieventabel (2026)'!$A:$C,3,FALSE)-VLOOKUP(E$10,'Arriva tarieventabel (2026)'!$A:$C,3,FALSE)), G$10+(VLOOKUP(E28,'Arriva tarieventabel (2026)'!$A:$C,2,FALSE)-VLOOKUP(E$10,'Arriva tarieventabel (2026)'!$A:$C,2,FALSE))) -> 25.56 | H28: =H$21+3 -> 43 | I28: =IF(I$4="2e klas", I$10+(VLOOKUP(H28,'Arriva tarieventabel (2026)'!$A:$C,3,FALSE)-VLOOKUP(H$10,'Arriva tarieventabel (2026)'!$A:$C,3,FALSE)), I$10+(VLOOKUP(H28,'Arriva tarieventabel (2026)'!$A:$C,2,FALSE)-VLOOKUP(H$10,'Arriva tarieventabel (2026)'!$A:$C,2,FALSE))) -> 13.56 | J28: =IF(J$4="2e klas", J$10+(VLOOKUP(H28,'Arriva tarieventabel (2026)'!$A:$C,3,FALSE)-VLOOKUP(H$10,'Arriva tarieventabel (2026)'!$A:$C,3,FALSE)), J$10+(VLOOKUP(H28,'Arriva tarieventabel (2026)'!$A:$C,2,FALSE)-VLOOKUP(H$10,'Arriva tarieventabel (2026)'!$A:$C,2,FALSE))) -> 22.36 | K28: =K$21+3 -> 43 | L28: =IF(L$4="2e klas", L$10+(VLOOKUP(K28,'Arriva tarieventabel (2026)'!$A:$C,3,FALSE)-VLOOKUP(K$10,'Arriva tarieventabel (2026)'!$A:$C,3,FALSE)), L$10+(VLOOKUP(K28,'Arriva tarieventabel (2026)'!$A:$C,2,FALSE)-VLOOKUP(K$10,'Arriva tarieventabel (2026)'!$A:$C,2,FALSE))) -> 11.06 | M28: =IF(M$4="2e klas", M$10+(VLOOKUP(K28,'Arriva tarieventabel (2026)'!$A:$C,3,FALSE)-VLOOKUP(K$10,'Arriva tarieventabel (2026)'!$A:$C,3,FALSE)), M$10+(VLOOKUP(K28,'Arriva tarieventabel (2026)'!$A:$C,2,FALSE)-VLOOKUP(K$10,'Arriva tarieventabel (2026)'!$A:$C,2,FALSE))) -> 18.76 | N28: =N$21+3 -> 41 | O28: =IF(O$4="2e klas", O$10+(VLOOKUP(N28,'Arriva tarieventabel (2026)'!$A:$C,3,FALSE)-VLOOKUP(N$10,'Arriva tarieventabel (2026)'!$A:$C,3,FALSE)), O$10+(VLOOKUP(N28,'Arriva tarieventabel (2026)'!$A:$C,2,FALSE)-VLOOKUP(N$10,'Arriva tarieventabel (2026)'!$A:$C,2,FALSE))) -> 10.57 | P28: =IF(P$4="2e klas", P$10+(VLOOKUP(N28,'Arriva tarieventabel (2026)'!$A:$C,3,FALSE)-VLOOKUP(N$10,'Arriva tarieventabel (2026)'!$A:$C,3,FALSE)), P$10+(VLOOKUP(N28,'Arriva tarieventabel (2026)'!$A:$C,2,FALSE)-VLOOKUP(N$10,'Arriva tarieventabel (2026)'!$A:$C,2,FALSE))) -> 18.76 | Q28: =Q$21+3 -> 33 | R28: =IF(R$4="2e klas", R$10+(VLOOKUP(Q28,'Arriva tarieventabel (2026)'!$A:$C,3,FALSE)-VLOOKUP(Q$10,'Arriva tarieventabel (2026)'!$A:$C,3,FALSE)), R$10+(VLOOKUP(Q28,'Arriva tarieventabel (2026)'!$A:$C,2,FALSE)-VLOOKUP(Q$10,'Arriva tarieventabel (2026)'!$A:$C,2,FALSE))) -> 7.57 | S28: =IF(S$4="2e klas", S$10+(VLOOKUP(Q28,'Arriva tarieventabel (2026)'!$A:$C,3,FALSE)-VLOOKUP(Q$10,'Arriva tarieventabel (2026)'!$A:$C,3,FALSE)), S$10+(VLOOKUP(Q28,'Arriva tarieventabel (2026)'!$A:$C,2,FALSE)-VLOOKUP(Q$10,'Arriva tarieventabel (2026)'!$A:$C,2,FALSE))) -> 12.82 | T28: =T$21+3 -> 32 | U28: =IF(U$4="2e klas", U$10+(VLOOKUP(T28,'Arriva tarieventabel (2026)'!$A:$C,3,FALSE)-VLOOKUP(T$10,'Arriva tarieventabel (2026)'!$A:$C,3,FALSE)), U$10+(VLOOKUP(T28,'Arriva tarieventabel (2026)'!$A:$C,2,FALSE)-VLOOKUP(T$10,'Arriva tarieventabel (2026)'!$A:$C,2,FALSE))) -> 8.5 | V28: =IF(V$4="2e klas", V$10+(VLOOKUP(T28,'Arriva tarieventabel (2026)'!$A:$C,3,FALSE)-VLOOKUP(T$10,'Arriva tarieventabel (2026)'!$A:$C,3,FALSE)), V$10+(VLOOKUP(T28,'Arriva tarieventabel (2026)'!$A:$C,2,FALSE)-VLOOKUP(T$10,'Arriva tarieventabel (2026)'!$A:$C,2,FALSE))) -> 13.59 | W28: =W$21+3 -> 29 | X28: =IF(X$4="2e klas", X$10+(VLOOKUP(W28,'Arriva tarieventabel (2026)'!$A:$C,3,FALSE)-VLOOKUP(W$10,'Arriva tarieventabel (2026)'!$A:$C,3,FALSE)), X$10+(VLOOKUP(W28,'Arriva tarieventabel (2026)'!$A:$C,2,FALSE)-VLOOKUP(W$10,'Arriva tarieventabel (2026)'!$A:$C,2,FALSE))) -> 7.81 | Y28: =IF(Y$4="2e klas", Y$10+(VLOOKUP(W28,'Arriva tarieventabel (2026)'!$A:$C,3,FALSE)-VLOOKUP(W$10,'Arriva tarieventabel (2026)'!$A:$C,3,FALSE)), Y$10+(VLOOKUP(W28,'Arriva tarieventabel (2026)'!$A:$C,2,FALSE)-VLOOKUP(W$10,'Arriva tarieventabel (2026)'!$A:$C,2,FALSE))) -> 12.42 | Z28: =Z$21+3 -> 26 | AA28: =IF(AA$4="2e klas", AA$10+(VLOOKUP(Z28,'Arriva tarieventabel (2026)'!$A:$C,3,FALSE)-VLOOKUP(Z$10,'Arriva tarieventabel (2026)'!$A:$C,3,FALSE)), AA$10+(VLOOKUP(Z28,'Arriva tarieventabel (2026)'!$A:$C,2,FALSE)-VLOOKUP(Z$10,'Arriva tarieventabel (2026)'!$A:$C,2,FALSE))) -> 7.12 | AB28: =IF(AB$4="2e klas", AB$10+(VLOOKUP(Z28,'Arriva tarieventabel (2026)'!$A:$C,3,FALSE)-VLOOKUP(Z$10,'Arriva tarieventabel (2026)'!$A:$C,3,FALSE)), AB$10+(VLOOKUP(Z28,'Arriva tarieventabel (2026)'!$A:$C,2,FALSE)-VLOOKUP(Z$10,'Arriva tarieventabel (2026)'!$A:$C,2,FALSE))) -> 11.26 | AC28: =AC$21+3 -> 22 | AD28: =IF(AD$4="2e klas", AD$10+(VLOOKUP(AC28,'Arriva tarieventabel (2026)'!$A:$C,3,FALSE)-VLOOKUP(AC$10,'Arriva tarieventabel (2026)'!$A:$C,3,FALSE)), AD$10+(VLOOKUP(AC28,'Arriva tarieventabel (2026)'!$A:$C,2,FALSE)-VLOOKUP(AC$10,'Arriva tarieventabel (2026)'!$A:$C,2,FALSE))) -> 6.2 | AE28: =IF(AE$4="2e klas", AE$10+(VLOOKUP(AC28,'Arriva tarieventabel (2026)'!$A:$C,3,FALSE)-VLOOKUP(AC$10,'Arriva tarieventabel (2026)'!$A:$C,3,FALSE)), AE$10+(VLOOKUP(AC28,'Arriva tarieventabel (2026)'!$A:$C,2,FALSE)-VLOOKUP(AC$10,'Arriva tarieventabel (2026)'!$A:$C,2,FALSE))) -> 9.7 | AF28: =AF$21+3 -> 19 | AG28: =IF(AG$4="2e klas", AG$10+(VLOOKUP(AF28,'Arriva tarieventabel (2026)'!$A:$C,3,FALSE)-VLOOKUP(AF$10,'Arriva tarieventabel (2026)'!$A:$C,3,FALSE)), AG$10+(VLOOKUP(AF28,'Arriva tarieventabel (2026)'!$A:$C,2,FALSE)-VLOOKUP(AF$10,'Arriva tarieventabel (2026)'!$A:$C,2,FALSE))) -> 5.52 | AH28: =IF(AH$4="2e klas", AH$10+(VLOOKUP(AF28,'Arriva tarieventabel (2026)'!$A:$C,3,FALSE)-VLOOKUP(AF$10,'Arriva tarieventabel (2026)'!$A:$C,3,FALSE)), AH$10+(VLOOKUP(AF28,'Arriva tarieventabel (2026)'!$A:$C,2,FALSE)-VLOOKUP(AF$10,'Arriva tarieventabel (2026)'!$A:$C,2,FALSE))) -> 8.54 | AI28: =AI$21+3 -> 16 | AJ28: =IF(AJ$4="2e klas", AJ$10+(VLOOKUP(AI28,'Arriva tarieventabel (2026)'!$A:$C,3,FALSE)-VLOOKUP(AI$10,'Arriva tarieventabel (2026)'!$A:$C,3,FALSE)), AJ$10+(VLOOKUP(AI28,'Arriva tarieventabel (2026)'!$A:$C,2,FALSE)-VLOOKUP(AI$10,'Arriva tarieventabel (2026)'!$A:$C,2,FALSE))) -> 4.83 | AK28: =IF(AK$4="2e klas", AK$10+(VLOOKUP(AI28,'Arriva tarieventabel (2026)'!$A:$C,3,FALSE)-VLOOKUP(AI$10,'Arriva tarieventabel (2026)'!$A:$C,3,FALSE)), AK$10+(VLOOKUP(AI28,'Arriva tarieventabel (2026)'!$A:$C,2,FALSE)-VLOOKUP(AI$10,'Arriva tarieventabel (2026)'!$A:$C,2,FALSE))) -> 7.37 | AL28: =AL$21+3 -> 14 | AM28: =IF(AM$4="2e klas", AM$10+(VLOOKUP(AL28,'Arriva tarieventabel (2026)'!$A:$C,3,FALSE)-VLOOKUP(AL$10,'Arriva tarieventabel (2026)'!$A:$C,3,FALSE)), AM$10+(VLOOKUP(AL28,'Arriva tarieventabel (2026)'!$A:$C,2,FALSE)-VLOOKUP(AL$10,'Arriva tarieventabel (2026)'!$A:$C,2,FALSE))) -> 4.37 | AN28: =IF(AN$4="2e klas", AN$10+(VLOOKUP(AL28,'Arriva tarieventabel (2026)'!$A:$C,3,FALSE)-VLOOKUP(AL$10,'Arriva tarieventabel (2026)'!$A:$C,3,FALSE)), AN$10+(VLOOKUP(AL28,'Arriva tarieventabel (2026)'!$A:$C,2,FALSE)-VLOOKUP(AL$10,'Arriva tarieventabel (2026)'!$A:$C,2,FALSE))) -> 6.6 | AO28: =AO$21+3 -> 10 | AP28: =IF(AP$4="2e klas", AP$10+(VLOOKUP(AO28,'Arriva tarieventabel (2026)'!$A:$C,3,FALSE)-VLOOKUP(AO$10,'Arriva tarieventabel (2026)'!$A:$C,3,FALSE)), AP$10+(VLOOKUP(AO28,'Arriva tarieventabel (2026)'!$A:$C,2,FALSE)-VLOOKUP(AO$10,'Arriva tarieventabel (2026)'!$A:$C,2,FALSE))) -> 3.45 | AQ28: =IF(AQ$4="2e klas", AQ$10+(VLOOKUP(AO28,'Arriva tarieventabel (2026)'!$A:$C,3,FALSE)-VLOOKUP(AO$10,'Arriva tarieventabel (2026)'!$A:$C,3,FALSE)), AQ$10+(VLOOKUP(AO28,'Arriva tarieventabel (2026)'!$A:$C,2,FALSE)-VLOOKUP(AO$10,'Arriva tarieventabel (2026)'!$A:$C,2,FALSE))) -> 5.04 | AR28: =AR$21+3 -> 8 | AS28: =IF(AS$4="2e klas", AS$10+(VLOOKUP(AR28,'Arriva tarieventabel (2026)'!$A:$C,3,FALSE)-VLOOKUP(AR$10,'Arriva tarieventabel (2026)'!$A:$C,3,FALSE)), AS$10+(VLOOKUP(AR28,'Arriva tarieventabel (2026)'!$A:$C,2,FALSE)-VLOOKUP(AR$10,'Arriva tarieventabel (2026)'!$A:$C,2,FALSE))) -> 2.99 | AT28: =IF(AT$4="2e klas", AT$10+(VLOOKUP(AR28,'Arriva tarieventabel (2026)'!$A:$C,3,FALSE)-VLOOKUP(AR$10,'Arriva tarieventabel (2026)'!$A:$C,3,FALSE)), AT$10+(VLOOKUP(AR28,'Arriva tarieventabel (2026)'!$A:$C,2,FALSE)-VLOOKUP(AR$10,'Arriva tarieventabel (2026)'!$A:$C,2,FALSE))) -> 4.27 | AU28: =AU$21+3 -> 6 | AV28: =IF(AV$4="2e klas", AV$10+(VLOOKUP(AU28,'Arriva tarieventabel (2026)'!$A:$C,3,FALSE)-VLOOKUP(AU$10,'Arriva tarieventabel (2026)'!$A:$C,3,FALSE)), AV$10+(VLOOKUP(AU28,'Arriva tarieventabel (2026)'!$A:$C,2,FALSE)-VLOOKUP(AU$10,'Arriva tarieventabel (2026)'!$A:$C,2,FALSE))) -> 2.54 | AW28: =IF(AW$4="2e klas", AW$10+(VLOOKUP(AU28,'Arriva tarieventabel (2026)'!$A:$C,3,FALSE)-VLOOKUP(AU$10,'Arriva tarieventabel (2026)'!$A:$C,3,FALSE)), AW$10+(VLOOKUP(AU28,'Arriva tarieventabel (2026)'!$A:$C,2,FALSE)-VLOOKUP(AU$10,'Arriva tarieventabel (2026)'!$A:$C,2,FALSE))) -> 3.49 | AX28: =AX$21+3 -> 3 | AY28: =IF(AY$4="2e klas", AY$10+(VLOOKUP(AX28,'Arriva tarieventabel (2026)'!$A:$C,3,FALSE)-VLOOKUP(AX$10,'Arriva tarieventabel (2026)'!$A:$C,3,FALSE)), AY$10+(VLOOKUP(AX28,'Arriva tarieventabel (2026)'!$A:$C,2,FALSE)-VLOOKUP(AX$10,'Arriva tarieventabel (2026)'!$A:$C,2,FALSE))) -> 1.85 | AZ28: =IF(AZ$4="2e klas", AZ$10+(VLOOKUP(AX28,'Arriva tarieventabel (2026)'!$A:$C,3,FALSE)-VLOOKUP(AX$10,'Arriva tarieventabel (2026)'!$A:$C,3,FALSE)), AZ$10+(VLOOKUP(AX28,'Arriva tarieventabel (2026)'!$A:$C,2,FALSE)-VLOOKUP(AX$10,'Arriva tarieventabel (2026)'!$A:$C,2,FALSE))) -> 2.32 | BA28: =BA$21+3 -> 6 | BB28: =IF(BB$4="2e klas", BB$10+(VLOOKUP(BA28,'Arriva tarieventabel (2026)'!$A:$C,3,FALSE)-VLOOKUP(BA$10,'Arriva tarieventabel (2026)'!$A:$C,3,FALSE)), BB$10+(VLOOKUP(BA28,'Arriva tarieventabel (2026)'!$A:$C,2,FALSE)-VLOOKUP(BA$10,'Arriva tarieventabel (2026)'!$A:$C,2,FALSE))) -> 2.54 | BC28: =IF(BC$4="2e klas", BC$10+(VLOOKUP(BA28,'Arriva tarieventabel (2026)'!$A:$C,3,FALSE)-VLOOKUP(BA$10,'Arriva tarieventabel (2026)'!$A:$C,3,FALSE)), BC$10+(VLOOKUP(BA28,'Arriva tarieventabel (2026)'!$A:$C,2,FALSE)-VLOOKUP(BA$10,'Arriva tarieventabel (2026)'!$A:$C,2,FALSE))) -> 3.49 | BD28: =BD$21+3 -> 9 | BE28: =IF(BE$4="2e klas", BE$10+(VLOOKUP(BD28,'Arriva tarieventabel (2026)'!$A:$C,3,FALSE)-VLOOKUP(BD$10,'Arriva tarieventabel (2026)'!$A:$C,3,FALSE)), BE$10+(VLOOKUP(BD28,'Arriva tarieventabel (2026)'!$A:$C,2,FALSE)-VLOOKUP(BD$10,'Arriva tarieventabel (2026)'!$A:$C,2,FALSE))) -> 3.22 | BF28: =IF(BF$4="2e klas", BF$10+(VLOOKUP(BD28,'Arriva tarieventabel (2026)'!$A:$C,3,FALSE)-VLOOKUP(BD$10,'Arriva tarieventabel (2026)'!$A:$C,3,FALSE)), BF$10+(VLOOKUP(BD28,'Arriva tarieventabel (2026)'!$A:$C,2,FALSE)-VLOOKUP(BD$10,'Arriva tarieventabel (2026)'!$A:$C,2,FALSE))) -> 4.66 | BG28: =BG$21+3 -> 10 | BH28: =IF(BH$4="2e klas", BH$10+(VLOOKUP(BG28,'Arriva tarieventabel (2026)'!$A:$C,3,FALSE)-VLOOKUP(BG$10,'Arriva tarieventabel (2026)'!$A:$C,3,FALSE)), BH$10+(VLOOKUP(BG28,'Arriva tarieventabel (2026)'!$A:$C,2,FALSE)-VLOOKUP(BG$10,'Arriva tarieventabel (2026)'!$A:$C,2,FALSE))) -> 3.45 | BI28: =IF(BI$4="2e klas", BI$10+(VLOOKUP(BG28,'Arriva tarieventabel (2026)'!$A:$C,3,FALSE)-VLOOKUP(BG$10,'Arriva tarieventabel (2026)'!$A:$C,3,FALSE)), BI$10+(VLOOKUP(BG28,'Arriva tarieventabel (2026)'!$A:$C,2,FALSE)-VLOOKUP(BG$10,'Arriva tarieventabel (2026)'!$A:$C,2,FALSE))) -> 5.04 | BJ28: =BJ$21+3 -> 21 | BK28: =IF(BK$4="2e klas", BK$10+(VLOOKUP(BJ28,'Arriva tarieventabel (2026)'!$A:$C,3,FALSE)-VLOOKUP(BJ$10,'Arriva tarieventabel (2026)'!$A:$C,3,FALSE)), BK$10+(VLOOKUP(BJ28,'Arriva tarieventabel (2026)'!$A:$C,2,FALSE)-VLOOKUP(BJ$10,'Arriva tarieventabel (2026)'!$A:$C,2,FALSE))) -> 5.98 | BL28: =IF(BL$4="2e klas", BL$10+(VLOOKUP(BJ28,'Arriva tarieventabel (2026)'!$A:$C,3,FALSE)-VLOOKUP(BJ$10,'Arriva tarieventabel (2026)'!$A:$C,3,FALSE)), BL$10+(VLOOKUP(BJ28,'Arriva tarieventabel (2026)'!$A:$C,2,FALSE)-VLOOKUP(BJ$10,'Arriva tarieventabel (2026)'!$A:$C,2,FALSE))) -> 9.32 | BM28: =BM$21+3 -> 24 | BN28: =IF(BN$4="2e klas", BN$10+(VLOOKUP(BM28,'Arriva tarieventabel (2026)'!$A:$C,3,FALSE)-VLOOKUP(BM$10,'Arriva tarieventabel (2026)'!$A:$C,3,FALSE)), BN$10+(VLOOKUP(BM28,'Arriva tarieventabel (2026)'!$A:$C,2,FALSE)-VLOOKUP(BM$10,'Arriva tarieventabel (2026)'!$A:$C,2,FALSE))) -> 6.66 | BO28: =IF(BO$4="2e klas", BO$10+(VLOOKUP(BM28,'Arriva tarieventabel (2026)'!$A:$C,3,FALSE)-VLOOKUP(BM$10,'Arriva tarieventabel (2026)'!$A:$C,3,FALSE)), BO$10+(VLOOKUP(BM28,'Arriva tarieventabel (2026)'!$A:$C,2,FALSE)-VLOOKUP(BM$10,'Arriva tarieventabel (2026)'!$A:$C,2,FALSE))) -> 10.48 | BP28: 1 | BQ28: =IF(BQ$4="2e klas", (VLOOKUP(BP28,'Arriva tarieventabel (2026)'!$A:$C,3,FALSE))*1, (VLOOKUP(BP28,'Arriva tarieventabel (2026)'!$A:$C,2,FALSE)))*1 -> 1.39 | BR28: =IF(BR$4="2e klas", (VLOOKUP(BP28,'Arriva tarieventabel (2026)'!$A:$C,3,FALSE))*1, (VLOOKUP(BP28,'Arriva tarieventabel (2026)'!$A:$C,2,FALSE)))*1 -> 1.55 | BV28: 2 | BW28: =IF(BW$4="2e klas", (VLOOKUP(BV28,'Arriva tarieventabel (2026)'!$A:$C,3,FALSE))*1, (VLOOKUP(BV28,'Arriva tarieventabel (2026)'!$A:$C,2,FALSE)))*1 -> 1.62 | BX28: =IF(BX$4="2e klas", (VLOOKUP(BV28,'Arriva tarieventabel (2026)'!$A:$C,3,FALSE))*1, (VLOOKUP(BV28,'Arriva tarieventabel (2026)'!$A:$C,2,FALSE)))*1 -> 1.94
