Workbook
Name BESTAND: '[1]Opbr N-1'!#REF!
Name d: '[1]Opbr N-1'!#REF!
Name EURO: '[1]Opbr N-1'!#REF!

Sheet Drielandentrein
B1: Let op: Tarievenmatrix nog niet finaal voor 2026 ivm ontbreken NS tarieventabel 2026
B2: VAN --> | BP2: RS18
A3: NAAR | B3: Liège-Guillemins | E3: Bressoux (=Liège Guillemins) | H3: Visé | K3: Visé-Grens | N3: Eijsden | Q3: Maastricht Randwyck | T3: =A11 -> Maastricht | W3: Maastricht Noord | Z3: Meerssen | AC3: Houtem St. Gerlach | AF3: Valkenburg | AI3: Schin op Geul | AL3: Klimmen Ransdaal | AO3: Voerendaal | AR3: Heerlen Woonboulevard | AU3: Heerlen | AX3: Landgraaf | BA3: Eygelshoven Markt | BD3: Herzogenrath-Grens | BG3: Herzogenrath | BJ3: Aachen West | BM3: Aachen Hbf. | BP3: Eygelshoven | BS3: Chevremont | BV3: Kerkrade Centrum
A4: --> | B4: TE | C4: 2e klas | D4: 1e klas | E4: TE | F4: 2e klas | G4: 1e klas | H4: TE | I4: 2e klas | J4: 1e klas | K4: TE | L4: 2e klas | M4: 1e klas | N4: TE | O4: 2e klas | P4: 1e klas | Q4: TE | R4: 2e klas | S4: 1e klas | T4: TE | U4: 2e klas | V4: 1e klas | W4: TE | X4: 2e klas | Y4: 1e klas | Z4: TE | AA4: 2e klas | AB4: 1e klas | AC4: TE | AD4: 2e klas | AE4: 1e klas | AF4: TE | AG4: 2e klas | AH4: 1e klas | AI4: TE | AJ4: 2e klas | AK4: 1e klas | AL4: TE | AM4: 2e klas | AN4: 1e klas | AO4: TE | AP4: 2e klas | AQ4: 1e klas | AR4: TE | AS4: 2e klas | AT4: 1e klas | AU4: TE | AV4: 2e klas | AW4: 1e klas | AX4: TE | AY4: 2e klas | AZ4: 1e klas | BA4: TE | BB4: 2e klas | BC4: 1e klas | BD4: TE | BE4: 2e klas | BF4: 1e klas | BG4: TE | BH4: 2e klas | BI4: 1e klas | BJ4: TE | BK4: 2e klas | BL4: 1e klas | BM4: TE | BN4: 2e klas | BO4: 1e klas | BP4: TE | BQ4: 2e klas | BR4: 1e klas | BS4: TE | BT4: 2e klas | BU4: 1e klas | BV4: TE | BW4: 2e klas | BX4: 1e klas
A5: Liège-Guillemins | B5: 0 | C5: 0 | D5: 0 | E5: x | F5: 2.5 | G5: 3.6 | H5: x | I5: 4.6 | J5: 6.4 | K5: x | L5: 4.9 | M5: 6.8 | N5: x | O5: =$L5+O$8 -> 7.9 | P5: =$M5+P$8 -> 11.9 | Q5: x | R5: =$L5+R$8 -> 8.4 | S5: =$M5+S$8 -> 12.75 | T5: =$K$5 -> x | U5: =$L5+U$8 -> 6.99 | V5: =$M5+V$8 -> 9.54 | W5: =$K$5 -> x | X5: =$L5+X$8 -> 8.38 | Y5: =$M5+Y$8 -> 11.89 | Z5: =$K$5 -> x | AA5: =$L5+AA$8 -> 9.76 | AB5: =$M5+AB$8 -> 14.25 | AC5: =$K$5 -> x | AD5: =$L5+AD$8 -> 10.88 | AE5: =$M5+AE$8 -> 16.14 | AF5: =$K$5 -> x | AG5: =$L5+AG$8 -> 11.47 | AH5: =$M5+AH$8 -> 17.14 | AI5: =$K$5 -> x | AJ5: =$L5+AJ$8 -> 12.16 | AK5: =$M5+AK$8 -> 18.3 | AL5: =$K$5 -> x | AM5: =$L5+AM$8 -> 12.72 | AN5: =$M5+AN$8 -> 19.25 | AO5: =$K$5 -> x | AP5: =$L5+AP$8 -> 13.63 | AQ5: =$M5+AQ$8 -> 20.8 | AR5: =$K$5 -> x | AS5: =$L5+AS$8 -> 13.99 | AT5: =$M5+AT$8 -> 21.41 | AU5: =$K$5 -> x | AV5: =$L5+AV$8 -> 14.55 | AW5: =$M5+AW$8 -> 22.36 | AX5: =$K$5 -> x | AY5: =$L5+AY$8 -> 15.14 | AZ5: =$M5+AZ$8 -> 23.35 | BA5: =$K$5 -> x | BB5: =$L5+BB$8 -> 15.83 | BC5: =$M5+BC$8 -> 24.52 | BD5: =$K$5 -> x | BE5: =$L5+BE$8 -> 16.62 | BF5: =$M5+BF$8 -> 25.85 | BG5: =$K$5 -> x | BH5: =$L5+BH$8 -> 16.75 | BI5: =$M5+BI$8 -> 26.07 | BJ5: =$K$5 -> x | BK5: =$L5+BK$8 -> 19.25 | BL5: =$M5+BL$8 -> 30.31 | BM5: =$K$5 -> x | BN5: =$L5+BN$8 -> 19.93 | BO5: =$M5+BO$8 -> 31.47 | BP5: =$K$5 -> x | BQ5: =$L5+BQ$8 -> 15.7 | BR5: =$M5+BR$8 -> 24.3 | BS5: =$K$5 -> x | BT5: =$L5+BT$8 -> 15.83 | BU5: =$M5+BU$8 -> 24.52 | BV5: =$K$5 -> x | BW5: =$L5+BW$8 -> 16.29 | BX5: =$M5+BX$8 -> 25.29
A6: Bressoux | B6: x | C6: 2.5 | D6: 3.6 | E6: 0 | F6: 0 | G6: 0 | H6: x | I6: 4.6 | J6: 6.4 | K6: x | L6: 4.9 | M6: 6.8 | N6: x | O6: =$L6+O$8 -> 7.9 | P6: =$M6+P$8 -> 11.9 | Q6: x | R6: =$L6+R$8 -> 8.4 | S6: =$M6+S$8 -> 12.75 | T6: =$K$6 -> x | U6: =$L6+U$8 -> 6.99 | V6: =$M6+V$8 -> 9.54 | W6: =$K$6 -> x | X6: =$L6+X$8 -> 8.38 | Y6: =$M6+Y$8 -> 11.89 | Z6: =$K$6 -> x | AA6: =$L6+AA$8 -> 9.76 | AB6: =$M6+AB$8 -> 14.25 | AC6: =$K$6 -> x | AD6: =$L6+AD$8 -> 10.88 | AE6: =$M6+AE$8 -> 16.14 | AF6: =$K$6 -> x | AG6: =$L6+AG$8 -> 11.47 | AH6: =$M6+AH$8 -> 17.14 | AI6: =$K$6 -> x | AJ6: =$L6+AJ$8 -> 12.16 | AK6: =$M6+AK$8 -> 18.3 | AL6: =$K$6 -> x | AM6: =$L6+AM$8 -> 12.72 | AN6: =$M6+AN$8 -> 19.25 | AO6: =$K$6 -> x | AP6: =$L6+AP$8 -> 13.63 | AQ6: =$M6+AQ$8 -> 20.8 | AR6: =$K$6 -> x | AS6: =$L6+AS$8 -> 13.99 | AT6: =$M6+AT$8 -> 21.41 | AU6: =$K$6 -> x | AV6: =$L6+AV$8 -> 14.55 | AW6: =$M6+AW$8 -> 22.36 | AX6: =$K$6 -> x | AY6: =$L6+AY$8 -> 15.14 | AZ6: =$M6+AZ$8 -> 23.35 | BA6: =$K$6 -> x | BB6: =$L6+BB$8 -> 15.83 | BC6: =$M6+BC$8 -> 24.52 | BD6: =$K$6 -> x | BE6: =$L6+BE$8 -> 16.62 | BF6: =$M6+BF$8 -> 25.85 | BG6: =$K$6 -> x | BH6: =$L6+BH$8 -> 16.75 | BI6: =$M6+BI$8 -> 26.07 | BJ6: =$K$6 -> x | BK6: =$L6+BK$8 -> 19.25 | BL6: =$M6+BL$8 -> 30.31 | BM6: =$K$6 -> x | BN6: =$L6+BN$8 -> 19.93 | BO6: =$M6+BO$8 -> 31.47 | BP6: =$K$6 -> x | BQ6: =$L6+BQ$8 -> 15.7 | BR6: =$M6+BR$8 -> 24.3 | BS6: =$K$6 -> x | BT6: =$L6+BT$8 -> 15.83 | BU6: =$M6+BU$8 -> 24.52 | BV6: =$K$6 -> x | BW6: =$L6+BW$8 -> 16.29 | BX6: =$M6+BX$8 -> 25.29
A7: Visé | B7: x | C7: 4.6 | D7: 6.4 | E7: x | F7: 4.6 | G7: 6.4 | I7: 0 | J7: 0 | K7: x | L7: 2.5 | M7: 3.6 | N7: x | O7: =$L7+O$8 -> 5.5 | P7: =$M7+P$8 -> 8.7 | Q7: x | R7: =$L7+R$8 -> 6 | S7: =$M7+S$8 -> 9.55 | T7: =$K$7 -> x | U7: =$L7+U$8 -> 4.59 | V7: =$M7+V$8 -> 6.34 | W7: =$K$7 -> x | X7: =$L7+X$8 -> 5.98 | Y7: =$M7+Y$8 -> 8.69 | Z7: =$K$7 -> x | AA7: =$L7+AA$8 -> 7.36 | AB7: =$M7+AB$8 -> 11.05 | AC7: =$K$7 -> x | AD7: =$L7+AD$8 -> 8.48 | AE7: =$M7+AE$8 -> 12.94 | AF7: =$K$7 -> x | AG7: =$L7+AG$8 -> 9.07 | AH7: =$M7+AH$8 -> 13.94 | AI7: =$K$7 -> x | AJ7: =$L7+AJ$8 -> 9.76 | AK7: =$M7+AK$8 -> 15.1 | AL7: =$K$7 -> x | AM7: =$L7+AM$8 -> 10.32 | AN7: =$M7+AN$8 -> 16.05 | AO7: =$K$7 -> x | AP7: =$L7+AP$8 -> 11.23 | AQ7: =$M7+AQ$8 -> 17.6 | AR7: =$K$7 -> x | AS7: =$L7+AS$8 -> 11.59 | AT7: =$M7+AT$8 -> 18.21 | AU7: =$K$7 -> x | AV7: =$L7+AV$8 -> 12.15 | AW7: =$M7+AW$8 -> 19.16 | AX7: =$K$7 -> x | AY7: =$L7+AY$8 -> 12.74 | AZ7: =$M7+AZ$8 -> 20.15 | BA7: =$K$7 -> x | BB7: =$L7+BB$8 -> 13.43 | BC7: =$M7+BC$8 -> 21.32 | BD7: =$K$7 -> x | BE7: =$L7+BE$8 -> 14.22 | BF7: =$M7+BF$8 -> 22.65 | BG7: =$K$7 -> x | BH7: =$L7+BH$8 -> 14.35 | BI7: =$M7+BI$8 -> 22.87 | BJ7: =$K$7 -> x | BK7: =$L7+BK$8 -> 16.85 | BL7: =$M7+BL$8 -> 27.11 | BM7: =$K$7 -> x | BN7: =$L7+BN$8 -> 17.53 | BO7: =$M7+BO$8 -> 28.27 | BP7: =$K$7 -> x | BQ7: =$L7+BQ$8 -> 13.3 | BR7: =$M7+BR$8 -> 21.1 | BS7: =$K$7 -> x | BT7: =$L7+BT$8 -> 13.43 | BU7: =$M7+BU$8 -> 21.32 | BV7: =$K$7 -> x | BW7: =$L7+BW$8 -> 13.89 | BX7: =$M7+BX$8 -> 22.09
A8: Visé-Grens | B8: x | C8: 4.9 | D8: 6.8 | E8: x | F8: 4.9 | G8: 6.8 | H8: x | I8: 2.5 | J8: 3.6 | K8: 0 | L8: 0 | M8: 0 | N8: 2 | O8: =IF(O$4="2e klas", VLOOKUP(N8,'NS tarieventabel (2026)'!$A:$Y,2,FALSE), VLOOKUP(N8,'NS tarieventabel (2026)'!$A:$Y,7,FALSE)) -> 3 | P8: =IF(P$4="2e klas", VLOOKUP(N8,'NS tarieventabel (2026)'!$A:$Y,2,FALSE), VLOOKUP(N8,'NS tarieventabel (2026)'!$A:$Y,7,FALSE)) -> 5.1 | Q8: 10 | R8: =IF(R$4="2e klas", VLOOKUP(Q8,'NS tarieventabel (2026)'!$A:$Y,2,FALSE), VLOOKUP(Q8,'NS tarieventabel (2026)'!$A:$Y,7,FALSE)) -> 3.5 | S8: =IF(S$4="2e klas", VLOOKUP(Q8,'NS tarieventabel (2026)'!$A:$Y,2,FALSE), VLOOKUP(Q8,'NS tarieventabel (2026)'!$A:$Y,7,FALSE)) -> 5.95 | T8: =$N$8+T9 -> 11 | U8: =IF(U$4="2e klas", U$10+(VLOOKUP(T8,'NS tarieventabel (2026)'!$A:$Y,2,FALSE)-(VLOOKUP(T$10,'NS tarieventabel (2026)'!$A:$Y,2,FALSE)))*1, U$10*(+VLOOKUP(T8,'NS tarieventabel (2026)'!$A:$Y,7,FALSE)-(VLOOKUP(T$10,'NS tarieventabel (2026)'!$A:$Y,7,FALSE)))*1) -> 2.09 | V8: =IF(V$4="2e klas", V$10+(VLOOKUP(T8,'NS tarieventabel (2026)'!$A:$Y,2,FALSE)-(VLOOKUP(T$10,'NS tarieventabel (2026)'!$A:$Y,2,FALSE)))*1, V$10+(+VLOOKUP(T8,'NS tarieventabel (2026)'!$A:$Y,7,FALSE)-(VLOOKUP(T$10,'NS tarieventabel (2026)'!$A:$Y,7,FALSE)))*1) -> 2.74 | W8: =$N$8+W9 -> 14 | X8: =IF(X$4="2e klas", X$10+(VLOOKUP(W8,'NS tarieventabel (2026)'!$A:$Y,2,FALSE)-(VLOOKUP(W$10,'NS tarieventabel (2026)'!$A:$Y,2,FALSE)))*1, X$10*(+VLOOKUP(W8,'NS tarieventabel (2026)'!$A:$Y,7,FALSE)-(VLOOKUP(W$10,'NS tarieventabel (2026)'!$A:$Y,7,FALSE)))*1) -> 3.48 | Y8: =IF(Y$4="2e klas", Y$10+(VLOOKUP(W8,'NS tarieventabel (2026)'!$A:$Y,2,FALSE)-(VLOOKUP(W$10,'NS tarieventabel (2026)'!$A:$Y,2,FALSE)))*1, Y$10+(+VLOOKUP(W8,'NS tarieventabel (2026)'!$A:$Y,7,FALSE)-(VLOOKUP(W$10,'NS tarieventabel (2026)'!$A:$Y,7,FALSE)))*1) -> 5.09 | Z8: =$N$8+Z9 -> 17 | AA8: =IF(AA$4="2e klas", AA$10+(VLOOKUP(Z8,'NS tarieventabel (2026)'!$A:$Y,2,FALSE)-(VLOOKUP(Z$10,'NS tarieventabel (2026)'!$A:$Y,2,FALSE)))*1, AA$10*(+VLOOKUP(Z8,'NS tarieventabel (2026)'!$A:$Y,7,FALSE)-(VLOOKUP(Z$10,'NS tarieventabel (2026)'!$A:$Y,7,FALSE)))*1) -> 4.86 | AB8: =IF(AB$4="2e klas", AB$10+(VLOOKUP(Z8,'NS tarieventabel (2026)'!$A:$Y,2,FALSE)-(VLOOKUP(Z$10,'NS tarieventabel (2026)'!$A:$Y,2,FALSE)))*1, AB$10+(+VLOOKUP(Z8,'NS tarieventabel (2026)'!$A:$Y,7,FALSE)-(VLOOKUP(Z$10,'NS tarieventabel (2026)'!$A:$Y,7,FALSE)))*1) -> 7.45 | AC8: =$N$8+AC9 -> 21 | AD8: =IF(AD$4="2e klas", AD$10+(VLOOKUP(AC8,'NS tarieventabel (2026)'!$A:$Y,2,FALSE)-(VLOOKUP(AC$10,'NS tarieventabel (2026)'!$A:$Y,2,FALSE)))*1, AD$10*(+VLOOKUP(AC8,'NS tarieventabel (2026)'!$A:$Y,7,FALSE)-(VLOOKUP(AC$10,'NS tarieventabel (2026)'!$A:$Y,7,FALSE)))*1) -> 5.98 | AE8: =IF(AE$4="2e klas", AE$10+(VLOOKUP(AC8,'NS tarieventabel (2026)'!$A:$Y,2,FALSE)-(VLOOKUP(AC$10,'NS tarieventabel (2026)'!$A:$Y,2,FALSE)))*1, AE$10+(+VLOOKUP(AC8,'NS tarieventabel (2026)'!$A:$Y,7,FALSE)-(VLOOKUP(AC$10,'NS tarieventabel (2026)'!$A:$Y,7,FALSE)))*1) -> 9.34 | AF8: =$N$8+AF9 -> 24 | AG8: =IF(AG$4="2e klas", AG$10+(VLOOKUP(AF8,'NS tarieventabel (2026)'!$A:$Y,2,FALSE)-(VLOOKUP(AF$10,'NS tarieventabel (2026)'!$A:$Y,2,FALSE)))*1, AG$10*(+VLOOKUP(AF8,'NS tarieventabel (2026)'!$A:$Y,7,FALSE)-(VLOOKUP(AF$10,'NS tarieventabel (2026)'!$A:$Y,7,FALSE)))*1) -> 6.57 | AH8: =IF(AH$4="2e klas", AH$10+(VLOOKUP(AF8,'NS tarieventabel (2026)'!$A:$Y,2,FALSE)-(VLOOKUP(AF$10,'NS tarieventabel (2026)'!$A:$Y,2,FALSE)))*1, AH$10+(+VLOOKUP(AF8,'NS tarieventabel (2026)'!$A:$Y,7,FALSE)-(VLOOKUP(AF$10,'NS tarieventabel (2026)'!$A:$Y,7,FALSE)))*1) -> 10.34 | AI8: =$N$8+AI9 -> 27 | AJ8: =IF(AJ$4="2e klas", AJ$10+(VLOOKUP(AI8,'NS tarieventabel (2026)'!$A:$Y,2,FALSE)-(VLOOKUP(AI$10,'NS tarieventabel (2026)'!$A:$Y,2,FALSE)))*1, AJ$10*(+VLOOKUP(AI8,'NS tarieventabel (2026)'!$A:$Y,7,FALSE)-(VLOOKUP(AI$10,'NS tarieventabel (2026)'!$A:$Y,7,FALSE)))*1) -> 7.26 | AK8: =IF(AK$4="2e klas", AK$10+(VLOOKUP(AI8,'NS tarieventabel (2026)'!$A:$Y,2,FALSE)-(VLOOKUP(AI$10,'NS tarieventabel (2026)'!$A:$Y,2,FALSE)))*1, AK$10+(+VLOOKUP(AI8,'NS tarieventabel (2026)'!$A:$Y,7,FALSE)-(VLOOKUP(AI$10,'NS tarieventabel (2026)'!$A:$Y,7,FALSE)))*1) -> 11.5 | AL8: =$N$8+AL9 -> 29 | AM8: =IF(AM$4="2e klas", AM$10+(VLOOKUP(AL8,'NS tarieventabel (2026)'!$A:$Y,2,FALSE)-(VLOOKUP(AL$10,'NS tarieventabel (2026)'!$A:$Y,2,FALSE)))*1, AM$10*(+VLOOKUP(AL8,'NS tarieventabel (2026)'!$A:$Y,7,FALSE)-(VLOOKUP(AL$10,'NS tarieventabel (2026)'!$A:$Y,7,FALSE)))*1) -> 7.82 | AN8: =IF(AN$4="2e klas", AN$10+(VLOOKUP(AL8,'NS tarieventabel (2026)'!$A:$Y,2,FALSE)-(VLOOKUP(AL$10,'NS tarieventabel (2026)'!$A:$Y,2,FALSE)))*1, AN$10+(+VLOOKUP(AL8,'NS tarieventabel (2026)'!$A:$Y,7,FALSE)-(VLOOKUP(AL$10,'NS tarieventabel (2026)'!$A:$Y,7,FALSE)))*1) -> 12.45 | AO8: =$N$8+AO9 -> 33 | AP8: =IF(AP$4="2e klas", AP$10+(VLOOKUP(AO8,'NS tarieventabel (2026)'!$A:$Y,2,FALSE)-(VLOOKUP(AO$10,'NS tarieventabel (2026)'!$A:$Y,2,FALSE)))*1, AP$10*(+VLOOKUP(AO8,'NS tarieventabel (2026)'!$A:$Y,7,FALSE)-(VLOOKUP(AO$10,'NS tarieventabel (2026)'!$A:$Y,7,FALSE)))*1) -> 8.73 | AQ8: =IF(AQ$4="2e klas", AQ$10+(VLOOKUP(AO8,'NS tarieventabel (2026)'!$A:$Y,2,FALSE)-(VLOOKUP(AO$10,'NS tarieventabel (2026)'!$A:$Y,2,FALSE)))*1, AQ$10+(+VLOOKUP(AO8,'NS tarieventabel (2026)'!$A:$Y,7,FALSE)-(VLOOKUP(AO$10,'NS tarieventabel (2026)'!$A:$Y,7,FALSE)))*1) -> 14 | AR8: =$N$8+AR9 -> 35 | AS8: =IF(AS$4="2e klas", AS$10+(VLOOKUP(AR8,'NS tarieventabel (2026)'!$A:$Y,2,FALSE)-(VLOOKUP(AR$10,'NS tarieventabel (2026)'!$A:$Y,2,FALSE)))*1, AS$10*(+VLOOKUP(AR8,'NS tarieventabel (2026)'!$A:$Y,7,FALSE)-(VLOOKUP(AR$10,'NS tarieventabel (2026)'!$A:$Y,7,FALSE)))*1) -> 9.09 | AT8: =IF(AT$4="2e klas", AT$10+(VLOOKUP(AR8,'NS tarieventabel (2026)'!$A:$Y,2,FALSE)-(VLOOKUP(AR$10,'NS tarieventabel (2026)'!$A:$Y,2,FALSE)))*1, AT$10+(+VLOOKUP(AR8,'NS tarieventabel (2026)'!$A:$Y,7,FALSE)-(VLOOKUP(AR$10,'NS tarieventabel (2026)'!$A:$Y,7,FALSE)))*1) -> 14.61 | AU8: =$N$8+AU9 -> 37 | AV8: =IF(AV$4="2e klas", AV$10+(VLOOKUP(AU8,'NS tarieventabel (2026)'!$A:$Y,2,FALSE)-(VLOOKUP(AU$10,'NS tarieventabel (2026)'!$A:$Y,2,FALSE)))*1, AV$10*(+VLOOKUP(AU8,'NS tarieventabel (2026)'!$A:$Y,7,FALSE)-(VLOOKUP(AU$10,'NS tarieventabel (2026)'!$A:$Y,7,FALSE)))*1) -> 9.65 | AW8: =IF(AW$4="2e klas", AW$10+(VLOOKUP(AU8,'NS tarieventabel (2026)'!$A:$Y,2,FALSE)-(VLOOKUP(AU$10,'NS tarieventabel (2026)'!$A:$Y,2,FALSE)))*1, AW$10+(+VLOOKUP(AU8,'NS tarieventabel (2026)'!$A:$Y,7,FALSE)-(VLOOKUP(AU$10,'NS tarieventabel (2026)'!$A:$Y,7,FALSE)))*1) -> 15.56 | AX8: =$N$8+AX9 -> 40 | AY8: =IF(AY$4="2e klas", AY$10+(VLOOKUP(AX8,'NS tarieventabel (2026)'!$A:$Y,2,FALSE)-(VLOOKUP(AX$10,'NS tarieventabel (2026)'!$A:$Y,2,FALSE)))*1, AY$10*(+VLOOKUP(AX8,'NS tarieventabel (2026)'!$A:$Y,7,FALSE)-(VLOOKUP(AX$10,'NS tarieventabel (2026)'!$A:$Y,7,FALSE)))*1) -> 10.24 | AZ8: =IF(AZ$4="2e klas", AZ$10+(VLOOKUP(AX8,'NS tarieventabel (2026)'!$A:$Y,2,FALSE)-(VLOOKUP(AX$10,'NS tarieventabel (2026)'!$A:$Y,2,FALSE)))*1, AZ$10+(+VLOOKUP(AX8,'NS tarieventabel (2026)'!$A:$Y,7,FALSE)-(VLOOKUP(AX$10,'NS tarieventabel (2026)'!$A:$Y,7,FALSE)))*1) -> 16.55 | BA8: =$N$8+BA9 -> 43 | BB8: =IF(BB$4="2e klas", BB$10+(VLOOKUP(BA8,'NS tarieventabel (2026)'!$A:$Y,2,FALSE)-(VLOOKUP(BA$10,'NS tarieventabel (2026)'!$A:$Y,2,FALSE)))*1, BB$10*(+VLOOKUP(BA8,'NS tarieventabel (2026)'!$A:$Y,7,FALSE)-(VLOOKUP(BA$10,'NS tarieventabel (2026)'!$A:$Y,7,FALSE)))*1) -> 10.93 | BC8: =IF(BC$4="2e klas", BC$10+(VLOOKUP(BA8,'NS tarieventabel (2026)'!$A:$Y,2,FALSE)-(VLOOKUP(BA$10,'NS tarieventabel (2026)'!$A:$Y,2,FALSE)))*1, BC$10+(+VLOOKUP(BA8,'NS tarieventabel (2026)'!$A:$Y,7,FALSE)-(VLOOKUP(BA$10,'NS tarieventabel (2026)'!$A:$Y,7,FALSE)))*1) -> 17.72 | BD8: =$N$8+BD9 -> 46 | BE8: =IF(BE$4="2e klas", BE$10+(VLOOKUP(BD8,'NS tarieventabel (2026)'!$A:$Y,2,FALSE)-(VLOOKUP(BD$10,'NS tarieventabel (2026)'!$A:$Y,2,FALSE)))*1, BE$10*(+VLOOKUP(BD8,'NS tarieventabel (2026)'!$A:$Y,7,FALSE)-(VLOOKUP(BD$10,'NS tarieventabel (2026)'!$A:$Y,7,FALSE)))*1) -> 11.72 | BF8: =IF(BF$4="2e klas", BF$10+(VLOOKUP(BD8,'NS tarieventabel (2026)'!$A:$Y,2,FALSE)-(VLOOKUP(BD$10,'NS tarieventabel (2026)'!$A:$Y,2,FALSE)))*1, BF$10+(+VLOOKUP(BD8,'NS tarieventabel (2026)'!$A:$Y,7,FALSE)-(VLOOKUP(BD$10,'NS tarieventabel (2026)'!$A:$Y,7,FALSE)))*1) -> 19.05 | BG8: =$N$8+BG9 -> 47 | BH8: =IF(BH$4="2e klas", BH$10+(VLOOKUP(BG8,'NS tarieventabel (2026)'!$A:$Y,2,FALSE)-(VLOOKUP(BG$10,'NS tarieventabel (2026)'!$A:$Y,2,FALSE)))*1, BH$10*(+VLOOKUP(BG8,'NS tarieventabel (2026)'!$A:$Y,7,FALSE)-(VLOOKUP(BG$10,'NS tarieventabel (2026)'!$A:$Y,7,FALSE)))*1) -> 11.85 | BI8: =IF(BI$4="2e klas", BI$10+(VLOOKUP(BG8,'NS tarieventabel (2026)'!$A:$Y,2,FALSE)-(VLOOKUP(BG$10,'NS tarieventabel (2026)'!$A:$Y,2,FALSE)))*1, BI$10+(+VLOOKUP(BG8,'NS tarieventabel (2026)'!$A:$Y,7,FALSE)-(VLOOKUP(BG$10,'NS tarieventabel (2026)'!$A:$Y,7,FALSE)))*1) -> 19.27 | BJ8: =$N$8+BJ9 -> 58 | BK8: =IF(BK$4="2e klas", BK$10+(VLOOKUP(BJ8,'NS tarieventabel (2026)'!$A:$Y,2,FALSE)-(VLOOKUP(BJ$10,'NS tarieventabel (2026)'!$A:$Y,2,FALSE)))*1, BK$10*(+VLOOKUP(BJ8,'NS tarieventabel (2026)'!$A:$Y,7,FALSE)-(VLOOKUP(BJ$10,'NS tarieventabel (2026)'!$A:$Y,7,FALSE)))*1) -> 14.35 | BL8: =IF(BL$4="2e klas", BL$10+(VLOOKUP(BJ8,'NS tarieventabel (2026)'!$A:$Y,2,FALSE)-(VLOOKUP(BJ$10,'NS tarieventabel (2026)'!$A:$Y,2,FALSE)))*1, BL$10+(+VLOOKUP(BJ8,'NS tarieventabel (2026)'!$A:$Y,7,FALSE)-(VLOOKUP(BJ$10,'NS tarieventabel (2026)'!$A:$Y,7,FALSE)))*1) -> 23.51 | BM8: =$N$8+BM9 -> 61 | BN8: =IF(BN$4="2e klas", BN$10+(VLOOKUP(BM8,'NS tarieventabel (2026)'!$A:$Y,2,FALSE)-(VLOOKUP(BM$10,'NS tarieventabel (2026)'!$A:$Y,2,FALSE)))*1, BN$10*(+VLOOKUP(BM8,'NS tarieventabel (2026)'!$A:$Y,7,FALSE)-(VLOOKUP(BM$10,'NS tarieventabel (2026)'!$A:$Y,7,FALSE)))*1) -> 15.03 | BO8: =IF(BO$4="2e klas", BO$10+(VLOOKUP(BM8,'NS tarieventabel (2026)'!$A:$Y,2,FALSE)-(VLOOKUP(BM$10,'NS tarieventabel (2026)'!$A:$Y,2,FALSE)))*1, BO$10+(+VLOOKUP(BM8,'NS tarieventabel (2026)'!$A:$Y,7,FALSE)-(VLOOKUP(BM$10,'NS tarieventabel (2026)'!$A:$Y,7,FALSE)))*1) -> 24.67 | BP8: =$N$8+BP9 -> 42 | BQ8: =IF(BQ$4="2e klas", BQ$10+(VLOOKUP(BP8,'NS tarieventabel (2026)'!$A:$Y,2,FALSE)-(VLOOKUP(BP$10,'NS tarieventabel (2026)'!$A:$Y,2,FALSE)))*1, BQ$10*(+VLOOKUP(BP8,'NS tarieventabel (2026)'!$A:$Y,7,FALSE)-(VLOOKUP(BP$10,'NS tarieventabel (2026)'!$A:$Y,7,FALSE)))*1) -> 10.8 | BR8: =IF(BR$4="2e klas", BR$10+(VLOOKUP(BP8,'NS tarieventabel (2026)'!$A:$Y,2,FALSE)-(VLOOKUP(BP$10,'NS tarieventabel (2026)'!$A:$Y,2,FALSE)))*1, BR$10+(+VLOOKUP(BP8,'NS tarieventabel (2026)'!$A:$Y,7,FALSE)-(VLOOKUP(BP$10,'NS tarieventabel (2026)'!$A:$Y,7,FALSE)))*1) -> 17.5 | BS8: =$N$8+BS9 -> 43 | BT8: =IF(BT$4="2e klas", BT$10+(VLOOKUP(BS8,'NS tarieventabel (2026)'!$A:$Y,2,FALSE)-(VLOOKUP(BS$10,'NS tarieventabel (2026)'!$A:$Y,2,FALSE)))*1, BT$10*(+VLOOKUP(BS8,'NS tarieventabel (2026)'!$A:$Y,7,FALSE)-(VLOOKUP(BS$10,'NS tarieventabel (2026)'!$A:$Y,7,FALSE)))*1) -> 10.93 | BU8: =IF(BU$4="2e klas", BU$10+(VLOOKUP(BS8,'NS tarieventabel (2026)'!$A:$Y,2,FALSE)-(VLOOKUP(BS$10,'NS tarieventabel (2026)'!$A:$Y,2,FALSE)))*1, BU$10+(+VLOOKUP(BS8,'NS tarieventabel (2026)'!$A:$Y,7,FALSE)-(VLOOKUP(BS$10,'NS tarieventabel (2026)'!$A:$Y,7,FALSE)))*1) -> 17.72 | BV8: =$N$8+BV9 -> 45 | BW8: =IF(BW$4="2e klas", BW$10+(VLOOKUP(BV8,'NS tarieventabel (2026)'!$A:$Y,2,FALSE)-(VLOOKUP(BV$10,'NS tarieventabel (2026)'!$A:$Y,2,FALSE)))*1, BW$10*(+VLOOKUP(BV8,'NS tarieventabel (2026)'!$A:$Y,7,FALSE)-(VLOOKUP(BV$10,'NS tarieventabel (2026)'!$A:$Y,7,FALSE)))*1) -> 11.39 | BX8: =IF(BX$4="2e klas", BX$10+(VLOOKUP(BV8,'NS tarieventabel (2026)'!$A:$Y,2,FALSE)-(VLOOKUP(BV$10,'NS tarieventabel (2026)'!$A:$Y,2,FALSE)))*1, BX$10+(+VLOOKUP(BV8,'NS tarieventabel (2026)'!$A:$Y,7,FALSE)-(VLOOKUP(BV$10,'NS tarieventabel (2026)'!$A:$Y,7,FALSE)))*1) -> 18.49
A9: Eijsden | B9: 2 | C9: =IF(C$4="2e klas", C$8+VLOOKUP(B9,'NS tarieventabel (2026)'!$A:$Y,2,FALSE), C$8+VLOOKUP(B9,'NS tarieventabel (2026)'!$A:$Y,7,FALSE)) -> 7.9 | D9: =IF(D$4="2e klas", D$8+VLOOKUP(B9,'NS tarieventabel (2026)'!$A:$Y,2,FALSE), D$8+VLOOKUP(B9,'NS tarieventabel (2026)'!$A:$Y,7,FALSE)) -> 11.9 | E9: 2 | F9: =IF(F$4="2e klas", F$8+VLOOKUP(E9,'NS tarieventabel (2026)'!$A:$Y,2,FALSE), F$8+VLOOKUP(E9,'NS tarieventabel (2026)'!$A:$Y,7,FALSE)) -> 7.9 | G9: =IF(G$4="2e klas", G$8+VLOOKUP(E9,'NS tarieventabel (2026)'!$A:$Y,2,FALSE), G$8+VLOOKUP(E9,'NS tarieventabel (2026)'!$A:$Y,7,FALSE)) -> 11.9 | H9: 2 | I9: =IF(I$4="2e klas", I$8+VLOOKUP(H9,'NS tarieventabel (2026)'!$A:$Y,2,FALSE), I$8+VLOOKUP(H9,'NS tarieventabel (2026)'!$A:$Y,7,FALSE)) -> 5.5 | J9: =IF(J$4="2e klas", J$8+VLOOKUP(H9,'NS tarieventabel (2026)'!$A:$Y,2,FALSE), J$8+VLOOKUP(H9,'NS tarieventabel (2026)'!$A:$Y,7,FALSE)) -> 8.7 | K9: 2 | L9: =IF(L$4="2e klas", VLOOKUP(K9,'NS tarieventabel (2026)'!$A:$Y,2,FALSE), VLOOKUP(K9,'NS tarieventabel (2026)'!$A:$Y,7,FALSE)) -> 3 | M9: =IF(M$4="2e klas", VLOOKUP(K9,'NS tarieventabel (2026)'!$A:$Y,2,FALSE), VLOOKUP(K9,'NS tarieventabel (2026)'!$A:$Y,7,FALSE)) -> 5.1 | Q9: 8 | R9: =IF(R$4="2e klas", VLOOKUP(Q9,'NS tarieventabel (2026)'!$A:$Y,2,FALSE), VLOOKUP(Q9,'NS tarieventabel (2026)'!$A:$Y,7,FALSE)) -> 3 | S9: =IF(S$4="2e klas", VLOOKUP(Q9,'NS tarieventabel (2026)'!$A:$Y,2,FALSE), VLOOKUP(Q9,'NS tarieventabel (2026)'!$A:$Y,7,FALSE)) -> 5.1 | T9: =$Q$9+T10 -> 9 | U9: =IF(U$4="2e klas", U$10+(VLOOKUP(T9,'NS tarieventabel (2026)'!$A:$Y,2,FALSE)-(VLOOKUP(T$10,'NS tarieventabel (2026)'!$A:$Y,2,FALSE)))*1, U$10*(+VLOOKUP(T9,'NS tarieventabel (2026)'!$A:$Y,7,FALSE)-(VLOOKUP(T$10,'NS tarieventabel (2026)'!$A:$Y,7,FALSE)))*1) -> 1.69 | V9: =IF(V$4="2e klas", V$10+(VLOOKUP(T9,'NS tarieventabel (2026)'!$A:$Y,2,FALSE)-(VLOOKUP(T$10,'NS tarieventabel (2026)'!$A:$Y,2,FALSE)))*1, V$10+(+VLOOKUP(T9,'NS tarieventabel (2026)'!$A:$Y,7,FALSE)-(VLOOKUP(T$10,'NS tarieventabel (2026)'!$A:$Y,7,FALSE)))*1) -> 2.06 | W9: =$Q$9+W10 -> 12 | X9: =IF(X$4="2e klas", X$10+(VLOOKUP(W9,'NS tarieventabel (2026)'!$A:$Y,2,FALSE)-(VLOOKUP(W$10,'NS tarieventabel (2026)'!$A:$Y,2,FALSE)))*1, X$10*(+VLOOKUP(W9,'NS tarieventabel (2026)'!$A:$Y,7,FALSE)-(VLOOKUP(W$10,'NS tarieventabel (2026)'!$A:$Y,7,FALSE)))*1) -> 3.08 | Y9: =IF(Y$4="2e klas", Y$10+(VLOOKUP(W9,'NS tarieventabel (2026)'!$A:$Y,2,FALSE)-(VLOOKUP(W$10,'NS tarieventabel (2026)'!$A:$Y,2,FALSE)))*1, Y$10+(+VLOOKUP(W9,'NS tarieventabel (2026)'!$A:$Y,7,FALSE)-(VLOOKUP(W$10,'NS tarieventabel (2026)'!$A:$Y,7,FALSE)))*1) -> 4.41 | Z9: =$Q$9+Z10 -> 15 | AA9: =IF(AA$4="2e klas", AA$10+(VLOOKUP(Z9,'NS tarieventabel (2026)'!$A:$Y,2,FALSE)-(VLOOKUP(Z$10,'NS tarieventabel (2026)'!$A:$Y,2,FALSE)))*1, AA$10*(+VLOOKUP(Z9,'NS tarieventabel (2026)'!$A:$Y,7,FALSE)-(VLOOKUP(Z$10,'NS tarieventabel (2026)'!$A:$Y,7,FALSE)))*1) -> 4.36 | AB9: =IF(AB$4="2e klas", AB$10+(VLOOKUP(Z9,'NS tarieventabel (2026)'!$A:$Y,2,FALSE)-(VLOOKUP(Z$10,'NS tarieventabel (2026)'!$A:$Y,2,FALSE)))*1, AB$10+(+VLOOKUP(Z9,'NS tarieventabel (2026)'!$A:$Y,7,FALSE)-(VLOOKUP(Z$10,'NS tarieventabel (2026)'!$A:$Y,7,FALSE)))*1) -> 6.6 | AC9: =$Q$9+AC10 -> 19 | AD9: =IF(AD$4="2e klas", AD$10+(VLOOKUP(AC9,'NS tarieventabel (2026)'!$A:$Y,2,FALSE)-(VLOOKUP(AC$10,'NS tarieventabel (2026)'!$A:$Y,2,FALSE)))*1, AD$10*(+VLOOKUP(AC9,'NS tarieventabel (2026)'!$A:$Y,7,FALSE)-(VLOOKUP(AC$10,'NS tarieventabel (2026)'!$A:$Y,7,FALSE)))*1) -> 5.48 | AE9: =IF(AE$4="2e klas", AE$10+(VLOOKUP(AC9,'NS tarieventabel (2026)'!$A:$Y,2,FALSE)-(VLOOKUP(AC$10,'NS tarieventabel (2026)'!$A:$Y,2,FALSE)))*1, AE$10+(+VLOOKUP(AC9,'NS tarieventabel (2026)'!$A:$Y,7,FALSE)-(VLOOKUP(AC$10,'NS tarieventabel (2026)'!$A:$Y,7,FALSE)))*1) -> 8.49 | AF9: =$Q$9+AF10 -> 22 | AG9: =IF(AG$4="2e klas", AG$10+(VLOOKUP(AF9,'NS tarieventabel (2026)'!$A:$Y,2,FALSE)-(VLOOKUP(AF$10,'NS tarieventabel (2026)'!$A:$Y,2,FALSE)))*1, AG$10*(+VLOOKUP(AF9,'NS tarieventabel (2026)'!$A:$Y,7,FALSE)-(VLOOKUP(AF$10,'NS tarieventabel (2026)'!$A:$Y,7,FALSE)))*1) -> 6.17 | AH9: =IF(AH$4="2e klas", AH$10+(VLOOKUP(AF9,'NS tarieventabel (2026)'!$A:$Y,2,FALSE)-(VLOOKUP(AF$10,'NS tarieventabel (2026)'!$A:$Y,2,FALSE)))*1, AH$10+(+VLOOKUP(AF9,'NS tarieventabel (2026)'!$A:$Y,7,FALSE)-(VLOOKUP(AF$10,'NS tarieventabel (2026)'!$A:$Y,7,FALSE)))*1) -> 9.66 | AI9: =$Q$9+AI10 -> 25 | AJ9: =IF(AJ$4="2e klas", AJ$10+(VLOOKUP(AI9,'NS tarieventabel (2026)'!$A:$Y,2,FALSE)-(VLOOKUP(AI$10,'NS tarieventabel (2026)'!$A:$Y,2,FALSE)))*1, AJ$10*(+VLOOKUP(AI9,'NS tarieventabel (2026)'!$A:$Y,7,FALSE)-(VLOOKUP(AI$10,'NS tarieventabel (2026)'!$A:$Y,7,FALSE)))*1) -> 6.86 | AK9: =IF(AK$4="2e klas", AK$10+(VLOOKUP(AI9,'NS tarieventabel (2026)'!$A:$Y,2,FALSE)-(VLOOKUP(AI$10,'NS tarieventabel (2026)'!$A:$Y,2,FALSE)))*1, AK$10+(+VLOOKUP(AI9,'NS tarieventabel (2026)'!$A:$Y,7,FALSE)-(VLOOKUP(AI$10,'NS tarieventabel (2026)'!$A:$Y,7,FALSE)))*1) -> 10.82 | AL9: =$Q$9+AL10 -> 27 | AM9: =IF(AM$4="2e klas", AM$10+(VLOOKUP(AL9,'NS tarieventabel (2026)'!$A:$Y,2,FALSE)-(VLOOKUP(AL$10,'NS tarieventabel (2026)'!$A:$Y,2,FALSE)))*1, AM$10*(+VLOOKUP(AL9,'NS tarieventabel (2026)'!$A:$Y,7,FALSE)-(VLOOKUP(AL$10,'NS tarieventabel (2026)'!$A:$Y,7,FALSE)))*1) -> 7.32 | AN9: =IF(AN$4="2e klas", AN$10+(VLOOKUP(AL9,'NS tarieventabel (2026)'!$A:$Y,2,FALSE)-(VLOOKUP(AL$10,'NS tarieventabel (2026)'!$A:$Y,2,FALSE)))*1, AN$10+(+VLOOKUP(AL9,'NS tarieventabel (2026)'!$A:$Y,7,FALSE)-(VLOOKUP(AL$10,'NS tarieventabel (2026)'!$A:$Y,7,FALSE)))*1) -> 11.6 | AO9: =$Q$9+AO10 -> 31 | AP9: =IF(AP$4="2e klas", AP$10+(VLOOKUP(AO9,'NS tarieventabel (2026)'!$A:$Y,2,FALSE)-(VLOOKUP(AO$10,'NS tarieventabel (2026)'!$A:$Y,2,FALSE)))*1, AP$10*(+VLOOKUP(AO9,'NS tarieventabel (2026)'!$A:$Y,7,FALSE)-(VLOOKUP(AO$10,'NS tarieventabel (2026)'!$A:$Y,7,FALSE)))*1) -> 8.23 | AQ9: =IF(AQ$4="2e klas", AQ$10+(VLOOKUP(AO9,'NS tarieventabel (2026)'!$A:$Y,2,FALSE)-(VLOOKUP(AO$10,'NS tarieventabel (2026)'!$A:$Y,2,FALSE)))*1, AQ$10+(+VLOOKUP(AO9,'NS tarieventabel (2026)'!$A:$Y,7,FALSE)-(VLOOKUP(AO$10,'NS tarieventabel (2026)'!$A:$Y,7,FALSE)))*1) -> 13.15 | AR9: =$Q$9+AR10 -> 33 | AS9: =IF(AS$4="2e klas", AS$10+(VLOOKUP(AR9,'NS tarieventabel (2026)'!$A:$Y,2,FALSE)-(VLOOKUP(AR$10,'NS tarieventabel (2026)'!$A:$Y,2,FALSE)))*1, AS$10*(+VLOOKUP(AR9,'NS tarieventabel (2026)'!$A:$Y,7,FALSE)-(VLOOKUP(AR$10,'NS tarieventabel (2026)'!$A:$Y,7,FALSE)))*1) -> 8.69 | AT9: =IF(AT$4="2e klas", AT$10+(VLOOKUP(AR9,'NS tarieventabel (2026)'!$A:$Y,2,FALSE)-(VLOOKUP(AR$10,'NS tarieventabel (2026)'!$A:$Y,2,FALSE)))*1, AT$10+(+VLOOKUP(AR9,'NS tarieventabel (2026)'!$A:$Y,7,FALSE)-(VLOOKUP(AR$10,'NS tarieventabel (2026)'!$A:$Y,7,FALSE)))*1) -> 13.93 | AU9: =$Q$9+AU10 -> 35 | AV9: =IF(AV$4="2e klas", AV$10+(VLOOKUP(AU9,'NS tarieventabel (2026)'!$A:$Y,2,FALSE)-(VLOOKUP(AU$10,'NS tarieventabel (2026)'!$A:$Y,2,FALSE)))*1, AV$10*(+VLOOKUP(AU9,'NS tarieventabel (2026)'!$A:$Y,7,FALSE)-(VLOOKUP(AU$10,'NS tarieventabel (2026)'!$A:$Y,7,FALSE)))*1) -> 9.15 | AW9: =IF(AW$4="2e klas", AW$10+(VLOOKUP(AU9,'NS tarieventabel (2026)'!$A:$Y,2,FALSE)-(VLOOKUP(AU$10,'NS tarieventabel (2026)'!$A:$Y,2,FALSE)))*1, AW$10+(+VLOOKUP(AU9,'NS tarieventabel (2026)'!$A:$Y,7,FALSE)-(VLOOKUP(AU$10,'NS tarieventabel (2026)'!$A:$Y,7,FALSE)))*1) -> 14.71 | AX9: =$Q$9+AX10 -> 38 | AY9: =IF(AY$4="2e klas", AY$10+(VLOOKUP(AX9,'NS tarieventabel (2026)'!$A:$Y,2,FALSE)-(VLOOKUP(AX$10,'NS tarieventabel (2026)'!$A:$Y,2,FALSE)))*1, AY$10*(+VLOOKUP(AX9,'NS tarieventabel (2026)'!$A:$Y,7,FALSE)-(VLOOKUP(AX$10,'NS tarieventabel (2026)'!$A:$Y,7,FALSE)))*1) -> 9.84 | AZ9: =IF(AZ$4="2e klas", AZ$10+(VLOOKUP(AX9,'NS tarieventabel (2026)'!$A:$Y,2,FALSE)-(VLOOKUP(AX$10,'NS tarieventabel (2026)'!$A:$Y,2,FALSE)))*1, AZ$10+(+VLOOKUP(AX9,'NS tarieventabel (2026)'!$A:$Y,7,FALSE)-(VLOOKUP(AX$10,'NS tarieventabel (2026)'!$A:$Y,7,FALSE)))*1) -> 15.87 | BA9: =$Q$9+BA10 -> 41 | BB9: =IF(BB$4="2e klas", BB$10+(VLOOKUP(BA9,'NS tarieventabel (2026)'!$A:$Y,2,FALSE)-(VLOOKUP(BA$10,'NS tarieventabel (2026)'!$A:$Y,2,FALSE)))*1, BB$10*(+VLOOKUP(BA9,'NS tarieventabel (2026)'!$A:$Y,7,FALSE)-(VLOOKUP(BA$10,'NS tarieventabel (2026)'!$A:$Y,7,FALSE)))*1) -> 10.53 | BC9: =IF(BC$4="2e klas", BC$10+(VLOOKUP(BA9,'NS tarieventabel (2026)'!$A:$Y,2,FALSE)-(VLOOKUP(BA$10,'NS tarieventabel (2026)'!$A:$Y,2,FALSE)))*1, BC$10+(+VLOOKUP(BA9,'NS tarieventabel (2026)'!$A:$Y,7,FALSE)-(VLOOKUP(BA$10,'NS tarieventabel (2026)'!$A:$Y,7,FALSE)))*1) -> 17.04 | BD9: =$Q$9+BD10 -> 44 | BE9: =IF(BE$4="2e klas", BE$10+(VLOOKUP(BD9,'NS tarieventabel (2026)'!$A:$Y,2,FALSE)-(VLOOKUP(BD$10,'NS tarieventabel (2026)'!$A:$Y,2,FALSE)))*1, BE$10*(+VLOOKUP(BD9,'NS tarieventabel (2026)'!$A:$Y,7,FALSE)-(VLOOKUP(BD$10,'NS tarieventabel (2026)'!$A:$Y,7,FALSE)))*1) -> 11.22 | BF9: =IF(BF$4="2e klas", BF$10+(VLOOKUP(BD9,'NS tarieventabel (2026)'!$A:$Y,2,FALSE)-(VLOOKUP(BD$10,'NS tarieventabel (2026)'!$A:$Y,2,FALSE)))*1, BF$10+(+VLOOKUP(BD9,'NS tarieventabel (2026)'!$A:$Y,7,FALSE)-(VLOOKUP(BD$10,'NS tarieventabel (2026)'!$A:$Y,7,FALSE)))*1) -> 18.2 | BG9: =$Q$9+BG10 -> 45 | BH9: =IF(BH$4="2e klas", BH$10+(VLOOKUP(BG9,'NS tarieventabel (2026)'!$A:$Y,2,FALSE)-(VLOOKUP(BG$10,'NS tarieventabel (2026)'!$A:$Y,2,FALSE)))*1, BH$10*(+VLOOKUP(BG9,'NS tarieventabel (2026)'!$A:$Y,7,FALSE)-(VLOOKUP(BG$10,'NS tarieventabel (2026)'!$A:$Y,7,FALSE)))*1) -> 11.35 | BI9: =IF(BI$4="2e klas", BI$10+(VLOOKUP(BG9,'NS tarieventabel (2026)'!$A:$Y,2,FALSE)-(VLOOKUP(BG$10,'NS tarieventabel (2026)'!$A:$Y,2,FALSE)))*1, BI$10+(+VLOOKUP(BG9,'NS tarieventabel (2026)'!$A:$Y,7,FALSE)-(VLOOKUP(BG$10,'NS tarieventabel (2026)'!$A:$Y,7,FALSE)))*1) -> 18.42 | BJ9: =$Q$9+BJ10 -> 56 | BK9: =IF(BK$4="2e klas", BK$10+(VLOOKUP(BJ9,'NS tarieventabel (2026)'!$A:$Y,2,FALSE)-(VLOOKUP(BJ$10,'NS tarieventabel (2026)'!$A:$Y,2,FALSE)))*1, BK$10*(+VLOOKUP(BJ9,'NS tarieventabel (2026)'!$A:$Y,7,FALSE)-(VLOOKUP(BJ$10,'NS tarieventabel (2026)'!$A:$Y,7,FALSE)))*1) -> 13.95 | BL9: =IF(BL$4="2e klas", BL$10+(VLOOKUP(BJ9,'NS tarieventabel (2026)'!$A:$Y,2,FALSE)-(VLOOKUP(BJ$10,'NS tarieventabel (2026)'!$A:$Y,2,FALSE)))*1, BL$10+(+VLOOKUP(BJ9,'NS tarieventabel (2026)'!$A:$Y,7,FALSE)-(VLOOKUP(BJ$10,'NS tarieventabel (2026)'!$A:$Y,7,FALSE)))*1) -> 22.83 | BM9: =$Q$9+BM10 -> 59 | BN9: =IF(BN$4="2e klas", BN$10+(VLOOKUP(BM9,'NS tarieventabel (2026)'!$A:$Y,2,FALSE)-(VLOOKUP(BM$10,'NS tarieventabel (2026)'!$A:$Y,2,FALSE)))*1, BN$10*(+VLOOKUP(BM9,'NS tarieventabel (2026)'!$A:$Y,7,FALSE)-(VLOOKUP(BM$10,'NS tarieventabel (2026)'!$A:$Y,7,FALSE)))*1) -> 14.53 | BO9: =IF(BO$4="2e klas", BO$10+(VLOOKUP(BM9,'NS tarieventabel (2026)'!$A:$Y,2,FALSE)-(VLOOKUP(BM$10,'NS tarieventabel (2026)'!$A:$Y,2,FALSE)))*1, BO$10+(+VLOOKUP(BM9,'NS tarieventabel (2026)'!$A:$Y,7,FALSE)-(VLOOKUP(BM$10,'NS tarieventabel (2026)'!$A:$Y,7,FALSE)))*1) -> 23.82 | BP9: =$Q$9+BP10 -> 40 | BQ9: =IF(BQ$4="2e klas", BQ$10+(VLOOKUP(BP9,'NS tarieventabel (2026)'!$A:$Y,2,FALSE)-(VLOOKUP(BP$10,'NS tarieventabel (2026)'!$A:$Y,2,FALSE)))*1, BQ$10*(+VLOOKUP(BP9,'NS tarieventabel (2026)'!$A:$Y,7,FALSE)-(VLOOKUP(BP$10,'NS tarieventabel (2026)'!$A:$Y,7,FALSE)))*1) -> 10.3 | BR9: =IF(BR$4="2e klas", BR$10+(VLOOKUP(BP9,'NS tarieventabel (2026)'!$A:$Y,2,FALSE)-(VLOOKUP(BP$10,'NS tarieventabel (2026)'!$A:$Y,2,FALSE)))*1, BR$10+(+VLOOKUP(BP9,'NS tarieventabel (2026)'!$A:$Y,7,FALSE)-(VLOOKUP(BP$10,'NS tarieventabel (2026)'!$A:$Y,7,FALSE)))*1) -> 16.65 | BS9: =$Q$9+BS10 -> 41 | BT9: =IF(BT$4="2e klas", BT$10+(VLOOKUP(BS9,'NS tarieventabel (2026)'!$A:$Y,2,FALSE)-(VLOOKUP(BS$10,'NS tarieventabel (2026)'!$A:$Y,2,FALSE)))*1, BT$10*(+VLOOKUP(BS9,'NS tarieventabel (2026)'!$A:$Y,7,FALSE)-(VLOOKUP(BS$10,'NS tarieventabel (2026)'!$A:$Y,7,FALSE)))*1) -> 10.53 | BU9: =IF(BU$4="2e klas", BU$10+(VLOOKUP(BS9,'NS tarieventabel (2026)'!$A:$Y,2,FALSE)-(VLOOKUP(BS$10,'NS tarieventabel (2026)'!$A:$Y,2,FALSE)))*1, BU$10+(+VLOOKUP(BS9,'NS tarieventabel (2026)'!$A:$Y,7,FALSE)-(VLOOKUP(BS$10,'NS tarieventabel (2026)'!$A:$Y,7,FALSE)))*1) -> 17.04 | BV9: =$Q$9+BV10 -> 43 | BW9: =IF(BW$4="2e klas", BW$10+(VLOOKUP(BV9,'NS tarieventabel (2026)'!$A:$Y,2,FALSE)-(VLOOKUP(BV$10,'NS tarieventabel (2026)'!$A:$Y,2,FALSE)))*1, BW$10*(+VLOOKUP(BV9,'NS tarieventabel (2026)'!$A:$Y,7,FALSE)-(VLOOKUP(BV$10,'NS tarieventabel (2026)'!$A:$Y,7,FALSE)))*1) -> 10.99 | BX9: =IF(BX$4="2e klas", BX$10+(VLOOKUP(BV9,'NS tarieventabel (2026)'!$A:$Y,2,FALSE)-(VLOOKUP(BV$10,'NS tarieventabel (2026)'!$A:$Y,2,FALSE)))*1, BX$10+(+VLOOKUP(BV9,'NS tarieventabel (2026)'!$A:$Y,7,FALSE)-(VLOOKUP(BV$10,'NS tarieventabel (2026)'!$A:$Y,7,FALSE)))*1) -> 17.81
A10: Maastricht Randwyck | B10: 10 | C10: =IF(C$4="2e klas", C$8+VLOOKUP(B10,'NS tarieventabel (2026)'!$A:$Y,2,FALSE), C$8+VLOOKUP(B10,'NS tarieventabel (2026)'!$A:$Y,7,FALSE)) -> 8.4 | D10: =IF(D$4="2e klas", D$8+VLOOKUP($B10,'NS tarieventabel (2026)'!$A:$Y,2,FALSE), D$8+VLOOKUP($B10,'NS tarieventabel (2026)'!$A:$Y,7,FALSE)) -> 12.75 | E10: 10 | F10: =IF(F$4="2e klas", F$8+VLOOKUP(E10,'NS tarieventabel (2026)'!$A:$Y,2,FALSE), F$8+VLOOKUP(E10,'NS tarieventabel (2026)'!$A:$Y,7,FALSE)) -> 8.4 | G10: =IF(G$4="2e klas", G$8+VLOOKUP($B10,'NS tarieventabel (2026)'!$A:$Y,2,FALSE), G$8+VLOOKUP($B10,'NS tarieventabel (2026)'!$A:$Y,7,FALSE)) -> 12.75 | H10: 10 | I10: =IF(I$4="2e klas", I$8+VLOOKUP(H10,'NS tarieventabel (2026)'!$A:$Y,2,FALSE), I$8+VLOOKUP(H10,'NS tarieventabel (2026)'!$A:$Y,7,FALSE)) -> 6 | J10: =IF(J$4="2e klas", J$8+VLOOKUP($B10,'NS tarieventabel (2026)'!$A:$Y,2,FALSE), J$8+VLOOKUP($B10,'NS tarieventabel (2026)'!$A:$Y,7,FALSE)) -> 9.55 | K10: 10 | L10: =IF(L$4="2e klas", VLOOKUP(K10,'NS tarieventabel (2026)'!$A:$Y,2,FALSE), VLOOKUP(K10,'NS tarieventabel (2026)'!$A:$Y,7,FALSE)) -> 3.5 | M10: =IF(M$4="2e klas", VLOOKUP($B10,'NS tarieventabel (2026)'!$A:$Y,2,FALSE), VLOOKUP($B10,'NS tarieventabel (2026)'!$A:$Y,7,FALSE)) -> 5.95 | N10: 8 | O10: =IF(O$4="2e klas", VLOOKUP(N10,'NS tarieventabel (2026)'!$A:$Y,2,FALSE), VLOOKUP(N10,'NS tarieventabel (2026)'!$A:$Y,7,FALSE)) -> 3 | P10: =IF(P$4="2e klas", VLOOKUP($B10,'NS tarieventabel (2026)'!$A:$Y,2,FALSE), VLOOKUP($B10,'NS tarieventabel (2026)'!$A:$Y,7,FALSE)) -> 5.95 | T10: 1 | U10: =IF(U$4="2e klas", (VLOOKUP(T10,'Arriva tarieventabel (2026)'!$A:$C,3,FALSE))*1, (VLOOKUP(T10,'Arriva tarieventabel (2026)'!$A:$C,2,FALSE)))*1 -> 1.39 | V10: =IF(V$4="2e klas", (VLOOKUP(T10,'Arriva tarieventabel (2026)'!$A:$C,3,FALSE))*1, (VLOOKUP(T10,'Arriva tarieventabel (2026)'!$A:$C,2,FALSE)))*1 -> 1.55 | W10: 4 | X10: =IF(X$4="2e klas", (VLOOKUP(W10,'Arriva tarieventabel (2026)'!$A:$C,3,FALSE))*1, (VLOOKUP(W10,'Arriva tarieventabel (2026)'!$A:$C,2,FALSE)))*1 -> 2.08 | Y10: =IF(Y$4="2e klas", (VLOOKUP(W10,'Arriva tarieventabel (2026)'!$A:$C,3,FALSE))*1, (VLOOKUP(W10,'Arriva tarieventabel (2026)'!$A:$C,2,FALSE)))*1 -> 2.71 | Z10: =W10+$Z$12 -> 7 | AA10: =IF(AA$4="2e klas", (VLOOKUP(Z10,'Arriva tarieventabel (2026)'!$A:$C,3,FALSE))*1, (VLOOKUP(Z10,'Arriva tarieventabel (2026)'!$A:$C,2,FALSE)))*1 -> 2.76 | AB10: =IF(AB$4="2e klas", (VLOOKUP(Z10,'Arriva tarieventabel (2026)'!$A:$C,3,FALSE))*1, (VLOOKUP(Z10,'Arriva tarieventabel (2026)'!$A:$C,2,FALSE)))*1 -> 3.88 | AC10: =Z10+$AC$13 -> 11 | AD10: =IF(AD$4="2e klas", (VLOOKUP(AC10,'Arriva tarieventabel (2026)'!$A:$C,3,FALSE))*1, (VLOOKUP(AC10,'Arriva tarieventabel (2026)'!$A:$C,2,FALSE)))*1 -> 3.68 | AE10: =IF(AE$4="2e klas", (VLOOKUP(AC10,'Arriva tarieventabel (2026)'!$A:$C,3,FALSE))*1, (VLOOKUP(AC10,'Arriva tarieventabel (2026)'!$A:$C,2,FALSE)))*1 -> 5.43 | AF10: =AC10+$AF$14 -> 14 | AG10: =IF(AG$4="2e klas", (VLOOKUP(AF10,'Arriva tarieventabel (2026)'!$A:$C,3,FALSE))*1, (VLOOKUP(AF10,'Arriva tarieventabel (2026)'!$A:$C,2,FALSE)))*1 -> 4.37 | AH10: =IF(AH$4="2e klas", (VLOOKUP(AF10,'Arriva tarieventabel (2026)'!$A:$C,3,FALSE))*1, (VLOOKUP(AF10,'Arriva tarieventabel (2026)'!$A:$C,2,FALSE)))*1 -> 6.6 | AI10: =AF10+$AI$15 -> 17 | AJ10: =IF(AJ$4="2e klas", (VLOOKUP(AI10,'Arriva tarieventabel (2026)'!$A:$C,3,FALSE))*1, (VLOOKUP(AI10,'Arriva tarieventabel (2026)'!$A:$C,2,FALSE)))*1 -> 5.06 | AK10: =IF(AK$4="2e klas", (VLOOKUP(AI10,'Arriva tarieventabel (2026)'!$A:$C,3,FALSE))*1, (VLOOKUP(AI10,'Arriva tarieventabel (2026)'!$A:$C,2,FALSE)))*1 -> 7.76 | AL10: =AI10+$AL$16 -> 19 | AM10: =IF(AM$4="2e klas", (VLOOKUP(AL10,'Arriva tarieventabel (2026)'!$A:$C,3,FALSE))*1, (VLOOKUP(AL10,'Arriva tarieventabel (2026)'!$A:$C,2,FALSE)))*1 -> 5.52 | AN10: =IF(AN$4="2e klas", (VLOOKUP(AL10,'Arriva tarieventabel (2026)'!$A:$C,3,FALSE))*1, (VLOOKUP(AL10,'Arriva tarieventabel (2026)'!$A:$C,2,FALSE)))*1 -> 8.54 | AO10: =AL10+$AO$17 -> 23 | AP10: =IF(AP$4="2e klas", (VLOOKUP(AO10,'Arriva tarieventabel (2026)'!$A:$C,3,FALSE))*1, (VLOOKUP(AO10,'Arriva tarieventabel (2026)'!$A:$C,2,FALSE)))*1 -> 6.43 | AQ10: =IF(AQ$4="2e klas", (VLOOKUP(AO10,'Arriva tarieventabel (2026)'!$A:$C,3,FALSE))*1, (VLOOKUP(AO10,'Arriva tarieventabel (2026)'!$A:$C,2,FALSE)))*1 -> 10.09 | AR10: =AO10+$AR$18 -> 25 | AS10: =IF(AS$4="2e klas", (VLOOKUP(AR10,'Arriva tarieventabel (2026)'!$A:$C,3,FALSE))*1, (VLOOKUP(AR10,'Arriva tarieventabel (2026)'!$A:$C,2,FALSE)))*1 -> 6.89 | AT10: =IF(AT$4="2e klas", (VLOOKUP(AR10,'Arriva tarieventabel (2026)'!$A:$C,3,FALSE))*1, (VLOOKUP(AR10,'Arriva tarieventabel (2026)'!$A:$C,2,FALSE)))*1 -> 10.87 | AU10: =AR10+$AU$19 -> 27 | AV10: =IF(AV$4="2e klas", (VLOOKUP(AU10,'Arriva tarieventabel (2026)'!$A:$C,3,FALSE))*1, (VLOOKUP(AU10,'Arriva tarieventabel (2026)'!$A:$C,2,FALSE)))*1 -> 7.35 | AW10: =IF(AW$4="2e klas", (VLOOKUP(AU10,'Arriva tarieventabel (2026)'!$A:$C,3,FALSE))*1, (VLOOKUP(AU10,'Arriva tarieventabel (2026)'!$A:$C,2,FALSE)))*1 -> 11.65 | AX10: =AU10+$AX$20 -> 30 | AY10: =IF(AY$4="2e klas", (VLOOKUP(AX10,'Arriva tarieventabel (2026)'!$A:$C,3,FALSE))*1, (VLOOKUP(AX10,'Arriva tarieventabel (2026)'!$A:$C,2,FALSE)))*1 -> 8.04 | AZ10: =IF(AZ$4="2e klas", (VLOOKUP(AX10,'Arriva tarieventabel (2026)'!$A:$C,3,FALSE))*1, (VLOOKUP(AX10,'Arriva tarieventabel (2026)'!$A:$C,2,FALSE)))*1 -> 12.81 | BA10: =AX10+$BA$21 -> 33 | BB10: =IF(BB$4="2e klas", (VLOOKUP(BA10,'Arriva tarieventabel (2026)'!$A:$C,3,FALSE))*1, (VLOOKUP(BA10,'Arriva tarieventabel (2026)'!$A:$C,2,FALSE)))*1 -> 8.73 | BC10: =IF(BC$4="2e klas", (VLOOKUP(BA10,'Arriva tarieventabel (2026)'!$A:$C,3,FALSE))*1, (VLOOKUP(BA10,'Arriva tarieventabel (2026)'!$A:$C,2,FALSE)))*1 -> 13.98 | BD10: =BA10+$BD$22 -> 36 | BE10: =IF(BE$4="2e klas", (VLOOKUP(BD10,'Arriva tarieventabel (2026)'!$A:$C,3,FALSE))*1, (VLOOKUP(BD10,'Arriva tarieventabel (2026)'!$A:$C,2,FALSE)))*1 -> 9.42 | BF10: =IF(BF$4="2e klas", (VLOOKUP(BD10,'Arriva tarieventabel (2026)'!$A:$C,3,FALSE))*1, (VLOOKUP(BD10,'Arriva tarieventabel (2026)'!$A:$C,2,FALSE)))*1 -> 15.14 | BG10: =BD10+$BG$23 -> 37 | BH10: =IF(BH$4="2e klas", (VLOOKUP(BG10,'Arriva tarieventabel (2026)'!$A:$C,3,FALSE))*1, (VLOOKUP(BG10,'Arriva tarieventabel (2026)'!$A:$C,2,FALSE)))*1 -> 9.65 | BI10: =IF(BI$4="2e klas", (VLOOKUP(BG10,'Arriva tarieventabel (2026)'!$A:$C,3,FALSE))*1, (VLOOKUP(BG10,'Arriva tarieventabel (2026)'!$A:$C,2,FALSE)))*1 -> 15.53 | BJ10: =BG10+$BJ$24 -> 48 | BK10: =IF(BK$4="2e klas", (VLOOKUP(BJ10,'Arriva tarieventabel (2026)'!$A:$C,3,FALSE))*1, (VLOOKUP(BJ10,'Arriva tarieventabel (2026)'!$A:$C,2,FALSE)))*1 -> 12.15 | BL10: =IF(BL$4="2e klas", (VLOOKUP(BJ10,'Arriva tarieventabel (2026)'!$A:$C,3,FALSE))*1, (VLOOKUP(BJ10,'Arriva tarieventabel (2026)'!$A:$C,2,FALSE)))*1 -> 19.77 | BM10: =BJ10+$BM$25 -> 51 | BN10: =IF(BN$4="2e klas", (VLOOKUP(BM10,'Arriva tarieventabel (2026)'!$A:$C,3,FALSE))*1, (VLOOKUP(BM10,'Arriva tarieventabel (2026)'!$A:$C,2,FALSE)))*1 -> 12.83 | BO10: =IF(BO$4="2e klas", (VLOOKUP(BM10,'Arriva tarieventabel (2026)'!$A:$C,3,FALSE))*1, (VLOOKUP(BM10,'Arriva tarieventabel (2026)'!$A:$C,2,FALSE)))*1 -> 20.93 | BP10: 32 | BQ10: =IF(BQ$4="2e klas", (VLOOKUP(BP10,'Arriva tarieventabel (2026)'!$A:$C,3,FALSE))*1, (VLOOKUP(BP10,'Arriva tarieventabel (2026)'!$A:$C,2,FALSE)))*1 -> 8.5 | BR10: =IF(BR$4="2e klas", (VLOOKUP(BP10,'Arriva tarieventabel (2026)'!$A:$C,3,FALSE))*1, (VLOOKUP(BP10,'Arriva tarieventabel (2026)'!$A:$C,2,FALSE)))*1 -> 13.59 | BS10: =$BP10+$BS$27 -> 33 | BT10: =IF(BT$4="2e klas", (VLOOKUP(BS10,'Arriva tarieventabel (2026)'!$A:$C,3,FALSE))*1, (VLOOKUP(BS10,'Arriva tarieventabel (2026)'!$A:$C,2,FALSE)))*1 -> 8.73 | BU10: =IF(BU$4="2e klas", (VLOOKUP(BS10,'Arriva tarieventabel (2026)'!$A:$C,3,FALSE))*1, (VLOOKUP(BS10,'Arriva tarieventabel (2026)'!$A:$C,2,FALSE)))*1 -> 13.98 | BV10: =$BP10+$BV$27 -> 35 | BW10: =IF(BW$4="2e klas", (VLOOKUP(BV10,'Arriva tarieventabel (2026)'!$A:$C,3,FALSE))*1, (VLOOKUP(BV10,'Arriva tarieventabel (2026)'!$A:$C,2,FALSE)))*1 -> 9.19 | BX10: =IF(BX$4="2e klas", (VLOOKUP(BV10,'Arriva tarieventabel (2026)'!$A:$C,3,FALSE))*1, (VLOOKUP(BV10,'Arriva tarieventabel (2026)'!$A:$C,2,FALSE)))*1 -> 14.75
A11: Maastricht | B11: 11 | C11: =IF(C$4="2e klas", C$10+(VLOOKUP(B11,'Arriva tarieventabel (2026)'!$A:$C,3,FALSE)-VLOOKUP(B$10,'Arriva tarieventabel (2026)'!$A:$C,3,FALSE)), C$10+(VLOOKUP(B11,'Arriva tarieventabel (2026)'!$A:$C,2,FALSE)-VLOOKUP(B$10,'Arriva tarieventabel (2026)'!$A:$C,2,FALSE))) -> 8.63 | D11: =IF(D$4="2e klas", D$10+(VLOOKUP(B11,'Arriva tarieventabel (2026)'!$A:$C,3,FALSE)-VLOOKUP(B$10,'Arriva tarieventabel (2026)'!$A:$C,3,FALSE)), D$10+(VLOOKUP(B11,'Arriva tarieventabel (2026)'!$A:$C,2,FALSE)-VLOOKUP(B$10,'Arriva tarieventabel (2026)'!$A:$C,2,FALSE))) -> 13.14 | E11: =$B11 -> 11 | F11: =IF(F$4="2e klas", F$10+(VLOOKUP(E11,'Arriva tarieventabel (2026)'!$A:$C,3,FALSE)-VLOOKUP(E$10,'Arriva tarieventabel (2026)'!$A:$C,3,FALSE)), F$10+(VLOOKUP(E11,'Arriva tarieventabel (2026)'!$A:$C,2,FALSE)-VLOOKUP(E$10,'Arriva tarieventabel (2026)'!$A:$C,2,FALSE))) -> 8.63 | G11: =IF(G$4="2e klas", G$10+(VLOOKUP(E11,'Arriva tarieventabel (2026)'!$A:$C,3,FALSE)-VLOOKUP(E$10,'Arriva tarieventabel (2026)'!$A:$C,3,FALSE)), G$10+(VLOOKUP(E11,'Arriva tarieventabel (2026)'!$A:$C,2,FALSE)-VLOOKUP(E$10,'Arriva tarieventabel (2026)'!$A:$C,2,FALSE))) -> 13.14 | H11: =$B11 -> 11 | I11: =IF(I$4="2e klas", I$10+(VLOOKUP(H11,'Arriva tarieventabel (2026)'!$A:$C,3,FALSE)-VLOOKUP(H$10,'Arriva tarieventabel (2026)'!$A:$C,3,FALSE)), I$10+(VLOOKUP(H11,'Arriva tarieventabel (2026)'!$A:$C,2,FALSE)-VLOOKUP(H$10,'Arriva tarieventabel (2026)'!$A:$C,2,FALSE))) -> 6.23 | J11: =IF(J$4="2e klas", J$10+(VLOOKUP(H11,'Arriva tarieventabel (2026)'!$A:$C,3,FALSE)-VLOOKUP(H$10,'Arriva tarieventabel (2026)'!$A:$C,3,FALSE)), J$10+(VLOOKUP(H11,'Arriva tarieventabel (2026)'!$A:$C,2,FALSE)-VLOOKUP(H$10,'Arriva tarieventabel (2026)'!$A:$C,2,FALSE))) -> 9.94 | K11: =$B11 -> 11 | L11: =IF(L$4="2e klas", L$10+(VLOOKUP(K11,'Arriva tarieventabel (2026)'!$A:$C,3,FALSE)-VLOOKUP(K$10,'Arriva tarieventabel (2026)'!$A:$C,3,FALSE)), L$10+(VLOOKUP(K11,'Arriva tarieventabel (2026)'!$A:$C,2,FALSE)-VLOOKUP(K$10,'Arriva tarieventabel (2026)'!$A:$C,2,FALSE))) -> 3.73 | M11: =IF(M$4="2e klas", M$10+(VLOOKUP(K11,'Arriva tarieventabel (2026)'!$A:$C,3,FALSE)-VLOOKUP(K$10,'Arriva tarieventabel (2026)'!$A:$C,3,FALSE)), M$10+(VLOOKUP(K11,'Arriva tarieventabel (2026)'!$A:$C,2,FALSE)-VLOOKUP(K$10,'Arriva tarieventabel (2026)'!$A:$C,2,FALSE))) -> 6.34 | N11: =$B11-$K$9 -> 9 | O11: =IF(O$4="2e klas", O$10+(VLOOKUP(N11,'Arriva tarieventabel (2026)'!$A:$C,3,FALSE)-VLOOKUP(N$10,'Arriva tarieventabel (2026)'!$A:$C,3,FALSE)), O$10+(VLOOKUP(N11,'Arriva tarieventabel (2026)'!$A:$C,2,FALSE)-VLOOKUP(N$10,'Arriva tarieventabel (2026)'!$A:$C,2,FALSE))) -> 3.23 | P11: =IF(P$4="2e klas", P$10+(VLOOKUP(N11,'Arriva tarieventabel (2026)'!$A:$C,3,FALSE)-VLOOKUP(N$10,'Arriva tarieventabel (2026)'!$A:$C,3,FALSE)), P$10+(VLOOKUP(N11,'Arriva tarieventabel (2026)'!$A:$C,2,FALSE)-VLOOKUP(N$10,'Arriva tarieventabel (2026)'!$A:$C,2,FALSE))) -> 6.34 | Q11: 1 | R11: =VLOOKUP(Q11,'Arriva tarieventabel (2026)'!$A:$C,3,FALSE)*1 -> 1.39 | S11: =VLOOKUP(Q11,'Arriva tarieventabel (2026)'!$A:$C,2,FALSE)*1 -> 1.55 | W11: 3 | X11: =IF(X$4="2e klas", (VLOOKUP(W11,'Arriva tarieventabel (2026)'!$A:$C,3,FALSE))*1, (VLOOKUP(W11,'Arriva tarieventabel (2026)'!$A:$C,2,FALSE)))*1 -> 1.85 | Y11: =IF(Y$4="2e klas", (VLOOKUP(W11,'Arriva tarieventabel (2026)'!$A:$C,3,FALSE))*1, (VLOOKUP(W11,'Arriva tarieventabel (2026)'!$A:$C,2,FALSE)))*1 -> 2.32 | Z11: =W11+$Z$12 -> 6 | AA11: =IF(AA$4="2e klas", (VLOOKUP(Z11,'Arriva tarieventabel (2026)'!$A:$C,3,FALSE))*1, (VLOOKUP(Z11,'Arriva tarieventabel (2026)'!$A:$C,2,FALSE)))*1 -> 2.54 | AB11: =IF(AB$4="2e klas", (VLOOKUP(Z11,'Arriva tarieventabel (2026)'!$A:$C,3,FALSE))*1, (VLOOKUP(Z11,'Arriva tarieventabel (2026)'!$A:$C,2,FALSE)))*1 -> 3.49 | AC11: =Z11+$AC$13 -> 10 | AD11: =IF(AD$4="2e klas", (VLOOKUP(AC11,'Arriva tarieventabel (2026)'!$A:$C,3,FALSE))*1, (VLOOKUP(AC11,'Arriva tarieventabel (2026)'!$A:$C,2,FALSE)))*1 -> 3.45 | AE11: =IF(AE$4="2e klas", (VLOOKUP(AC11,'Arriva tarieventabel (2026)'!$A:$C,3,FALSE))*1, (VLOOKUP(AC11,'Arriva tarieventabel (2026)'!$A:$C,2,FALSE)))*1 -> 5.04 | AF11: =AC11+$AF$14 -> 13 | AG11: =IF(AG$4="2e klas", (VLOOKUP(AF11,'Arriva tarieventabel (2026)'!$A:$C,3,FALSE))*1, (VLOOKUP(AF11,'Arriva tarieventabel (2026)'!$A:$C,2,FALSE)))*1 -> 4.14 | AH11: =IF(AH$4="2e klas", (VLOOKUP(AF11,'Arriva tarieventabel (2026)'!$A:$C,3,FALSE))*1, (VLOOKUP(AF11,'Arriva tarieventabel (2026)'!$A:$C,2,FALSE)))*1 -> 6.21 | AI11: =AF11+$AI$15 -> 16 | AJ11: =IF(AJ$4="2e klas", (VLOOKUP(AI11,'Arriva tarieventabel (2026)'!$A:$C,3,FALSE))*1, (VLOOKUP(AI11,'Arriva tarieventabel (2026)'!$A:$C,2,FALSE)))*1 -> 4.83 | AK11: =IF(AK$4="2e klas", (VLOOKUP(AI11,'Arriva tarieventabel (2026)'!$A:$C,3,FALSE))*1, (VLOOKUP(AI11,'Arriva tarieventabel (2026)'!$A:$C,2,FALSE)))*1 -> 7.37 | AL11: =AI11+$AL$16 -> 18 | AM11: =IF(AM$4="2e klas", (VLOOKUP(AL11,'Arriva tarieventabel (2026)'!$A:$C,3,FALSE))*1, (VLOOKUP(AL11,'Arriva tarieventabel (2026)'!$A:$C,2,FALSE)))*1 -> 5.29 | AN11: =IF(AN$4="2e klas", (VLOOKUP(AL11,'Arriva tarieventabel (2026)'!$A:$C,3,FALSE))*1, (VLOOKUP(AL11,'Arriva tarieventabel (2026)'!$A:$C,2,FALSE)))*1 -> 8.15 | AO11: =AL11+$AO$17 -> 22 | AP11: =IF(AP$4="2e klas", (VLOOKUP(AO11,'Arriva tarieventabel (2026)'!$A:$C,3,FALSE))*1, (VLOOKUP(AO11,'Arriva tarieventabel (2026)'!$A:$C,2,FALSE)))*1 -> 6.2 | AQ11: =IF(AQ$4="2e klas", (VLOOKUP(AO11,'Arriva tarieventabel (2026)'!$A:$C,3,FALSE))*1, (VLOOKUP(AO11,'Arriva tarieventabel (2026)'!$A:$C,2,FALSE)))*1 -> 9.7 | AR11: =AO11+$AR$18 -> 24 | AS11: =IF(AS$4="2e klas", (VLOOKUP(AR11,'Arriva tarieventabel (2026)'!$A:$C,3,FALSE))*1, (VLOOKUP(AR11,'Arriva tarieventabel (2026)'!$A:$C,2,FALSE)))*1 -> 6.66 | AT11: =IF(AT$4="2e klas", (VLOOKUP(AR11,'Arriva tarieventabel (2026)'!$A:$C,3,FALSE))*1, (VLOOKUP(AR11,'Arriva tarieventabel (2026)'!$A:$C,2,FALSE)))*1 -> 10.48 | AU11: =AR11+$AU$19 -> 26 | AV11: =IF(AV$4="2e klas", (VLOOKUP(AU11,'Arriva tarieventabel (2026)'!$A:$C,3,FALSE))*1, (VLOOKUP(AU11,'Arriva tarieventabel (2026)'!$A:$C,2,FALSE)))*1 -> 7.12 | AW11: =IF(AW$4="2e klas", (VLOOKUP(AU11,'Arriva tarieventabel (2026)'!$A:$C,3,FALSE))*1, (VLOOKUP(AU11,'Arriva tarieventabel (2026)'!$A:$C,2,FALSE)))*1 -> 11.26 | AX11: =AU11+$AX$20 -> 29 | AY11: =IF(AY$4="2e klas", (VLOOKUP(AX11,'Arriva tarieventabel (2026)'!$A:$C,3,FALSE))*1, (VLOOKUP(AX11,'Arriva tarieventabel (2026)'!$A:$C,2,FALSE)))*1 -> 7.81 | AZ11: =IF(AZ$4="2e klas", (VLOOKUP(AX11,'Arriva tarieventabel (2026)'!$A:$C,3,FALSE))*1, (VLOOKUP(AX11,'Arriva tarieventabel (2026)'!$A:$C,2,FALSE)))*1 -> 12.42 | BA11: =AX11+$BA$21 -> 32 | BB11: =IF(BB$4="2e klas", (VLOOKUP(BA11,'Arriva tarieventabel (2026)'!$A:$C,3,FALSE))*1, (VLOOKUP(BA11,'Arriva tarieventabel (2026)'!$A:$C,2,FALSE)))*1 -> 8.5 | BC11: =IF(BC$4="2e klas", (VLOOKUP(BA11,'Arriva tarieventabel (2026)'!$A:$C,3,FALSE))*1, (VLOOKUP(BA11,'Arriva tarieventabel (2026)'!$A:$C,2,FALSE)))*1 -> 13.59 | BD11: =BA11+$BD$22 -> 35 | BE11: =IF(BE$4="2e klas", (VLOOKUP(BD11,'Arriva tarieventabel (2026)'!$A:$C,3,FALSE))*1, (VLOOKUP(BD11,'Arriva tarieventabel (2026)'!$A:$C,2,FALSE)))*1 -> 9.19 | BF11: =IF(BF$4="2e klas", (VLOOKUP(BD11,'Arriva tarieventabel (2026)'!$A:$C,3,FALSE))*1, (VLOOKUP(BD11,'Arriva tarieventabel (2026)'!$A:$C,2,FALSE)))*1 -> 14.75 | BG11: =BD11+$BG$23 -> 36 | BH11: =IF(BH$4="2e klas", (VLOOKUP(BG11,'Arriva tarieventabel (2026)'!$A:$C,3,FALSE))*1, (VLOOKUP(BG11,'Arriva tarieventabel (2026)'!$A:$C,2,FALSE)))*1 -> 9.42 | BI11: =IF(BI$4="2e klas", (VLOOKUP(BG11,'Arriva tarieventabel (2026)'!$A:$C,3,FALSE))*1, (VLOOKUP(BG11,'Arriva tarieventabel (2026)'!$A:$C,2,FALSE)))*1 -> 15.14 | BJ11: =BG11+$BJ$24 -> 47 | BK11: =IF(BK$4="2e klas", (VLOOKUP(BJ11,'Arriva tarieventabel (2026)'!$A:$C,3,FALSE))*1, (VLOOKUP(BJ11,'Arriva tarieventabel (2026)'!$A:$C,2,FALSE)))*1 -> 11.92 | BL11: =IF(BL$4="2e klas", (VLOOKUP(BJ11,'Arriva tarieventabel (2026)'!$A:$C,3,FALSE))*1, (VLOOKUP(BJ11,'Arriva tarieventabel (2026)'!$A:$C,2,FALSE)))*1 -> 19.39 | BM11: =BJ11+$BM$25 -> 50 | BN11: =IF(BN$4="2e klas", (VLOOKUP(BM11,'Arriva tarieventabel (2026)'!$A:$C,3,FALSE))*1, (VLOOKUP(BM11,'Arriva tarieventabel (2026)'!$A:$C,2,FALSE)))*1 -> 12.6 | BO11: =IF(BO$4="2e klas", (VLOOKUP(BM11,'Arriva tarieventabel (2026)'!$A:$C,3,FALSE))*1, (VLOOKUP(BM11,'Arriva tarieventabel (2026)'!$A:$C,2,FALSE)))*1 -> 20.54 | BP11: 31 | BQ11: =IF(BQ$4="2e klas", (VLOOKUP(BP11,'Arriva tarieventabel (2026)'!$A:$C,3,FALSE))*1, (VLOOKUP(BP11,'Arriva tarieventabel (2026)'!$A:$C,2,FALSE)))*1 -> 8.27 | BR11: =IF(BR$4="2e klas", (VLOOKUP(BP11,'Arriva tarieventabel (2026)'!$A:$C,3,FALSE))*1, (VLOOKUP(BP11,'Arriva tarieventabel (2026)'!$A:$C,2,FALSE)))*1 -> 13.2 | BS11: =$BP11+$BS$27 -> 32 | BT11: =IF(BT$4="2e klas", (VLOOKUP(BS11,'Arriva tarieventabel (2026)'!$A:$C,3,FALSE))*1, (VLOOKUP(BS11,'Arriva tarieventabel (2026)'!$A:$C,2,FALSE)))*1 -> 8.5 | BU11: =IF(BU$4="2e klas", (VLOOKUP(BS11,'Arriva tarieventabel (2026)'!$A:$C,3,FALSE))*1, (VLOOKUP(BS11,'Arriva tarieventabel (2026)'!$A:$C,2,FALSE)))*1 -> 13.59 | BV11: =$BP11+$BV$27 -> 34 | BW11: =IF(BW$4="2e klas", (VLOOKUP(BV11,'Arriva tarieventabel (2026)'!$A:$C,3,FALSE))*1, (VLOOKUP(BV11,'Arriva tarieventabel (2026)'!$A:$C,2,FALSE)))*1 -> 8.96 | BX11: =IF(BX$4="2e klas", (VLOOKUP(BV11,'Arriva tarieventabel (2026)'!$A:$C,3,FALSE))*1, (VLOOKUP(BV11,'Arriva tarieventabel (2026)'!$A:$C,2,FALSE)))*1 -> 14.37
A12: Maastricht Noord | B12: 14 | C12: =IF(C$4="2e klas", C$10+(VLOOKUP(B12,'Arriva tarieventabel (2026)'!$A:$C,3,FALSE)-VLOOKUP(B$10,'Arriva tarieventabel (2026)'!$A:$C,3,FALSE)), C$10+(VLOOKUP(B12,'Arriva tarieventabel (2026)'!$A:$C,2,FALSE)-VLOOKUP(B$10,'Arriva tarieventabel (2026)'!$A:$C,2,FALSE))) -> 9.32 | D12: =IF(D$4="2e klas", D$10+(VLOOKUP(B12,'Arriva tarieventabel (2026)'!$A:$C,3,FALSE)-VLOOKUP(B$10,'Arriva tarieventabel (2026)'!$A:$C,3,FALSE)), D$10+(VLOOKUP(B12,'Arriva tarieventabel (2026)'!$A:$C,2,FALSE)-VLOOKUP(B$10,'Arriva tarieventabel (2026)'!$A:$C,2,FALSE))) -> 14.31 | E12: =$B12 -> 14 | F12: =IF(F$4="2e klas", F$10+(VLOOKUP(E12,'Arriva tarieventabel (2026)'!$A:$C,3,FALSE)-VLOOKUP(E$10,'Arriva tarieventabel (2026)'!$A:$C,3,FALSE)), F$10+(VLOOKUP(E12,'Arriva tarieventabel (2026)'!$A:$C,2,FALSE)-VLOOKUP(E$10,'Arriva tarieventabel (2026)'!$A:$C,2,FALSE))) -> 9.32 | G12: =IF(G$4="2e klas", G$10+(VLOOKUP(E12,'Arriva tarieventabel (2026)'!$A:$C,3,FALSE)-VLOOKUP(E$10,'Arriva tarieventabel (2026)'!$A:$C,3,FALSE)), G$10+(VLOOKUP(E12,'Arriva tarieventabel (2026)'!$A:$C,2,FALSE)-VLOOKUP(E$10,'Arriva tarieventabel (2026)'!$A:$C,2,FALSE))) -> 14.31 | H12: =$B12 -> 14 | I12: =IF(I$4="2e klas", I$10+(VLOOKUP(H12,'Arriva tarieventabel (2026)'!$A:$C,3,FALSE)-VLOOKUP(H$10,'Arriva tarieventabel (2026)'!$A:$C,3,FALSE)), I$10+(VLOOKUP(H12,'Arriva tarieventabel (2026)'!$A:$C,2,FALSE)-VLOOKUP(H$10,'Arriva tarieventabel (2026)'!$A:$C,2,FALSE))) -> 6.92 | J12: =IF(J$4="2e klas", J$10+(VLOOKUP(H12,'Arriva tarieventabel (2026)'!$A:$C,3,FALSE)-VLOOKUP(H$10,'Arriva tarieventabel (2026)'!$A:$C,3,FALSE)), J$10+(VLOOKUP(H12,'Arriva tarieventabel (2026)'!$A:$C,2,FALSE)-VLOOKUP(H$10,'Arriva tarieventabel (2026)'!$A:$C,2,FALSE))) -> 11.11 | K12: =$B12 -> 14 | L12: =IF(L$4="2e klas", L$10+(VLOOKUP(K12,'Arriva tarieventabel (2026)'!$A:$C,3,FALSE)-VLOOKUP(K$10,'Arriva tarieventabel (2026)'!$A:$C,3,FALSE)), L$10+(VLOOKUP(K12,'Arriva tarieventabel (2026)'!$A:$C,2,FALSE)-VLOOKUP(K$10,'Arriva tarieventabel (2026)'!$A:$C,2,FALSE))) -> 4.42 | M12: =IF(M$4="2e klas", M$10+(VLOOKUP(K12,'Arriva tarieventabel (2026)'!$A:$C,3,FALSE)-VLOOKUP(K$10,'Arriva tarieventabel (2026)'!$A:$C,3,FALSE)), M$10+(VLOOKUP(K12,'Arriva tarieventabel (2026)'!$A:$C,2,FALSE)-VLOOKUP(K$10,'Arriva tarieventabel (2026)'!$A:$C,2,FALSE))) -> 7.51 | N12: =$B12-$K$9 -> 12 | O12: =IF(O$4="2e klas", O$10+(VLOOKUP(N12,'Arriva tarieventabel (2026)'!$A:$C,3,FALSE)-VLOOKUP(N$10,'Arriva tarieventabel (2026)'!$A:$C,3,FALSE)), O$10+(VLOOKUP(N12,'Arriva tarieventabel (2026)'!$A:$C,2,FALSE)-VLOOKUP(N$10,'Arriva tarieventabel (2026)'!$A:$C,2,FALSE))) -> 3.92 | P12: =IF(P$4="2e klas", P$10+(VLOOKUP(N12,'Arriva tarieventabel (2026)'!$A:$C,3,FALSE)-VLOOKUP(N$10,'Arriva tarieventabel (2026)'!$A:$C,3,FALSE)), P$10+(VLOOKUP(N12,'Arriva tarieventabel (2026)'!$A:$C,2,FALSE)-VLOOKUP(N$10,'Arriva tarieventabel (2026)'!$A:$C,2,FALSE))) -> 7.5 | Q12: 4 | R12: =VLOOKUP(Q12,'Arriva tarieventabel (2026)'!$A:$C,3,FALSE)*1 -> 2.08 | S12: =VLOOKUP(Q12,'Arriva tarieventabel (2026)'!$A:$C,2,FALSE)*1 -> 2.71 | T12: =Q12-Q11 -> 3 | U12: =VLOOKUP(T12,'Arriva tarieventabel (2026)'!$A:$C,3,FALSE)*1 -> 1.85 | V12: =VLOOKUP(T12,'Arriva tarieventabel (2026)'!$A:$C,2,FALSE)*1 -> 2.32 | Z12: 3 | AA12: =IF(AA$4="2e klas", (VLOOKUP(Z12,'Arriva tarieventabel (2026)'!$A:$C,3,FALSE))*1, (VLOOKUP(Z12,'Arriva tarieventabel (2026)'!$A:$C,2,FALSE)))*1 -> 1.85 | AB12: =IF(AB$4="2e klas", (VLOOKUP(Z12,'Arriva tarieventabel (2026)'!$A:$C,3,FALSE))*1, (VLOOKUP(Z12,'Arriva tarieventabel (2026)'!$A:$C,2,FALSE)))*1 -> 2.32 | AC12: =Z12+$AC$13 -> 7 | AD12: =IF(AD$4="2e klas", (VLOOKUP(AC12,'Arriva tarieventabel (2026)'!$A:$C,3,FALSE))*1, (VLOOKUP(AC12,'Arriva tarieventabel (2026)'!$A:$C,2,FALSE)))*1 -> 2.76 | AE12: =IF(AE$4="2e klas", (VLOOKUP(AC12,'Arriva tarieventabel (2026)'!$A:$C,3,FALSE))*1, (VLOOKUP(AC12,'Arriva tarieventabel (2026)'!$A:$C,2,FALSE)))*1 -> 3.88 | AF12: =AC12+$AF$14 -> 10 | AG12: =IF(AG$4="2e klas", (VLOOKUP(AF12,'Arriva tarieventabel (2026)'!$A:$C,3,FALSE))*1, (VLOOKUP(AF12,'Arriva tarieventabel (2026)'!$A:$C,2,FALSE)))*1 -> 3.45 | AH12: =IF(AH$4="2e klas", (VLOOKUP(AF12,'Arriva tarieventabel (2026)'!$A:$C,3,FALSE))*1, (VLOOKUP(AF12,'Arriva tarieventabel (2026)'!$A:$C,2,FALSE)))*1 -> 5.04 | AI12: =AF12+$AI$15 -> 13 | AJ12: =IF(AJ$4="2e klas", (VLOOKUP(AI12,'Arriva tarieventabel (2026)'!$A:$C,3,FALSE))*1, (VLOOKUP(AI12,'Arriva tarieventabel (2026)'!$A:$C,2,FALSE)))*1 -> 4.14 | AK12: =IF(AK$4="2e klas", (VLOOKUP(AI12,'Arriva tarieventabel (2026)'!$A:$C,3,FALSE))*1, (VLOOKUP(AI12,'Arriva tarieventabel (2026)'!$A:$C,2,FALSE)))*1 -> 6.21 | AL12: =AI12+$AL$16 -> 15 | AM12: =IF(AM$4="2e klas", (VLOOKUP(AL12,'Arriva tarieventabel (2026)'!$A:$C,3,FALSE))*1, (VLOOKUP(AL12,'Arriva tarieventabel (2026)'!$A:$C,2,FALSE)))*1 -> 4.6 | AN12: =IF(AN$4="2e klas", (VLOOKUP(AL12,'Arriva tarieventabel (2026)'!$A:$C,3,FALSE))*1, (VLOOKUP(AL12,'Arriva tarieventabel (2026)'!$A:$C,2,FALSE)))*1 -> 6.99 | AO12: =AL12+$AO$17 -> 19 | AP12: =IF(AP$4="2e klas", (VLOOKUP(AO12,'Arriva tarieventabel (2026)'!$A:$C,3,FALSE))*1, (VLOOKUP(AO12,'Arriva tarieventabel (2026)'!$A:$C,2,FALSE)))*1 -> 5.52 | AQ12: =IF(AQ$4="2e klas", (VLOOKUP(AO12,'Arriva tarieventabel (2026)'!$A:$C,3,FALSE))*1, (VLOOKUP(AO12,'Arriva tarieventabel (2026)'!$A:$C,2,FALSE)))*1 -> 8.54 | AR12: =AO12+$AR$18 -> 21 | AS12: =IF(AS$4="2e klas", (VLOOKUP(AR12,'Arriva tarieventabel (2026)'!$A:$C,3,FALSE))*1, (VLOOKUP(AR12,'Arriva tarieventabel (2026)'!$A:$C,2,FALSE)))*1 -> 5.98 | AT12: =IF(AT$4="2e klas", (VLOOKUP(AR12,'Arriva tarieventabel (2026)'!$A:$C,3,FALSE))*1, (VLOOKUP(AR12,'Arriva tarieventabel (2026)'!$A:$C,2,FALSE)))*1 -> 9.32 | AU12: =AR12+$AU$19 -> 23 | AV12: =IF(AV$4="2e klas", (VLOOKUP(AU12,'Arriva tarieventabel (2026)'!$A:$C,3,FALSE))*1, (VLOOKUP(AU12,'Arriva tarieventabel (2026)'!$A:$C,2,FALSE)))*1 -> 6.43 | AW12: =IF(AW$4="2e klas", (VLOOKUP(AU12,'Arriva tarieventabel (2026)'!$A:$C,3,FALSE))*1, (VLOOKUP(AU12,'Arriva tarieventabel (2026)'!$A:$C,2,FALSE)))*1 -> 10.09 | AX12: =AU12+$AX$20 -> 26 | AY12: =IF(AY$4="2e klas", (VLOOKUP(AX12,'Arriva tarieventabel (2026)'!$A:$C,3,FALSE))*1, (VLOOKUP(AX12,'Arriva tarieventabel (2026)'!$A:$C,2,FALSE)))*1 -> 7.12 | AZ12: =IF(AZ$4="2e klas", (VLOOKUP(AX12,'Arriva tarieventabel (2026)'!$A:$C,3,FALSE))*1, (VLOOKUP(AX12,'Arriva tarieventabel (2026)'!$A:$C,2,FALSE)))*1 -> 11.26 | BA12: =AX12+$BA$21 -> 29 | BB12: =IF(BB$4="2e klas", (VLOOKUP(BA12,'Arriva tarieventabel (2026)'!$A:$C,3,FALSE))*1, (VLOOKUP(BA12,'Arriva tarieventabel (2026)'!$A:$C,2,FALSE)))*1 -> 7.81 | BC12: =IF(BC$4="2e klas", (VLOOKUP(BA12,'Arriva tarieventabel (2026)'!$A:$C,3,FALSE))*1, (VLOOKUP(BA12,'Arriva tarieventabel (2026)'!$A:$C,2,FALSE)))*1 -> 12.42 | BD12: =BA12+$BD$22 -> 32 | BE12: =IF(BE$4="2e klas", (VLOOKUP(BD12,'Arriva tarieventabel (2026)'!$A:$C,3,FALSE))*1, (VLOOKUP(BD12,'Arriva tarieventabel (2026)'!$A:$C,2,FALSE)))*1 -> 8.5 | BF12: =IF(BF$4="2e klas", (VLOOKUP(BD12,'Arriva tarieventabel (2026)'!$A:$C,3,FALSE))*1, (VLOOKUP(BD12,'Arriva tarieventabel (2026)'!$A:$C,2,FALSE)))*1 -> 13.59 | BG12: =BD12+$BG$23 -> 33 | BH12: =IF(BH$4="2e klas", (VLOOKUP(BG12,'Arriva tarieventabel (2026)'!$A:$C,3,FALSE))*1, (VLOOKUP(BG12,'Arriva tarieventabel (2026)'!$A:$C,2,FALSE)))*1 -> 8.73 | BI12: =IF(BI$4="2e klas", (VLOOKUP(BG12,'Arriva tarieventabel (2026)'!$A:$C,3,FALSE))*1, (VLOOKUP(BG12,'Arriva tarieventabel (2026)'!$A:$C,2,FALSE)))*1 -> 13.98 | BJ12: =BG12+$BJ$24 -> 44 | BK12: =IF(BK$4="2e klas", (VLOOKUP(BJ12,'Arriva tarieventabel (2026)'!$A:$C,3,FALSE))*1, (VLOOKUP(BJ12,'Arriva tarieventabel (2026)'!$A:$C,2,FALSE)))*1 -> 11.24 | BL12: =IF(BL$4="2e klas", (VLOOKUP(BJ12,'Arriva tarieventabel (2026)'!$A:$C,3,FALSE))*1, (VLOOKUP(BJ12,'Arriva tarieventabel (2026)'!$A:$C,2,FALSE)))*1 -> 18.23 | BM12: =BJ12+$BM$25 -> 47 | BN12: =IF(BN$4="2e klas", (VLOOKUP(BM12,'Arriva tarieventabel (2026)'!$A:$C,3,FALSE))*1, (VLOOKUP(BM12,'Arriva tarieventabel (2026)'!$A:$C,2,FALSE)))*1 -> 11.92 | BO12: =IF(BO$4="2e klas", (VLOOKUP(BM12,'Arriva tarieventabel (2026)'!$A:$C,3,FALSE))*1, (VLOOKUP(BM12,'Arriva tarieventabel (2026)'!$A:$C,2,FALSE)))*1 -> 19.39 | BP12: 28 | BQ12: =IF(BQ$4="2e klas", (VLOOKUP(BP12,'Arriva tarieventabel (2026)'!$A:$C,3,FALSE))*1, (VLOOKUP(BP12,'Arriva tarieventabel (2026)'!$A:$C,2,FALSE)))*1 -> 7.58 | BR12: =IF(BR$4="2e klas", (VLOOKUP(BP12,'Arriva tarieventabel (2026)'!$A:$C,3,FALSE))*1, (VLOOKUP(BP12,'Arriva tarieventabel (2026)'!$A:$C,2,FALSE)))*1 -> 12.04 | BS12: =$BP12+$BS$27 -> 29 | BT12: =IF(BT$4="2e klas", (VLOOKUP(BS12,'Arriva tarieventabel (2026)'!$A:$C,3,FALSE))*1, (VLOOKUP(BS12,'Arriva tarieventabel (2026)'!$A:$C,2,FALSE)))*1 -> 7.81 | BU12: =IF(BU$4="2e klas", (VLOOKUP(BS12,'Arriva tarieventabel (2026)'!$A:$C,3,FALSE))*1, (VLOOKUP(BS12,'Arriva tarieventabel (2026)'!$A:$C,2,FALSE)))*1 -> 12.42 | BV12: =$BP12+$BV$27 -> 31 | BW12: =IF(BW$4="2e klas", (VLOOKUP(BV12,'Arriva tarieventabel (2026)'!$A:$C,3,FALSE))*1, (VLOOKUP(BV12,'Arriva tarieventabel (2026)'!$A:$C,2,FALSE)))*1 -> 8.27 | BX12: =IF(BX$4="2e klas", (VLOOKUP(BV12,'Arriva tarieventabel (2026)'!$A:$C,3,FALSE))*1, (VLOOKUP(BV12,'Arriva tarieventabel (2026)'!$A:$C,2,FALSE)))*1 -> 13.2
