Workbook
Name BESTAND: '[1]Opbr N-1'!#REF!
Name d: '[1]Opbr N-1'!#REF!
Name EURO: '[1]Opbr N-1'!#REF!

Sheet 01 Vastrechten
A1: 01 | B1: Vastrechten & losse vervoersbewijzen | AT1: Accountantscontrole 2e klas Enkele reis Vol tarief | AX1: Check 1e klas Enkele reis Vol tarief
A3: Eret | B3: 0.0551
A4: Altijd Vrij/Traject Vrij | B4: -0.0238
A5: CPI | B5: 0.026
A6: Tariefruimte | B6: 0.0351
A8: Consumenten portfolio
A9: Abonnementen
A10: Contract Tariff | B10: VAR-code / kl / red | E10: Productnaam | F10: Tarief | G10: Klasse | I10: P-2022 | J10: P-2023 | K10: Delta | L10: Opmerkingen
A11: 212 | B11: 5066 2 0000 | E11: Weekend Vrij | F11: Vol | G11: 2e | I11: 34.7 | J11: 38.35 | K11: 0.10518732
A12: 211 | B12: 5066 1 0000 | E12: Weekend Vrij | F12: Vol | G12: 1e | I12: 40.8 | J12: 47.35 | K12: 0.16053922
A13: 212 | B13: 5066 2 6500 & 5082 2 0000 | E13: Weekend Vrij | F13: Red | G13: 2e | I13: 24.4 | J13: 28.35 | K13: 0.16188525
A14: 211 | B14: 5066 1 6500 & 5082 1 0000 | E14: Weekend Vrij | F14: Red | G14: 1e | I14: 30.5 | J14: 36.35 | K14: 0.19180328
A15: 214 | B15: 5065 2 0000 | E15: Dal Vrij | F15: Vol | G15: 2e | I15: 107.9 | J15: 119.95 | K15: 0.11167748
A16: 213 | B16: 5065 1 0000 | E16: Dal Vrij | F16: Vol | G16: 1e | I16: 136.4 | J16: 159.95 | K16: 0.17265396
A17: 214 | B17: 5065 2 6500 & 5081 2 0000 | E17: Dal Vrij | F17: Red | G17: 2e | I17: 46.8 | J17: 54.95 | K17: 0.1741453
A18: 213 | B18: 5065 1 6500 & 5081 1 0000 | E18: Dal Vrij | F18: Red | G18: 1e | I18: 73.3 | J18: 87.95 | K18: 0.19986357
A19: 215 & 216 1 / 2 | B19: 5067 1 / 2 | E19: Altijd Voordeel | F19: nvt | I19: 24.2 | J19: 26.7 | K19: 0.10330579
A20: 30 | B20: 5078 0 0000 | E20: Kids Vrij | F20: Vol | I20: 0 | J20: 0 | K20: 0
A21: 220 | B21: 5069 2 0000 | E21: Altijd Vrij | F21: Vol | G21: 2e | I21: 362.4 | J21: 353.8 | K21: -0.023730684
A22: 219 | B22: 5069 1 0000 | E22: Altijd Vrij | F22: Vol | G22: 1e | I22: 612.5 | J22: 601.5 | K22: -0.017959184
A23: 55 | B23: 5329 2 0000 | E23: Maandkaart Altijd Vrij 1 maand | F23: Vol | G23: 2e | I23: 434.9 | J23: 424.6 | K23: -0.023683605 | L23: Prepaid kaart, geen abonnement. Te koop sinds april 2021
A24: 56 | B24: 5330 2 0000 | E24: Maandkaart Altijd Vrij 3 maanden | F24: Vol | G24: 2e | I24: 1087.2 | J24: 1061.4 | K24: -0.023730684 | L24: Prepaid kaart, geen abonnement. Te koop sinds april 2021
A25: 55 | B25: 5329 1 0000 | E25: Maandkaart Altijd Vrij 1 maand | F25: Vol | G25: 1e | I25: 735 | J25: 721.8 | K25: -0.017959184 | L25: Prepaid kaart, geen abonnement. Te koop sinds april 2021
A26: 56 | B26: 5330 1 0000 | E26: Maandkaart Altijd Vrij 3 maanden | F26: Vol | G26: 1e | I26: 1837.5 | J26: 1804.5 | K26: -0.017959184 | L26: Prepaid kaart, geen abonnement. Te koop sinds april 2021
A27: 209 & 210 1 / 2 | B27: 5064 1 / 2 | E27: Dal Voordeel | F27: nvt | G27: nvt | I27: 61.2 | J27: 67.2 | K27: 0.098039216
A28: nvt | B28: 1042 | E28: VDU | F28: nvt | I28: 61.2 | J28: 67.2 | K28: 0.098039216
A29: 91 / 90 | B29: 5134 2 / 5083 2 | E29: Keuzedagen | G29: 2e | I29: 26.5 | J29: 27.5 | K29: 0.037735849
A30: 91 / 90 | B30: 5134 1 / 5083 1 | E30: Keuzedagen | G30: 1e | I30: 51.9 | J30: 53.7 | K30: 0.034682081
E31: Toeslag Keuzedagen op Papier | I31: 11.2 | J31: 11.6 | K31: 0.035714286
E32: Totaalprijs VDU +Keuzedagen op CT | G32: 2e | I32: 98.9 | J32: 106.3 | K32: 0.074823054
E33: Totaalprijs VDU +Keuzedagen op CT | G33: 1e | I33: 124.3 | J33: 132.5 | K33: 0.065969429
E34: NS Flex administratie kosten | I34: 10 | J34: 10 | K34: 0
E35: NS Flex basis | G35: nvt | I35: 0 | J35: 0 | K35: 0
E36: NS Flex Weekend Voordeel | G36: nvt | I36: 2 | J36: 2.2 | K36: 0.1
E37: NS Flex Weekend Vrij zonder dalkorting | G37: 2e | I37: 31.6 | J37: 34.95 | K37: 0.10601266 | L37: Korting 65+ is 10 euro
E38: NS Flex Weekend Vrij zonder dalkorting | G38: 1e | I38: 37.7 | J38: 43.95 | K38: 0.16578249 | L38: Korting 65+ is 11 euro
E39: NS Flex Weekend Vrij met dalkorting | G39: 2e | I39: 34.7 | J39: 38.35 | K39: 0.10518732 | L39: Korting 65+ is 10 euro
E40: NS Flex Weekend Vrij met dalkorting | G40: 1e | I40: 40.8 | J40: 47.35 | K40: 0.16053922 | L40: Korting 65+ is 11 euro
E41: NS Flex Dal Voordeel | G41: nvt | I41: 5.1 | J41: 5.6 | K41: 0.098039216
E42: NS Flex Dal Vrij | G42: 2e | I42: 107.9 | J42: 119.95 | K42: 0.11167748 | L42: Prijs 65+ is 54,95 euro
...

Sheet Specificaties
A1: Regio | B1: Onderwerp | C1: Bron
A2: Noord | B2: altijdvrij RRReis (maand en jaar versie) accepteren | C2: Mail Mark Garmann 29/09
A3: West | B3: Mail onno 20/09 GVB randstad Noord, moeten we die verwerken? | C3: Onno 20/09

Sheet LOG
B1: Vastgesteld en definitief tarief in een sheet
B2: Staat open nog geen vaststelling
B3: Volledige sheet in vastgesteld
D5: d.d. 17-11-2022
B7: datum: | C7: concessie: | D7: wijziging:
B8: 44452
B9: 44837 | C9: V08 | D9: Toevoeging 2023 door Siebren
B10: 44838 | C10: V08 | D10: Invoeging tabblad met specificaties door Siebren
B11: 44846 | C11: V08 | D11: Toegevoegd NS tabellen Limburg & Oost en nieuwe tarieven regio Limburg
B12: 44860 | C12: V08 | D12: Bij elke wijziging (geldt bijv voor RRReis) een product sheet vullen, gedeelde lijnen prijzen opzoeken
B13: 44862 | C13: V08 | D13: Limburg nogmaals update
B14: 44882 | C14: V08 | D14: Nieuwe NS tabellen Noord toegevoegd (met juiste CPI), Zuid tarieven (excl. Zakelijk)
B15: 44883 | C15: V09 | D15: Inclusief Regio Noord 2023 en Zuid met zakelijke producten, gedeeld met Peter Hoopman
C16: V09 | D16: Productnummer aangepast (groene gearceerde cellen), kon niet alles aanpassen in huidige sheet, te weten: randstad noord prijzen / UW-OV per segment prijzen
C17: V09.1 | D17: 24/1; nieuwe aanlevering O-GLD, met gedeelde lijn tarieven en aanpassing flatfare belbus en prijs kids kaartje
B18: 44894 | C18: V09.2 | D18: Toevoeging regio Zuid incl acceptatie/verkoop & aanpassing Noord voor 350 lijn NH tarief
B19: 44896 | C19: V09.2 | D19: Toevoeging landelijk spoor tarieven obv opgave vastrecht 2023 excel ontvangen van NS. Note: niet alle producten kunnen herleiden
B20: 44897 | C20: V1.0 | D20: Inclusief Sales regio Zuid tarieven
B21: 44901 | C21: V1.1 | D21: tarief 2023 Dal Dagkaart Zuid Limburg Trein en Bus (regel 64) ontbrak. Toegevoegd!
B22: 44902 | C22: V1.2 | D22: tarievensheet limburg van Marijke mail 5-dec ingevoegd. Met toevoeging Aachen kaartjes
B23: 44902 | C23: V1.3 | D23: Tarief tabellen Limburg (ZZ-LR) geupdate nav mail Marijke 7 dec.
B24: 44910 | C24: V1.4 | D24: Aanpassing van 6 tarieven Limburg (zie blauw gearceerde cellen)
B25: 44916 | C25: V1.5 | D25: Toevogeing Breng km tarief regio Zuid
B26: 44917 | C26: V1.6 | D26: Tabblad Arriva Flow met abo prijzen toegevoegd

Sheet Arriva Flow
A1: PEname | B1: pricePeriod | C1: fromStationCode | D1: toStationCode | E1: starValue | F1: amount
A2: Arriva Flow 1eKlas | B2: 2021 regulier | F2: 0
A3: Arriva Flow 20% korting tijdens de spits | B3: 2021 regulier | F3: 21.1
A4: Arriva Flow 40% korting buiten de spits | B4: 2021 regulier | F4: 3.4
A5: Arriva Flow 40% korting in het weekend | B5: 2021 regulier | F5: 2.2
A6: Arriva Flow Vrij reizen buiten de spits | B6: 2021 regulier | F6: 85
A7: Arriva Flow Vrij reizen buiten de spits - toeslag 1e klas | B7: 2021 regulier | F7: 31
A8: Arriva Flow Weekend Vrij zonder dalkorting | B8: 2021 regulier | F8: 34.95
A9: Arriva Flow Vrij reizen in het weekend - toeslag 1e klas | B9: 2021 regulier | F9: 9
A10: Arriva Flow Vrij reizen tijdens de spits | B10: 2021 regulier | F10: 233.85
A11: Arriva Flow Vrij reizen tijdens de spits - toeslag 1e klas | B11: 2021 regulier | F11: 207.7

Sheet Landelijk spoor NS
B3: Productnaam | C3: tarief | D3: klasse | E3: Productnr 1 | F3: Productnr 2 | G3: Contract Tariff Id | H3: 2021 | I3: 2022 | J3: 2023 | K3: Acceptatie OVC | L3: Verkoop POS/quarto | M3: Verkoop Backoffice | N3: Verkoop Webshop | O3: opmerkingen
B4: Weekend Vrij | C4: Vol | D4: 2e | E4: 5066 2 0000 | G4: 212 | H4: 34 | I4: 34.7 | J4: 38.35 | K4: ja | L4: nee | M4: nee | N4: nee
B5: Weekend Vrij | C5: Vol | D5: 1e | E5: 5066 1 0000 | G5: 211 | H5: 40 | I5: 40.8 | J5: 47.35 | K5: ja | L5: nee | M5: nee | N5: nee
B6: Weekend Vrij (Bijabonnement) | C6: Red | D6: 2e | E6: 5066 2 6500 & 5082 2 0000 | G6: 212 | H6: 24 | I6: 24.4 | J6: 28.35 | K6: ja | L6: nee | M6: nee | N6: nee
B7: Weekend Vrij (Bijabonnement) | C7: Red | D7: 1e | E7: 5066 1 6500 & 5082 1 0000 | G7: 211 | H7: 30 | I7: 30.5 | J7: 36.35 | K7: ja | L7: nee | M7: nee | N7: nee
B8: Dal Vrij | C8: Vol | D8: 2e | E8: 5065 2 0000 | G8: 214 | H8: 106 | I8: 107.9 | J8: 119.95 | K8: ja | L8: nee | M8: nee | N8: nee
B9: Dal Vrij | C9: Vol | D9: 1e | E9: 5065 1 0000 | G9: 213 | H9: 134 | I9: 136.4 | J9: 159.95 | K9: ja | L9: nee | M9: nee | N9: nee
B10: Dal Vrij (Bijabonnement) | C10: Red | D10: 2e | E10: 5065 2 6500 & 5081 2 0000 | G10: 214 | H10: 46 | I10: 46.8 | J10: 54.95 | K10: ja | L10: nee | M10: nee | N10: nee
B11: Dal Vrij (Bijabonnement) | C11: Red | D11: 1e | E11: 5065 1 6500 & 5081 1 0000 | G11: 213 | H11: 72 | I11: 73.3 | J11: 87.95 | K11: ja | L11: nee | M11: nee | N11: nee
B12: BTM vrij particulier (OV-deel bij Dal Vrij) | C12: Vol | D12: nvt | G12: - | H12: 255.29167 | I12: 260.66667 | K12: ja | L12: nee | M12: nee | N12: nee
B13: BTM vrij particulier (OV-deel bij Dal Vrij bijabonnement) | G13: - | H13: 36.4 | I13: 37.2 | K13: ja | L13: nee | M13: nee | N13: nee
B14: Altijd Voordeel | C14: nvt | E14: 5067 1 / 2 | G14: 215 & 216 1 / 2 | H14: 23 | I14: 24.2 | J14: 26.7 | K14: ja | L14: nee | M14: nee | N14: nee
B15: Altijd Voordeel MAAND | C15: nvt | E15: 5077 1 & 5095 2 | G15: 51 & 52 | H15: 28 | I15: 28.5 | J15: x | K15: ja | L15: nee | M15: nee | N15: nee
B16: Kids Vrij | C16: Vol | E16: 5078 0 0000 | G16: 30 | H16: 0 | I16: 0 | J16: - | K16: ja | L16: nee | M16: nee | N16: nee
B17: Kids Vrij (Bijabonnement) | C17: Red | E17: 5079 0 0000 | G17: 30 | H17: 0 | I17: 0 | J17: - | K17: ja | L17: nee | M17: nee | N17: nee
B18: Altijd Vrij | C18: Vol | D18: 2e | E18: 5069 2 0000 | G18: 220 | H18: 356 | I18: 362.4 | J18: 353.8 | K18: ja | L18: nee | M18: nee | N18: nee
B19: Altijd Vrij | C19: Vol | D19: 1e | E19: 5069 1 0000 | G19: 219 | H19: 602 | I19: 612.5 | J19: 601.5 | K19: ja | L19: nee | M19: nee | N19: nee
B20: Maandkaart Altijd Vrij 1 maand | C20: Vol | D20: 2e | E20: 5329 2 0000 | G20: 55 | H20: 427.2 | I20: 434.9 | J20: 424.6 | K20: ja | L20: nee | M20: nee | N20: nee | O20: Prepaid kaart, geen abonnement. Te koop sinds april 2021
B21: Maandkaart Altijd Vrij 3 maanden | C21: Vol | D21: 2e | E21: 5330 2 0000 | G21: 56 | H21: 1068 | I21: 1087.2 | J21: 1061.4 | K21: ja | L21: nee | M21: nee | N21: nee | O21: Prepaid kaart, geen abonnement. Te koop sinds april 2021
B22: Maandkaart Altijd Vrij 1 maand | C22: Vol | D22: 1e | E22: 5329 1 0000 | G22: 55 | H22: 722.4 | I22: 735 | J22: 721.8 | K22: ja | L22: nee | M22: nee | N22: nee | O22: Prepaid kaart, geen abonnement. Te koop sinds april 2021
B23: Maandkaart Altijd Vrij 3 maanden | C23: Vol | D23: 1e | E23: 5330 1 0000 | G23: 56 | H23: 1806 | I23: 1837.5 | J23: 1804.5 | K23: ja | L23: nee | M23: nee | N23: nee | O23: Prepaid kaart, geen abonnement. Te koop sinds april 2021
B24: Altijd Vrij (Bijabonnement) | C24: Red | D24: 2e | E24: 5069 2 ZK 16 (= kortingscode in ECC) *) | G24: 220 | H24: 165 | I24: 168 | K24: ja | L24: nee | M24: nee | N24: nee
B25: Altijd Vrij (Bijabonnement) | C25: Red | D25: 1e | E25: 5069 1 ZK 16 (= kortingscode in ECC) *) | G25: 219 | H25: 356 | I25: 362.4 | K25: ja | L25: nee | M25: nee | N25: nee
B26: BTM Vrij (OV-deel bij Altijd Vrij) | C26: Vol | D26: nvt | E26: 5176 | G26: 600 | H26: 60.55 | I26: 61.85 | K26: nee | L26: nee | M26: nee | N26: nee
B27: BTM Vrij (OV-deel bij Altijd Vrij) (Bijabonnement) | C27: Red | D27: nvt | E27: 5176 (met kortingscode in ECC) | G27: 600 | H27: 36.4 | I27: 37.2 | K27: nee | L27: nee | M27: nee | N27: nee
B28: Dal Voordeel | C28: nvt | D28: nvt | E28: 5064 1 / 2 | G28: 209 & 210 1 / 2 | H28: 60 | I28: 61.2 | J28: 67.2 | K28: ja | L28: nee | M28: nee | N28: nee
B29: OV Voordeel MAAND (OV-deel i.c.m. Altijd Voordeel) | C29: nvt | E29: 5125 0 0000 | G29: 610 | H29: 12 | I29: 12 | K29: nee | L29: nee | M29: nee | N29: nee
B30: OV Voordeel JAAR (OV-deel i.c.m. Altijd Voordeel) | C30: nvt | E30: 5126 0 0000 | G30: 601 | H30: 144 | I30: 144 | K30: nee | L30: nee | M30: nee | N30: nee
B31: VDU | C31: nvt | E31: 1042 | G31: nvt | H31: 60 | I31: 61.2 | J31: 67.2 | K31: ja | L31: nee | M31: nee | N31: nee
B32: Keuzedagen | D32: 2e | E32: 5134 2 / 5083 2 | G32: 91 / 90 | H32: 26 | I32: 26.5 | J32: 27.5 | K32: ja | L32: nee | M32: nee | N32: nee
B33: Keuzedagen | D33: 1e | E33: 5134 1 / 5083 1 | G33: 91 / 90 | H33: 51 | I33: 51.9 | J33: 53.7 | K33: ja | L33: nee | M33: nee | N33: nee
B34: Toeslag Keuzedagen op Papier | G34: - | H34: 11 | I34: 11.2 | J34: 11.6 | K34: ja | L34: nee | M34: nee | N34: nee
B35: Totaalprijs VDU +Keuzedagen op CT | D35: 2e | G35: - | H35: 97 | I35: 98.9 | J35: 106.3 | K35: ja | L35: nee | M35: nee | N35: nee
B36: Totaalprijs VDU +Keuzedagen op CT | D36: 1e | G36: - | H36: 122 | I36: 124.3 | J36: 132.5 | K36: ja | L36: nee | M36: nee | N36: nee
B37: NS Flex administratie kosten | G37: - | H37: 10 | I37: 10 | J37: 10 | K37: nee | L37: nee | M37: nee | N37: nee
B38: NS Flex basis | D38: nvt | G38: 550 | H38: 0 | I38: 0 | J38: - | K38: nee | L38: nee | M38: nee | N38: nee
B39: NS Flex Weekend Voordeel | D39: nvt | G39: 550 | H39: 2 | I39: 2 | J39: 2.2 | K39: ja | L39: nee | M39: nee | N39: ja
B40: NS Flex Weekend Vrij zonder dalkorting | D40: 2e | G40: 550 | H40: 31 | I40: 31.6 | J40: 34.95 | K40: ja | L40: nee | M40: nee | N40: ja | O40: Korting 65+ is 10,30 euro
B41: NS Flex Weekend Vrij zonder dalkorting | D41: 1e | G41: 550 | H41: 37 | I41: 37.7 | J41: 43.95 | K41: ja | L41: nee | M41: nee | N41: ja | O41: Korting 65+ is 10,30 euro
B42: NS Flex Weekend Vrij met dalkorting | D42: 2e | G42: 550 | H42: 34 | I42: 34.7 | J42: 38.35 | K42: ja | L42: nee | M42: nee | N42: ja | O42: Korting 65+ is 10,30 euro
...

Sheet LTK
B3: Productnaam | C3: Productnr | D3: Contract Tariff Id | E3: 2018 | F3: 2019 | G3: 2020 | H3: 2021 | I3: 2022 | J3: 2023 | K3: DEF | L3: Acceptatie OVC | M3: Verkoop POS/quarto | N3: Verkoop Backoffice | O3: Verkoop Webshop
B4: Reisproducten OV-Chipkaart
B5: Opstaptarief (bus en trein)* | C5: nvt | D5: nvt | E5: 0.9 | F5: 0.96 | G5: 0.98 | H5: 0.99 | I5: 1.01 | J5: 1.08 | L5: ja | M5: nee | N5: nee | O5: nee
B6: Opstaptarief met 20% korting | C6: nvt | D6: nvt | E6: 0.72 | F6: 0.77 | G6: 0.78 | H6: 0.79 | I6: 0.81 | J6: =0.8*J5 -> 0.864 | L6: ja | M6: nee | N6: nee | O6: nee
B7: Opstaptarief met 34% korting | C7: nvt | D7: nvt | E7: 0.59 | F7: 0.63 | G7: 0.65 | H7: 0.65 | I7: 0.67 | J7: =0.66*J5 -> 0.7128 | L7: ja | M7: nee | N7: nee | O7: nee
B8: Opstaptarief met 40% korting | C8: nvt | D8: nvt | E8: 0.54 | F8: 0.58 | G8: 0.59 | H8: 0.59 | I8: 0.61 | J8: =0.6*J5 -> 0.648 | L8: ja | M8: nee | N8: nee | O8: nee
B9: Opstaptarief met 34% + 20% korting | C9: nvt | D9: nvt | E9: 0.48 | F9: 0.51 | G9: 0.52 | H9: 0.52 | I9: 0.53 | J9: =(0.66*J5)*0.8 -> 0.57024 | L9: ja | M9: nee | N9: nee | O9: nee
B11: Altijd Korting (LTK2) maandabonnement (kind) | C11: 4010 | D11: 4011 | E11: 17.5 | F11: 19 | G11: 19.5 | H11: 19.5 | I11: 20 | J11: 21.55 | L11: ja | M11: ja | N11: ja | O11: ja
B12: Altijd Korting (LTK2) maandabonnement (tiener) | C12: 4010 | D12: 4012 | E12: 17.5 | F12: 19 | G12: 19.5 | H12: 19.5 | I12: 20 | J12: 21.55 | L12: ja | M12: ja | N12: ja | O12: ja
B13: Altijd Korting (LTK2) maandabonnement (volwassene) | C13: 4010 | D13: 4013 | E13: 17.5 | F13: 19 | G13: 19.5 | H13: 19.5 | I13: 20 | J13: 21.55 | L13: ja | M13: ja | N13: ja | O13: ja
B14: Altijd Korting (LTK2) maandabonnement (senior) | C14: 4010 | D14: 4014 | E14: 17.5 | F14: 19 | G14: 19.5 | H14: 19.5 | I14: 20 | J14: 21.55 | L14: ja | M14: ja | N14: ja | O14: ja
B15: Altijd Korting (LTK2) jaarabonnement (kind) | C15: 4000 | D15: 4001 | E15: 175 | F15: 190 | G15: 195 | H15: 195 | I15: =I14*10 -> 200 | J15: 215.5 | L15: ja | M15: ja | N15: ja | O15: ja
B16: Altijd Korting (LTK2) jaarabonnement (tiener) | C16: 4000 | D16: 4002 | E16: 175 | F16: 190 | G16: 195 | H16: 195 | I16: 200 | J16: 215.5 | L16: ja | M16: ja | N16: ja | O16: ja
B17: Altijd Korting (LTK2) jaarabonnement (volwassene) | C17: 4000 | D17: 4003 | E17: 175 | F17: 190 | G17: 195 | H17: 195 | I17: 200 | J17: 215.5 | L17: ja | M17: ja | N17: ja | O17: ja
B18: Altijd Korting (LTK2) jaarabonnement (senior) | C18: 4000 | D18: 4004 | E18: 175 | F18: 190 | G18: 195 | H18: 195 | I18: 200 | J18: 215.5 | L18: ja | M18: ja | N18: ja | O18: ja
B20: OV jaarkaart 1 persoon (BTM deel) | C20: 600 | D20: 600 | E20: 666 | F20: 704.4 | G20: 720 | H20: 726.6 | I20: 742.2 | J20: 796 | L20: nee | M20: nee | N20: nee | O20: nee
B21: Bij-abonnementen (i.c.m. Dal Vrij en Spoor Vrij) | C21: 7 | D21: 7 | E21: 400.8 | F21: 423.6 | G21: 433.2 | H21: 436.8 | I21: 446.4 | J21: - | L21: ja | M21: nee | N21: nee | O21: nee
B22: 1 Dag OV vrij (BTM-deel) | C22: 453 | D22: 453 | E22: 9.5 | F22: 9.5 | G22: 10 | H22: 10 | I22: 10 | J22: 10 | L22: ja | M22: nee | N22: nee | O22: nee
B23: Holland Travel Ticket (BTM deel) | C23: 440 | D23: 440 | E23: 7.5 | F23: 8 | G23: 8.2 | H23: 8.45 | I23: 8.63 | J23: 9.25 | L23: ja | M23: nee | N23: nee | O23: nee
B24: Holland Travel Ticket off peak (BTM deel) | C24: 443 | D24: 443 | E24: 7.5 | F24: 8 | G24: 8.2 | H24: 8.45 | I24: 8.63 | J24: 9.25 | L24: ja | M24: nee | N24: nee | O24: nee
B25: Holland Travel Ticket | C25: 440 | D25: 440 | G25: 62 | H25: 63 | L25: ja | M25: nee | N25: nee | O25: nee
B26: Holland Travel Ticket off peak | C26: 443 | D26: 443 | G26: 42 | H26: 43 | L26: ja | M26: nee | N26: nee | O26: nee
B27: OV voordeel supplement (maand) | C27: 610 | D27: 610 | E27: 11 | F27: 11.5 | G27: 12 | H27: 12 | I27: 12 | J27: - | L27: nee | M27: nee | N27: nee | O27: nee
B28: OV voordeel supplement (jaar) | C28: 601 | D28: 601 | E28: 132 | F28: 138 | G28: 144 | H28: 144 | I28: =I27*12 -> 144 | J28: - | L28: nee | M28: nee | N28: nee | O28: nee
B30: Budget Zeker (small) | C30: 611 | D30: 611 | E30: 509 | F30: 538 | G30: 550 | H30: 555 | I30: 567 | J30: 607.5 | L30: ja | M30: nee | N30: nee | O30: nee
B31: Budget Zeker (medium) | C31: 611 | D31: 611 | E31: 796 | F31: 842 | G31: 860 | H31: 868 | I31: 887 | J31: 951 | L31: ja | M31: nee | N31: nee | O31: nee
B32: Budget Zeker (large) | C32: 611 | D32: 611 | E32: 1207 | F32: 1276 | G32: 1305 | H32: 1317 | I32: 1345 | J32: 1442 | L32: ja | M32: nee | N32: nee | O32: nee
B34: Netabonnement voltarief (maand) (volwassene) | C34: 6510 | D34: 6513 | E34: 280.8 | F34: 296.95 | G34: 303.55 | H34: 306.35 | I34: 312.8 | J34: 335.45 | L34: ja | M34: ja | N34: ja | O34: ja
B35: Netabonnement reductietarief (maand) (kind) | C35: 6510 | D35: 6511 | E35: 185.35 | F35: 196 | G35: 200.35 | H35: 202.2 | I35: 206.45 | J35: 221.4 | L35: ja | M35: ja | N35: ja | O35: ja
B36: Netabonnement reductietarief (maand) (tiener) | C36: 6510 | D36: 6512 | E36: 185.35 | F36: 196 | G36: 200.35 | H36: 202.2 | I36: 206.45 | J36: 221.4 | L36: ja | M36: ja | N36: ja | O36: ja
B37: Netabonnement reductietarief (maand) (senior) | C37: 6510 | D37: 6514 | E37: 185.35 | F37: 196 | G37: 200.35 | H37: 202.2 | I37: 206.45 | J37: 221.4 | L37: ja | M37: ja | N37: ja | O37: ja
B38: Netabonnement Particulier voltarief (jaar) (volwassene) | C38: 6500 | D38: 6503 | E38: 2808 | F38: 2969.5 | G38: 3035.5 | H38: 3063.5 | I38: 3128 | J38: 3354.5 | L38: ja | M38: ja | N38: ja | O38: ja
B39: Netabonnement Particulier reductietarief (jaar) (kind) | C39: 6500 | D39: 6501 | E39: 1853.5 | F39: 1960 | G39: 2003.5 | H39: 2022 | I39: 2064.5 | J39: 2214 | L39: ja | M39: ja | N39: ja | O39: ja
B40: Netabonnement Particulier reductietarief (jaar) (tiener) | C40: 6500 | D40: 6502 | E40: 1853.5 | F40: 1960 | G40: 2003.5 | H40: 2022 | I40: 2064.5 | J40: 2214 | L40: ja | M40: ja | N40: ja | O40: ja
B41: Netabonnement Particulier reductietarief (jaar) (senior) | C41: 6500 | D41: 6504 | E41: 1853.5 | F41: 1960 | G41: 2003.5 | H41: 2022 | I41: 2064.5 | J41: 2214 | L41: ja | M41: ja | N41: ja | O41: ja
B42: Netabonnement Jaar (zakelijk) (volwassene) | C42: 6505 | D42: 6518 | E42: 1367.8 | F42: 2969.5 | G42: 3035.5 | H42: =H38 -> 3063.5 | I42: 3128 | J42: =J38 -> 3354.5 | L42: ja | M42: nee | N42: nee | O42: nee
B43: Netabonnement Jaar (zakelijk) (kind) | C43: 6505 | D43: 6516 | E43: 1367.8 | F43: 1960 | G43: 2003.5 | H43: =H41 -> 2022 | I43: 2064.5 | J43: 2214 | L43: ja | M43: nee | N43: nee | O43: nee
B44: Netabonnement Jaar (zakelijk) (tiener) | C44: 6505 | D44: 6517 | E44: 1367.8 | F44: 1960 | G44: 2003.5 | H44: 2022 | I44: 2064.5 | J44: 2214 | L44: ja | M44: nee | N44: nee | O44: nee
B45: Netabonnement Jaar (zakelijk) (senior) | C45: 6505 | D45: 6519 | E45: 1367.8 | F45: 1960 | G45: 2003.5 | H45: =H43 -> 2022 | I45: 2064.5 | J45: 2214 | L45: ja | M45: nee | N45: nee | O45: nee
B46: Netabonnement zakelijk (jaar) | C46: 6505 | D46: 6505 | E46: 1367.8 | F46: 1446.5 | G46: 1478.7 | H46: 1492.2 | I46: 1523.8 | J46: 1634 | L46: ja | M46: nee | N46: ja | O46: nee
...

Sheet Sales producten
A2: Productnaam | B2: Regionale tarieven | C2: Productnr | D2: Contract Tariff Id | E2: 2017 | F2: 2018 | G2: 2019 | H2: 2020 | I2: 2021 | J2: 2022 def | K2: 2023
A3: SALES
A4: Brabant Altijd Vrij jaar zakelijk | B4: Zuid- Brabant West | C4: 1283 | D4: 1283 | E4: 1164 | F4: 1189 | G4: 1269.1 | H4: 1310.14 | J4: 1376.82 | K4: 1490.27
A5: Meedoen / Dalvrij West-Brabant Streek kind | B5: Zuid- Brabant West | C5: 8125 | D5: 8126 | F5: 87.5 | G5: 90 | H5: 90 | I5: 90 | J5: 94.5 | K5: 101.35
A6: Meedoen / Dalvrij West-Brabant Streek jeugd | B6: Zuid- Brabant West | C6: 8125 | D6: 8127 | F6: 87.5 | G6: 90 | H6: 90 | I6: 90 | J6: 94.5 | K6: 101.35
A7: Meedoen / Dalvrij West-Brabant Streek volwassen | B7: Zuid- Brabant West | C7: 8125 | D7: 8128 | F7: 87.5 | G7: 90 | H7: 90 | I7: 90 | J7: 94.5 | K7: 101.35
A8: Meedoen / Dalvrij West-Brabant Streek senior | B8: Zuid- Brabant West | C8: 8125 | D8: 8129 | F8: 87.5 | G8: 90 | H8: 90 | I8: 90 | J8: 94.5 | K8: 101.35
A9: Meedoen / Dalvrij West-Brabant Stad (Breda) en Streek kind | B9: Zuid- Brabant West | C9: 8130 | D9: 8131 | F9: 127.5 | G9: 131 | H9: 131 | I9: 131 | J9: 137.5 | K9: 147.45
A10: Meedoen / Dalvrij West-Brabant Stad (Breda) en Streek jeugd | B10: Zuid- Brabant West | C10: 8130 | D10: 8132 | F10: 127.5 | G10: 131 | H10: 131 | I10: 131 | J10: 137.5 | K10: 147.45
A11: Meedoen / Dalvrij West-Brabant Stad (Breda) en Streek volwassen | B11: Zuid- Brabant West | C11: 8130 | D11: 8133 | F11: 127.5 | G11: 131 | H11: 131 | I11: 131 | J11: 137.5 | K11: 147.45
A12: Meedoen / Dalvrij West-Brabant Stad (Breda) en Streek senior | B12: Zuid- Brabant West | C12: 8130 | D12: 8134 | F12: 127.5 | G12: 131 | H12: 131 | I12: 131 | J12: 137.5 | K12: 147.45
A13: zakelijk divers | B13: Zuid- Brabant West | K13: nvt.
A14: WMO divers | B14: Zuid- Brabant West | K14: nvt.
A15: sales divers CT kaarten | B15: Zuid- Brabant West | K15: nvt.
A16: Brabant Altijd Vrij jaar zakelijk | B16: Zuid - Brabant Oost | C16: 1283 | D16: 1283 | E16: 1189 | F16: 1269.1 | G16: 1310.14 | J16: 1376.82 | K16: 1490.27
A17: Meedoen / Dalvrij Tilburg stad kind | B17: Zuid - Brabant Oost | C17: 8120 | D17: 8121 | E17: 87.5 | F17: 100 | G17: 110 | J17: 115.5 | K17: 125
A18: Meedoen / Dalvrij Tilburg stad jeugd | B18: Zuid - Brabant Oost | C18: 8120 | D18: 8122 | E18: 87.5 | F18: 100 | G18: 110 | J18: 115.5 | K18: 125
A19: Meedoen / Dalvrij Tilburg stad volwassen | B19: Zuid - Brabant Oost | C19: 8120 | D19: 8123 | E19: 87.5 | F19: 100 | G19: 110 | J19: 115.5 | K19: 125
A20: Meedoen / Dalvrij Tilburg stad senior | B20: Zuid - Brabant Oost | C20: 8120 | D20: 8124 | E20: 87.5 | F20: 100 | G20: 110 | J20: 115.5 | K20: 125
A21: zakelijk divers | B21: Zuid - Brabant Oost | K21: nvt.
A22: WMO divers | B22: Zuid - Brabant Oost | K22: nvt.
A23: sales divers CT kaarten | B23: Zuid - Brabant Oost | K23: nvt.

Sheet Z-BW
B2: Regionale tarieven Brabant West | S2: Voorwaarden
B3: Productnaam | C3: Productnr | D3: Contract Tariff Id | E3: 2017 | F3: 2018 | G3: 2019 | H3: 2020 | I3: 2021 | J3: 2022 def | K3: 2023 | M3: DEF | N3: Acceptatie OVC | O3: Verkoop POS/quarto | P3: Verkoop Backoffice | Q3: Verkoop Webshop | S3: Geldigheid (dal/spits) | T3: Modaliteit (trein/(buurtbus)/HOV) | U3: Leeftijd (65+/kind/etc) | V3: Gebied (landelijk/1 regio of meer) | W3: Uitzonderingen
B4: BRABANT OV-chipkaart
B5: Kilometertarief | C5: nvt | D5: nvt | E5: 0.151 | F5: 0.157 | G5: 0.167 | H5: 0.172 | I5: 0.17542151 | J5: 0.181 | K5: 0.188 | N5: ja | O5: nee | P5: e-ticket van-naar | Q5: e-ticket van-naar
B6: Kilometer tarief Nightliner flatfare | C6: nvt | D6: nvt | G6: 6.63 | H6: 4.5 | I6: 5 | J6: 5.16 | K6: 5.58 | N6: ja | O6: nee | P6: nee | Q6: nee
B7: Bravo Flex Bergen op Zoom lijn 820 flatfare van/naar station. | C7: nvt | D7: nvt | H7: 1.5 | I7: 1.5 | J7: 1.5 | K7: 1.5 | N7: ja | O7: nee | P7: nee | Q7: nee
B8: Bravo Flex Bergen op Zoom lijn 820 kris kras | C8: nvt | D8: nvt | H8: 1.5 | J8: 3.5 | K8: 3.5 | N8: ja | O8: nee | P8: nee | Q8: nee
B9: BARABANT Reisproducten OV-chipkaart maand (doorlopend)
B10: Brabant Jeugd maandabonnement 12 t/m 18 jarigen | C10: 1586 | D10: 1586 | E10: 87.6 | F10: 89.45 | G10: 95.47 | H10: 98.55 | I10: 100.44 | J10: 103.57 | K10: 112.1 | N10: ja | O10: ja | P10: ja | Q10: ja
B11: Brabant Altijd Vrij Anoniem | C11: 8020 | D11: 8020 | E11: 116.4 | F11: 118.9 | G11: 126.91 | H11: 131.01 | I11: 133.52 | J11: 137.68 | K11: 149.03 | N11: ja | O11: ja | P11: ja | Q11: nee
B12: Brabant Altijd Vrij Kind | C12: 8020 | D12: 8021 | E12: 116.4 | F12: 118.9 | G12: 126.91 | H12: 131.01 | I12: 133.52 | J12: 137.68 | K12: =K11 -> 149.03 | N12: ja | O12: ja | P12: ja | Q12: ja
B13: Brabant Altijd Vrij Tiener | C13: 8020 | D13: 8022 | E13: 116.4 | F13: 118.9 | G13: 126.91 | H13: 131.01 | I13: 133.52 | J13: 137.68 | K13: =K12 -> 149.03 | N13: ja | O13: ja | P13: ja | Q13: ja
B14: Brabant Altijd Vrij Volwassen | C14: 8020 | D14: 8023 | E14: 116.4 | F14: 118.9 | G14: 126.91 | H14: 131.01 | I14: 133.52 | J14: 137.68 | K14: =K13 -> 149.03 | N14: ja | O14: ja | P14: ja | Q14: ja
B15: Brabant Altijd Vrij Senior | C15: 8020 | D15: 8024 | E15: 116.4 | F15: 118.9 | G15: 126.91 | H15: 131.01 | I15: 133.52 | J15: 137.68 | K15: =K14 -> 149.03 | N15: ja | O15: ja | P15: ja | Q15: ja
B16: BRABANT Reisproducten OV-chipkaart kwartaal
B17: winterschoolliner 5 maanden | E17: nvt | F17: nvt | J17: 401.76 | K17: vervallen
B18: BARABANT Reisproducten OV-chipkaart jaar of onbepaalde tijd
B19: Brabant Dalkorting Kind | C19: 1580 | D19: 1582 | E19: 11.7 | F19: 11.95 | G19: 12.74 | H19: 13.15 | I19: 13.4 | J19: 13.82 | K19: 14.96 | N19: ja | O19: ja | P19: ja | Q19: ja
B20: Brabant Dalkorting Jeugd | C20: 1580 | D20: 1583 | E20: 11.7 | F20: 11.95 | G20: 12.74 | H20: 13.15 | I20: 13.4 | J20: 13.82 | K20: 14.96 | N20: ja | O20: ja | P20: ja | Q20: ja
B21: Brabant Dalkorting Volwassen | C21: 1580 | D21: 1584 | E21: 11.7 | F21: 11.95 | G21: 12.74 | H21: 13.15 | I21: 13.4 | J21: 13.82 | K21: 14.96 | N21: ja | O21: ja | P21: ja | Q21: ja
B22: Brabant Dalkorting Senior | C22: 1580 | D22: 1585 | E22: 11.7 | F22: 11.95 | G22: 12.74 | H22: 13.15 | I22: 13.4 | J22: 13.82 | K22: 14.96 | N22: ja | O22: ja | P22: ja | Q22: ja
B23: Brabant Altijd Vrij Anoniem | C23: 8025 | D23: 8025 | E23: 1164 | F23: 1189 | G23: 1269.1 | H23: 1310.14 | I23: 1335.17 | J23: 1376.82 | K23: 1490.27 | N23: ja | O23: ja | P23: ja | Q23: nee
B24: Brabant Altijd Vrij Kind | C24: 8025 | D24: 8026 | E24: 1164 | F24: 1189 | G24: 1269.1 | H24: 1310.14 | I24: 1335.17 | J24: 1376.82 | K24: =K23 -> 1490.27 | N24: ja | O24: ja | P24: ja | Q24: ja
B25: Brabant Altijd Vrij jeugd | C25: 8025 | D25: 8027 | E25: 1164 | F25: 1189 | G25: 1269.1 | H25: 1310.14 | I25: 1335.17 | J25: 1376.82 | K25: =K24 -> 1490.27 | N25: ja | O25: ja | P25: ja | Q25: ja
B26: Brabant Altijd Vrij Volwassen | C26: 8025 | D26: 8028 | E26: 1164 | F26: 1189 | G26: 1269.1 | H26: 1310.14 | I26: 1335.17 | J26: 1376.82 | K26: =K25 -> 1490.27 | N26: ja | O26: ja | P26: ja | Q26: ja
B27: Brabant Altijd Vrij Senior | C27: 8025 | D27: 8029 | E27: 1164 | F27: 1189 | G27: 1269.1 | H27: 1310.14 | I27: 1335.17 | J27: 1376.82 | K27: =K26 -> 1490.27 | N27: ja | O27: ja | P27: ja | Q27: ja
B28: BRABANT Wagenverkoopassortiment
B29: Ritkaartje | C29: nvt | D29: nvt | E29: 3.98 | F29: 4.24 | G29: 4.24 | H29: 4.38 | I29: 4.46 | J29: 4.59 | K29: 4.8
B30: Ritkaartje middellang | C30: nvt | D30: nvt | E30: 7.96 | F30: 8.48 | G30: 8.48 | H30: 8.76 | I30: 8.92 | J30: 9.18 | K30: =K29*2 -> 9.6
B31: Ritkaartje lang | C31: nvt | D31: nvt | E31: 11.94 | F31: 12.72 | G31: 12.72 | H31: 13.14 | I31: 13.38 | J31: 13.77 | K31: =K29*3 -> 14.4
B32: Ritkaartje (CT voorverkoop) | E32: 6.22 | F32: 4.24 | G32: 4.24 | H32: 4.38 | I32: 4.46 | J32: 4.59 | K32: =K29 -> 4.8 | N32: ja | O32: ja
B33: Dalurendagkaartje | C33: nvt | D33: nvt | E33: 6.22 | F33: 6.63 | G33: 6.63 | H33: 6.84 | I33: 6.97 | J33: 7.18 | K33: 7.55
B34: Dalurendagkaartje middellang | C34: nvt | D34: nvt | E34: 12.44 | F34: 13.25 | G34: 13.25 | H34: 13.68 | I34: 13.94 | J34: 14.36 | K34: =K33*2 -> 15.1
B35: Dalurendagkaartje lang | C35: nvt | D35: nvt | E35: 12.44 | F35: 13.25 | G35: nvt | H35: nvt | I35: 20.91 | J35: 21.54 | K35: =K33*3 -> 22.65
B36: Dalurendagkaartje (CT voorverkoop) | C36: 8046 | D36: 8046 | E36: 6.22 | F36: 6.63 | G36: 6.63 | H36: 6.84 | I36: 6.97 | J36: 7.18 | K36: =K33 -> 7.55 | N36: ja | O36: ja
B37: Stadskaartje (CT voorverkoop) | C37: 8160 | D37: 8160 | H37: nvt | J37: 4.59 | K37: 4.97 | N37: ja
B38: Stadskaartje | C38: nvt | D38: nvt | G38: 3 | H38: 4.38 | I38: 4.46 | J38: 4.59 | K38: 4.97
B39: Ritkaartje Nightliner | C39: nvt | D39: nvt | E39: 6.22 | F39: 6.63 | G39: 6.63 | H39: 6.84 | I39: 7 | J39: 7 | K39: 7.58
B40: Retourkaartje Nightliner | C40: nvt | D40: nvt | E40: 6.22 | F40: 6.63 | G40: 6.63 | H40: 6.84 | I40: 10 | J40: 10.3 | K40: 11.37
B41: rituitrijkaart | J41: 35 | K41: 35
...

Sheet Z-BO
B2: Regionale tarieven Brabant Oost | S2: Voorwaarden
B3: Productnaam | C3: Productnr | D3: Contract Tariff Id | E3: 2018 | F3: 2019 | G3: 2020 | H3: 44197 | I3: 44378 | J3: 2022 niet definitief | K3: 2023 | M3: DEF | N3: Acceptatie OVC | O3: Verkoop POS/quarto | P3: Verkoop Backoffice | Q3: Verkoop Webshop | S3: Geldigheid (dal/spits) | T3: Modaliteit (trein/(buurtbus)/HOV) | U3: Leeftijd (65+/kind/etc) | V3: Gebied (landelijk/1 regio of meer) | W3: Uitzonderingen
B4: ='Z-BW'!B4 -> BRABANT OV-chipkaart
B5: Kilometertarief | C5: nvt | D5: nvt | E5: 0.157 | F5: 0.167 | G5: 0.172 | H5: 0.17542151 | J5: 0.181 | K5: ='Z-BW'!K5 -> 0.188 | N5: ja | O5: nee | P5: e-ticket van-naar | Q5: e-ticket van-naar
B6: Tranferiumbussen geen OV-chipkaart afrekening lijn 760,770,780
B7: Kilometer tarief Nightliner flatfare | C7: nvt | D7: nvt | F7: 6.63 | G7: 4.5 | H7: 5 | J7: 5.16 | K7: ='Z-BW'!K6 -> 5.58 | N7: ja | O7: nee | P7: nee | Q7: nee
B8: ='Z-BW'!B9 -> BARABANT Reisproducten OV-chipkaart maand (doorlopend)
B9: Brabant Jeugd maandabonnement 12 t/m 18 jarigen | C9: 1586 | D9: 1586 | E9: 89.45 | F9: 95.47 | G9: 98.55 | H9: 100.44 | J9: 103.57 | K9: ='Z-BW'!K10 -> 112.1 | N9: ja | O9: ja | P9: ja | Q9: ja
B10: Brabant Altijd Vrij Anoniem | C10: 8020 | D10: 8020 | E10: 118.9 | F10: 126.91 | G10: 131.01 | H10: 133.52 | J10: 137.68 | K10: ='Z-BW'!K11 -> 149.03 | N10: ja | O10: ja | P10: ja | Q10: nee
B11: Brabant Altijd Vrij Kind | C11: 8020 | D11: 8021 | E11: 118.9 | F11: 126.91 | G11: 131.01 | H11: 133.52 | J11: 137.68 | K11: ='Z-BW'!K12 -> 149.03 | N11: ja | O11: ja | P11: ja | Q11: ja
B12: Brabant Altijd Vrij jeugd | C12: 8020 | D12: 8022 | E12: 118.9 | F12: 126.91 | G12: 131.01 | H12: 133.52 | J12: 137.68 | K12: ='Z-BW'!K13 -> 149.03 | N12: ja | O12: ja | P12: ja | Q12: ja
B13: Brabant Altijd Vrij Volwassen | C13: 8020 | D13: 8023 | E13: 118.9 | F13: 126.91 | G13: 131.01 | H13: 133.52 | J13: 137.68 | K13: ='Z-BW'!K14 -> 149.03 | N13: ja | O13: ja | P13: ja | Q13: ja
B14: Brabant Altijd Vrij Senior | C14: 8020 | D14: 8024 | E14: 118.9 | F14: 126.91 | G14: 131.01 | H14: 133.52 | J14: 137.68 | K14: ='Z-BW'!K15 -> 149.03 | N14: ja | O14: ja | P14: ja | Q14: ja
B15: ='Z-BW'!B18 -> BARABANT Reisproducten OV-chipkaart jaar of onbepaalde tijd
B16: Brabant Dalkorting Kind | C16: 1580 | D16: 1582 | E16: 11.95 | F16: 12.74 | G16: 13.15 | H16: 13.4 | J16: 13.82 | K16: ='Z-BW'!K19 -> 14.96 | N16: ja | O16: ja | P16: ja | Q16: ja
B17: Brabant Dalkorting Jeugd | C17: 1580 | D17: 1583 | E17: 11.95 | F17: 12.74 | G17: 13.15 | H17: 13.4 | J17: 13.82 | K17: ='Z-BW'!K20 -> 14.96 | N17: ja | O17: ja | P17: ja | Q17: ja
B18: Brabant Dalkorting Volwassen | C18: 1580 | D18: 1584 | E18: 11.95 | F18: 12.74 | G18: 13.15 | H18: 13.4 | J18: 13.82 | K18: ='Z-BW'!K21 -> 14.96 | N18: ja | O18: ja | P18: ja | Q18: ja
B19: Brabant Dalkorting Senior | C19: 1580 | D19: 1585 | E19: 11.95 | F19: 12.74 | G19: 13.15 | H19: 13.4 | J19: 13.82 | K19: ='Z-BW'!K22 -> 14.96 | N19: ja | O19: ja | P19: ja | Q19: ja
B20: Brabant Altijd Vrij Anoniem | C20: 8025 | D20: 8025 | E20: 1189 | F20: 1269.1 | G20: 1310.14 | H20: 1335.17 | J20: 1376.82 | K20: ='Z-BW'!K23 -> 1490.27 | N20: ja | O20: ja | P20: ja | Q20: nee
B21: Brabant Altijd Vrij Kind | C21: 8025 | D21: 8026 | E21: 1189 | F21: 1269.1 | G21: 1310.14 | H21: 1335.17 | J21: 1376.82 | K21: ='Z-BW'!K24 -> 1490.27 | N21: ja | O21: ja | P21: ja | Q21: ja
B22: Brabant Altijd Vrij jeugd | C22: 8025 | D22: 8027 | E22: 1189 | F22: 1269.1 | G22: 1310.14 | H22: 1335.17 | J22: 1376.82 | K22: ='Z-BW'!K25 -> 1490.27 | N22: ja | O22: ja | P22: ja | Q22: ja
B23: Brabant Altijd Vrij Volwassen | C23: 8025 | D23: 8028 | E23: 1189 | F23: 1269.1 | G23: 1310.14 | H23: 1335.17 | J23: 1376.82 | K23: ='Z-BW'!K26 -> 1490.27 | N23: ja | O23: ja | P23: ja | Q23: ja
B24: Brabant Altijd Vrij Senior | C24: 8025 | D24: 8029 | E24: 1189 | F24: 1269.1 | G24: 1310.14 | H24: 1335.17 | J24: 1376.82 | K24: ='Z-BW'!K27 -> 1490.27 | N24: ja | O24: ja | P24: ja | Q24: ja
B25: ='Z-BW'!B28 -> BRABANT Wagenverkoopassortiment
B26: Ritkaartje | C26: nvt | D26: nvt | E26: 3.98 | F26: 4.24 | G26: 4.38 | H26: 4.46 | J26: 4.59 | K26: ='Z-BW'!K29 -> 4.8
B27: Ritkaartje (CT voorverkoop) | E27: 6.22 | F27: 4.24 | G27: 4.38 | H27: 4.46 | J27: 4.59 | K27: ='Z-BW'!K32 -> 4.8 | N27: ja | O27: ja
B28: Dalurendagkaartje | C28: nvt | D28: nvt | E28: 6.22 | F28: 6.63 | G28: 6.84 | H28: 6.97 | J28: 7.18 | K28: ='Z-BW'!K33 -> 7.55
B29: Dalurendagkaartje (CT voorverkoop) | C29: 8046 | D29: 8046 | E29: 6.22 | F29: 6.63 | G29: 6.84 | H29: 6.97 | J29: 7.18 | K29: ='Z-BW'!K36 -> 7.55 | N29: ja | O29: ja
B30: Stadskaartje (CT voorverkoop) | C30: 8160 | D30: 8160 | G30: nvt | J30: 4.59 | K30: ='Z-BW'!K37 -> 4.97 | N30: ja
B31: Stadskaartje | C31: nvt | D31: nvt | G31: 4.38 | H31: 4.46 | J31: 4.59 | K31: ='Z-BW'!K38 -> 4.97
B32: Ritkaartje Nightliner | C32: nvt | D32: nvt | E32: 6.22 | F32: 6.63 | G32: 6.84 | H32: 7 | J32: 7 | K32: ='Z-BW'!K39 -> 7.58
B33: Retourkaartje Nightliner | C33: nvt | D33: nvt | E33: 6.22 | F33: 6.63 | G33: 6.84 | H33: 10 | J33: 10.3 | K33: ='Z-BW'!K40 -> 11.37
B34: ='Z-BW'!B42 -> BRABANT E-ticket assortiment
B35: OV-Schoolticket voor groepen (max 26 incl. 1 begeleider) | C35: nvt | D35: nvt | E35: nvt | F35: 35 | G35: 35 | H35: 35 | J35: 35 | K35: ='Z-BW'!K43 -> 35
B36: BRENG lijn 99
B37: acceptatie alle BRENG produkten
B38: KM tarief Breng (gewogen gemiddeld lijn 99 bpalen) | K38: 0.186
B39: DC Breng ritkaartje 1* | K39: 2.6
B40: DC Breng ritkaartje 2* | K40: 5.2
B41: DC Breng ritkaartje 3* | K41: 7.8

Sheet ZZ-LB
B2: Regionale tarieven Limburg
B3: Productnaam | C3: Productnr | D3: Contract Tariff Id | E3: 2018 | F3: 2019 | G3: 2020 | H3: 01-07-2020 | I3: 44197 | J3: 44378 | K3: 2022 | L3: 2023 | M3: DEF | N3: Acceptatie OVC | O3: Verkoop POS/quarto | P3: Verkoop ASSIST | Q3: Verkoop Webshop
B4: Kilometertarief OV-chipkaart
B5: Kilometertarief bus | C5: nvt | D5: nvt | E5: 0.171 | F5: 0.181 | G5: 0.185 | I5: 0.186 | K5: 0.19040154 | L5: 0.204 | N5: ja | O5: nee | P5: ja | Q5: nee
B6: Kilometertarief trein regionaal 2e klas | C6: nvt | D6: nvt | E6: 0.187 | F6: 0.198 | G6: 0.202 | I6: 0.205 | K6: 0.20596075 | L6: 0.22 | N6: ja | O6: nee | P6: ja | Q6: nee
B7: Kilometertarief trein regionaal 1e klas | C7: nvt | D7: nvt | E7: 0.317 | F7: 0.335 | G7: 0.343 | I7: 0.346 | K7: 0.34880449 | L7: 0.373 | N7: ja | O7: nee | P7: ja | Q7: nee
B8: Kilometertarief trein samenloop 2e klas | C8: nvt | D8: nvt | E8: 0.187 | F8: nvt | G8: nvt | H8: nvt | I8: nvt | J8: nvt | K8: nvt | L8: nvt | N8: ja | O8: nee | P8: ja | Q8: nee
B9: Kilometertarief trein samenloop 1e klas | C9: nvt | D9: nvt | E9: 0.317 | F9: nvt | G9: nvt | H9: nvt | I9: nvt | J9: nvt | K9: nvt | L9: nvt | N9: ja | O9: nee | P9: ja | Q9: nee
B10: Kilometertarief SAN lijn 83 (Breng) naar Milsbeek Helweg | C10: nvt | D10: nvt | F10: 0.168 | G10: 0.17 | H10: 0.168 | I10: 0.17 | J10: 0.169 | L10: 0.186 | N10: ja | O10: nee | P10: nee | Q10: nee
B11: Reisproducten OV-chipkaart maand (doorlopend)
B12: Sterabonnement Limburg Maand (vol tarief) 1-ster* | C12: 8705 | E12: 48.74 | F12: 51.55 | G12: 52.7 | I12: 53.18 | K12: 54.303872 | L12: 58.235472 | N12: ja | O12: ja | P12: ja | Q12: ja
B13: Sterabonnement Limburg Maand (vol tarief) 2-ster* | C13: 8705 | E13: 79.99383 | F13: 84.59 | G13: 86.48 | I13: 87.27 | K13: 89.116935 | L13: 95.569001 | N13: ja | O13: ja | P13: ja | Q13: ja
B14: Sterabonnement Limburg Maand (vol tarief) 3-ster* | C14: 8705 | E14: 118.92888 | F14: 125.77 | G14: 128.57 | I14: 129.74 | K14: 132.49243 | L14: 142.08489 | N14: ja | O14: ja | P14: ja | Q14: ja
B15: Sterabonnement Limburg Maand (vol tarief) 4-ster* | C15: 8705 | E15: 158.26845 | F15: 167.37 | G15: 171.1 | I15: 172.66 | K15: 176.31859 | L15: 189.08405 | N15: ja | O15: ja | P15: ja | Q15: ja
B16: Sterabonnement Limburg Maand (vol tarief) 5-ster* | C16: 8705 | E16: 197.2035 | F16: 208.54 | G16: 213.19 | I16: 215.13 | K16: 219.69409 | L16: 235.59994 | N16: ja | O16: ja | P16: ja | Q16: ja
B17: Sterabonnement Limburg Maand (vol tarief) 6-ster* | C17: 8705 | E17: 236.23968 | F17: 249.82 | G17: 255.39 | I17: 257.72 | K17: 263.18225 | L17: 282.23664 | N17: ja | O17: ja | P17: ja | Q17: ja
B18: Sterabonnement Limburg Maand (reductietarief) 1-ster* | C18: 8705 | E18: 32.15934 | F18: 34.01 | G18: 34.77 | I18: 35.08 | K18: 35.827036 | L18: 38.420913 | N18: ja | O18: ja | P18: ja | Q18: ja
B19: Sterabonnement Limburg Maand (reductietarief) 2-ster* | C19: 8705 | E19: 52.78986 | F19: 55.83 | G19: 57.07 | I19: 57.59 | K19: 58.810417 | L19: 63.068291 | N19: ja | O19: ja | P19: ja | Q19: ja
B20: Sterabonnement Limburg Maand (reductietarief) 3-ster* | C20: 8705 | E20: 78.47688 | F20: 82.99 | G20: 84.84 | I20: 85.61 | K20: 87.42698 | L20: 93.756694 | N20: ja | O20: ja | P20: ja | Q20: ja
B21: Sterabonnement Limburg Maand (reductietarief) 4-ster* | C21: 8705 | E21: 104.46729 | F21: 110.47 | G21: 112.94 | I21: 113.97 | K21: 116.38153 | L21: 124.80756 | N21: ja | O21: ja | P21: ja | Q21: ja
B22: Sterabonnement Limburg Maand (reductietarief) 5-ster* | C22: 8705 | E22: 130.15431 | F22: 137.64 | G22: 140.71 | I22: 141.99 | K22: 144.9981 | L22: 155.49596 | N22: ja | O22: ja | P22: ja | Q22: ja
B23: Sterabonnement Limburg Maand (reductietarief) 6-ster* | C23: 8705 | E23: 155.94246 | F23: 164.91 | G23: 168.59 | I23: 170.12 | K23: 173.72732 | L23: 186.30518 | N23: ja | O23: ja | P23: ja | Q23: ja
B24: Dal Vrij Senioren (65+) Bus | C24: 8065 | D24: 8069 | E24: vervalt per 1-1-2018 | G24: 0 | H24: 0 | I24: 0 | J24: 0 | K24: 0 | L24: 0 | N24: nvt | O24: nvt | P24: nvt | Q24: nvt
B25: Dal Vrij Senioren (65+) Trein en Bus | C25: 8070 | D25: 8074 | E25: vervalt per 1-1-2018 | G25: 0 | H25: 0 | I25: 0 | J25: 0 | K25: 0 | L25: 0 | N25: nvt | O25: nvt | P25: nvt | Q25: nvt
B26: Dal Vrij Afgestudeerden Bus | C26: 8065 | D26: 8068 | E26: vervalt per 1-1-2018 | G26: 0 | H26: 0 | I26: 0 | J26: 0 | K26: 0 | L26: 0 | N26: nvt | O26: nvt | P26: nvt | Q26: nvt
B27: Dal Vrij Afgestudeerden Trein en Bus | C27: 8070 | D27: 8073 | E27: vervalt per 1-1-2018 | G27: 0 | H27: 0 | I27: 0 | J27: 0 | K27: 0 | L27: 0 | N27: nvt | O27: nvt | P27: nvt | Q27: nvt
B28: P&R Maastricht Altijd Vrij | C28: 8105 | E28: 25 | F28: 25 | G28: 27.05 | I28: 27.25 | K28: 27.85 | L28: 29.85 | N28: ja | O28: ja | P28: ja | Q28: ja
B29: Arriva Traject Vrij Maand | C29: 8090 | D29: 8090 | E29: prijs afhankelijk van traject | F29: prijs afhankelijk van traject | G29: prijs afhankelijk van traject | H29: prijs afhankelijk van traject | I29: prijs afhankelijk van traject | J29: prijs afhankelijk van traject | K29: prijs afhankelijk van traject | L29: prijs afhankelijk van traject | N29: ja | O29: ja | P29: ja | Q29: ja
B30: Reisproducten OV-chipkaart jaar of onbepaalde tijd
B31: Dal Voordeel Limburg (a-kaart) | C31: 8700 | D31: 8700 | E31: 18 | F31: 17 | G31: 18 | I31: 18 | K31: nvt | L31: 19 | N31: ja | O31: ja | P31: ja | Q31: ja
B32: Dal Voordeel Limburg (kind) | C32: 8700 | D32: 8701 | E32: 18 | F32: 17 | G32: 18 | I32: 18 | K32: nvt | L32: 19 | N32: ja | O32: ja | P32: ja | Q32: ja
B33: Dal Voordeel Limburg (tiener) | C33: 8700 | D33: 8702 | E33: 18 | F33: 17 | G33: 18 | I33: 18 | K33: nvt | L33: 19 | N33: ja | O33: ja | P33: ja | Q33: ja
B34: Dal Voordeel Limburg (volwassen) | C34: 8700 | D34: 8703 | E34: 18 | F34: 17 | G34: 18 | I34: 18 | K34: nvt | L34: 19 | N34: ja | O34: ja | P34: ja | Q34: ja
B35: Dal Voordeel Limburg (senior) | C35: 8700 | D35: 8704 | E35: 18 | F35: 17 | G35: 18 | I35: 18 | K35: nvt | L35: 19 | N35: ja | O35: ja | P35: ja | Q35: ja
B36: Sterabonnement Limburg Jaar (vol tarief) 1-ster* | C36: 8710 | E36: 487.4466 | F36: 515.47 | G36: 526.97 | I36: 531.77 | K36: 543.03872 | L36: 582.35472 | N36: ja | O36: ja | P36: ja | Q36: ja
B37: Sterabonnement Limburg Jaar (vol tarief) 2-ster* | C37: 8710 | E37: 799.9383 | F37: 845.93 | G37: 864.8 | I37: 872.67 | K37: 891.16935 | L37: 955.69001 | N37: ja | O37: ja | P37: ja | Q37: ja
B38: Sterabonnement Limburg Jaar (vol tarief) 3-ster* | C38: 8710 | E38: 1189.2888 | F38: 1257.67 | G38: 1285.72 | I38: 1297.42 | K38: 1324.9243 | L38: 1420.8489 | N38: ja | O38: ja | P38: ja | Q38: ja
B39: Sterabonnement Limburg Jaar (vol tarief) 4-ster* | C39: 8710 | E39: 1582.6845 | F39: 1673.69 | G39: 1711.01 | I39: 1726.58 | K39: 1763.1859 | L39: 1890.8405 | N39: ja | O39: ja | P39: ja | Q39: ja
B40: Sterabonnement Limburg Jaar (vol tarief) 5-ster* | C40: 8710 | E40: 1972.035 | F40: 2085.43 | G40: 2131.93 | I40: 2151.33 | K40: 2196.9409 | L40: 2355.9994 | N40: ja | O40: ja | P40: ja | Q40: ja
B41: Sterabonnement Limburg Jaar (vol tarief) 6-ster* | C41: 8710 | E41: 2362.3968 | F41: 2498.23 | G41: 2553.95 | I41: 2577.19 | K41: 2631.8225 | L41: 2822.3664 | N41: ja | O41: ja | P41: ja | Q41: ja
...

Sheet O-VD
B2: Regionale tarieven Vechtdal
B3: Productnaam | C3: Productnr | D3: Contract Tariff Id | E3: 2018 | F3: 2019 | G3: 2020 | H3: 2021 | I3: 2022 | J3: 2023 | K3: DEF | L3: Acceptatie OVC | M3: Verkoop POS/quarto | N3: Verkoop Backoffice | O3: Verkoop Webshop
B4: Kilometertarief OV-chipkaart
B5: KM-tarief trein (2e klas) | C5: nvt | D5: nvt | E5: 0.174 | F5: 0.184 | G5: 0.188 | H5: 0.19 | I5: 0.194 | J5: 0.208 | L5: ja | M5: nee | N5: nee | O5: nee
B6: KM-tarief trein (1e klas) | C6: nvt | D6: nvt | E6: 0.297 | F6: 0.315 | G6: 0.322 | H6: 0.325 | I6: 0.331 | J6: 0.355 | L6: ja | M6: nee | N6: nee | O6: nee
B7: ROR 1e klas | C7: nvt | D7: nvt | J7: =J5*1.6 -> 0.3328
B8: Reisproducten OV-chipkaart maand (doorlopend)
B9: Altijd Voordeel Oost Bus & Trein (4-11) | C9: 7240 | D9: 7241 | E9: 25 | F9: 26 | G9: 27 | H9: 27 | I9: 28 | J9: 30 | L9: ja | M9: ja | N9: ja | O9: ja
B10: Altijd Voordeel Oost Bus & Trein (12-18) | C10: 7240 | D10: 7242 | E10: 25 | F10: 26 | G10: 27 | H10: 27 | I10: 28 | J10: 30 | L10: ja | M10: ja | N10: ja | O10: ja
B11: Altijd Voordeel Oost Bus & Trein (19-64) | C11: 7240 | D11: 7243 | E11: 25 | F11: 26 | G11: 27 | H11: 27 | I11: 28 | J11: 30 | L11: ja | M11: ja | N11: ja | O11: ja
B12: Altijd Voordeel Oost Bus & Trein (65+) | C12: 7240 | D12: 7244 | E12: 25 | F12: 26 | G12: 27 | H12: 27 | I12: 28 | J12: 30 | L12: ja | M12: ja | N12: ja | O12: ja
B13: Dal Vrij Oost Bus & Trein (4-11) | C13: 7260 | D13: 7261 | E13: 75 | F13: 79 | G13: 81 | H13: 81 | I13: 83 | J13: 89 | L13: ja | M13: ja | N13: ja | O13: ja
B14: Dal Vrij Oost Bus & Trein (12-18) | C14: 7260 | D14: 7262 | E14: 75 | F14: 79 | G14: 81 | H14: 81 | I14: 83 | J14: 89 | L14: ja | M14: ja | N14: ja | O14: ja
B15: Dal Vrij Oost Bus & Trein (19-64) | C15: 7260 | D15: 7263 | E15: 75 | F15: 79 | G15: 81 | H15: 81 | I15: 83 | J15: 89 | L15: ja | M15: ja | N15: ja | O15: ja
B16: Dal Vrij Oost Bus & Trein (65+) | C16: 7260 | D16: 7264 | E16: 75 | F16: 79 | G16: 81 | H16: 81 | I16: 83 | J16: 89 | L16: ja | M16: ja | N16: ja | O16: ja
B17: Reisproducten OV-chipkaart jaar of onbepaalde tijd
B18: Altijd Voordeel Oost Bus & Trein (4-11) | C18: 7245 | D18: 7246 | E18: 250 | F18: 260 | G18: 270 | H18: 270 | I18: 280 | J18: 300 | L18: ja | M18: ja | N18: ja | O18: ja
B19: Altijd Voordeel Oost Bus & Trein (12-18) | C19: 7245 | D19: 7247 | E19: 250 | F19: 260 | G19: 270 | H19: 270 | I19: 280 | J19: 300 | L19: ja | M19: ja | N19: ja | O19: ja
B20: Altijd Voordeel Oost Bus & Trein (19-64) | C20: 7245 | D20: 7248 | E20: 250 | F20: 260 | G20: 270 | H20: 270 | I20: 280 | J20: 300 | L20: ja | M20: ja | N20: ja | O20: ja
B21: Altijd Voordeel Oost Bus & Trein (65+) | C21: 7245 | D21: 7249 | E21: 250 | F21: 260 | G21: 270 | H21: 270 | I21: 280 | J21: 300 | L21: ja | M21: ja | N21: ja | O21: ja
B22: Dal Voordeel Oost Bus & Trein (4-11) | C22: 7225 | D22: 7226 | E22: 20 | F22: 21 | G22: 22 | H22: 22 | I22: 22 | J22: 24 | L22: ja | M22: ja | N22: ja | O22: ja
B23: Dal Voordeel Oost Bus & Trein (12-18) | C23: 7225 | D23: 7227 | E23: 20 | F23: 21 | G23: 22 | H23: 22 | I23: 22 | J23: 24 | L23: ja | M23: ja | N23: ja | O23: ja
B24: Dal Voordeel Oost Bus & Trein (19-64) | C24: 7225 | D24: 7228 | E24: 20 | F24: 21 | G24: 22 | H24: 22 | I24: 22 | J24: 24 | L24: ja | M24: ja | N24: ja | O24: ja
B25: Dal Voordeel Oost Bus & Trein (65+) | C25: 7225 | D25: 7229 | E25: 20 | F25: 21 | G25: 22 | H25: 22 | I25: 22 | J25: 24 | L25: ja | M25: ja | N25: ja | O25: ja
B26: Dal Vrij Oost Bus & Trein (4-11) | C26: 7265 | D26: 7266 | E26: 750 | F26: 790 | G26: 810 | H26: 810 | I26: 830 | J26: 890 | L26: ja | M26: ja | N26: ja | O26: ja
B27: Dal Vrij Oost Bus & Trein (12-18) | C27: 7265 | D27: 7267 | E27: 750 | F27: 790 | G27: 810 | H27: 810 | I27: 830 | J27: 890 | L27: ja | M27: ja | N27: ja | O27: ja
B28: Dal Vrij Oost Bus & Trein (19-64) | C28: 7265 | D28: 7268 | E28: 750 | F28: 790 | G28: 810 | H28: 810 | I28: 830 | J28: 890 | L28: ja | M28: ja | N28: ja | O28: ja
B29: Dal Vrij Oost Bus & Trein (65+) | C29: 7265 | D29: 7269 | E29: 750 | F29: 790 | G29: 810 | H29: 810 | I29: 830 | J29: 890 | L29: ja | M29: ja | N29: ja | O29: ja
... B33: Weekend Vrij Oost Bus & Trein (65+) | C33: 7275 | D33: 7279 | E33: 200 | F33: 212 | G33: 216 | H33: 216 | I33: 221 | J33: 237 | L33: ja | M33: ja | N33: ja | O33: ja
B34: Wagenverkoopassortiment
B35: Voorverkoopassortiment
B36: Regio abonnementen (Interoperabel)

Sheet O-GLD
B2: Regionale tarieven Gelderland | T2: Voorwaarden
B3: Productnaam | C3: Productnr | D3: Contract Tariff Id | E3: 2018 | F3: 43466 | G3: 43647 | H3: 43831 | I3: 44013 | J3: 44197 | K3: 2022 | L3: 2023 | M3: DEF | N3: Acceptatie OVC | O3: Verkoop POS/Quarto | P3: Verkoop Backoffice | Q3: Verkoop Webshop | T3: Geldigheid (dal/spits) | U3: Modaliteit (trein/(buurtbus)/HOV) | V3: Leeftijd (65+/kind/etc) | W3: Gebied (landelijk/1 regio of meer) | X3: Uitzonderingen
B4: Kilometertarief OV-chipkaart
B5: KM-tarief bus | C5: nvt | D5: nvt | E5: 0.163 | F5: 0.172 | G5: 0.171 | H5: 0.175 | I5: 0.174 | J5: 0.175 | K5: 0.179 | L5: 0.192 | N5: ja | O5: nee | P5: nee | Q5: nee | T5: KM tarief wijzigd per 01-07-2019 naar 0,171
B6: KM-tarief trein (2e klas) | C6: nvt | D6: nvt | E6: 0.192 | F6: 0.204 | G6: 0.204 | H6: 0.209 | I6: 0.207 | J6: 0.209 | K6: 0.213 | L6: 0.228 | N6: ja | O6: nee | P6: nee | Q6: nee
B7: KM-tarief trein (1e klas) | C7: nvt | D7: nvt | E7: 0.326 | F7: 0.346 | G7: 0.346 | H7: 0.355 | I7: 0.35216 | J7: 0.355 | K7: 0.363 | L7: 0.388 | N7: ja | O7: nee | P7: nee | Q7: nee
B8: Flatfare Vlinder | C8: nvt | D8: nvt | E8: 1.5 | F8: 1.5 | G8: 1.5 | H8: 1.5 | I8: 1.5 | J8: 1.5 | K8: 2.45 | L8: 2.6 | N8: ja | O8: nee | P8: nee | Q8: nee
B9: Flatfare bus 440 | C9: nvt | D9: nvt | L9: 2.6 | N9: ja | O9: nee | P9: nee | Q9: nee
B10: Flatfare bus 450 | C10: nvt | D10: nvt | L10: 2.6 | N10: ja | O10: nee | P10: nee | Q10: nee
B11: Flatfare bus 458 | C11: nvt | D11: nvt | L11: 2.6 | N11: ja | O11: nee | P11: nee | Q11: nee
B12: Lijn 27/29 SAN-deel (Breng/Hermes) | C12: nvt | D12: nvt | L12: 0.186 | N12: ja | O12: nee | P12: nee | Q12: nee
B13: Lijn 53, 73 en 74 Twente-deel | C13: nvt | D13: nvt | L13: 0.223 | N13: ja | O13: nee | P13: nee | Q13: nee
B14: Lijn 85 SAN tarief | C14: nvt | D14: nvt | L14: 0.186 | N14: ja | O14: nee | P14: nee | Q14: nee
B15: Reisproducten OV-chipkaart maand (doorlopend)
B16: Altijd Korting Scholier (40%)* | C16: 8103 | D16: 8103 | E16: nvt | F16: nvt | N16: ja | O16: nee | P16: nee | Q16: nee
B17: Altijd Voordeel Oost Bus (4-11) | C17: 7230 | D17: 7231 | E17: 15 | F17: 16 | H17: 16 | I17: 16 | J17: 16 | K17: 17 | L17: 18 | N17: ja | O17: ja | P17: ja | Q17: ja
B18: Altijd Voordeel Oost Bus (12-18) | C18: 7230 | D18: 7232 | E18: 15 | F18: 16 | H18: 16 | I18: 16 | J18: 16 | K18: 17 | L18: 18 | N18: ja | O18: ja | P18: ja | Q18: ja
B19: Altijd Voordeel Oost Bus (19-64) | C19: 7230 | D19: 7233 | E19: 15 | F19: 16 | H19: 16 | I19: 16 | J19: 16 | K19: 17 | L19: 18 | N19: ja | O19: ja | P19: ja | Q19: ja
B20: Altijd Voordeel Oost Bus (65+) | C20: 7230 | D20: 7234 | E20: 15 | F20: 16 | H20: 16 | I20: 16 | J20: 16 | K20: 17 | L20: 18 | N20: ja | O20: ja | P20: ja | Q20: ja
B21: Altijd Voordeel Oost Bus & Trein (4-11) | C21: 7240 | D21: 7241 | E21: 25 | F21: 26 | H21: 27 | I21: 27 | J21: 27 | K21: 28 | L21: 30 | N21: ja | O21: ja | P21: ja | Q21: ja
B22: Altijd Voordeel Oost Bus & Trein (12-18) | C22: 7240 | D22: 7242 | E22: 25 | F22: 26 | H22: 27 | I22: 27 | J22: 27 | K22: 28 | L22: 30 | N22: ja | O22: ja | P22: ja | Q22: ja
B23: Altijd Voordeel Oost Bus & Trein (19-64) | C23: 7240 | D23: 7243 | E23: 25 | F23: 26 | H23: 27 | I23: 27 | J23: 27 | K23: 28 | L23: 30 | N23: ja | O23: ja | P23: ja | Q23: ja
B24: Altijd Voordeel Oost Bus & Trein (65+) | C24: 7240 | D24: 7244 | E24: 25 | F24: 26 | H24: 27 | I24: 27 | J24: 27 | K24: 28 | L24: 30 | N24: ja | O24: ja | P24: ja | Q24: ja
B25: Altijd Vrij Gelderland Bus (anoniem) | C25: 2870 | D25: 2870 | E25: 133.5 | F25: 131.72 | G25: 129.54 | H25: 129.54 | I25: 126.49 | J25: 126.49 | K25: 129.17 | L25: 138.24 | N25: ja | O25: ja | P25: ja | Q25: ja
B26: Altijd Vrij Gelderland Bus (4-11) | C26: 2870 | D26: 2871 | E26: 112.5 | F26: 117.32 | G26: 122.14 | H26: 122.14 | I26: 126.49 | J26: 126.49 | K26: 129.17 | L26: 138.24 | N26: ja | O26: ja | P26: ja | Q26: ja
B27: Altijd Vrij Gelderland Bus (12-18) | C27: 2870 | D27: 2872 | E27: 112.5 | F27: 117.32 | G27: 122.14 | H27: 122.14 | I27: 126.49 | J27: 126.49 | K27: 129.17 | L27: 138.24 | N27: ja | O27: ja | P27: ja | Q27: ja
B28: Altijd Vrij Gelderland Bus (19-64) | C28: 2870 | D28: 2873 | E28: 133.5 | F28: 131.72 | G28: 129.54 | H28: 129.54 | I28: 126.49 | J28: 126.49 | K28: 129.17 | L28: 138.24 | N28: ja | O28: ja | P28: ja | Q28: ja
B29: Altijd Vrij Gelderland Bus (65+) | C29: 2870 | D29: 2874 | E29: 133.5 | F29: 131.72 | G29: 129.54 | H29: 129.54 | I29: 126.49 | J29: 126.49 | K29: 129.17 | L29: 138.24 | N29: ja | O29: ja | P29: ja | Q29: ja
B30: Altijd Vrij Gelderland Trein+Bus (anoniem) | C30: 2450 | D30: 2450 | E30: 170 | F30: 164.66 | G30: 158.63 | H30: 158.63 | I30: 151.35 | J30: 151.35 | K30: 154.56 | L30: 165.41 | N30: ja | O30: ja | P30: ja | Q30: ja
B31: Altijd Vrij Gelderland Trein+Bus (4-11) | C31: 2450 | D31: 2451 | E31: 131.75 | F31: 138.41 | G31: 145.14 | H31: 145.14 | I31: 151.35 | J31: 151.35 | K31: 154.56 | L31: 165.41 | N31: ja | O31: ja | P31: ja | Q31: ja
B32: Altijd Vrij Gelderland Trein+Bus (12-18) | C32: 2450 | D32: 2452 | E32: 131.75 | F32: 138.41 | G32: 145.14 | H32: 145.14 | I32: 151.35 | J32: 151.35 | K32: 154.56 | L32: 165.41 | N32: ja | O32: ja | P32: ja | Q32: ja
B33: Altijd Vrij Gelderland Trein+Bus (19-64) | C33: 2450 | D33: 2453 | E33: 170 | F33: 164.66 | G33: 158.63 | H33: 158.63 | I33: 151.35 | J33: 151.35 | K33: 154.56 | L33: 165.41 | N33: ja | O33: ja | P33: ja | Q33: ja
B34: Altijd Vrij Gelderland Trein+Bus (65+) | C34: 2450 | D34: 2454 | E34: 170 | F34: 164.66 | G34: 158.63 | H34: 158.63 | I34: 151.35 | J34: 151.35 | K34: 154.56 | L34: 165.41 | N34: ja | O34: ja | P34: ja | Q34: ja
B35: 10 Dagen Vrij Arriva Gelderland Bus (anoniem) | C35: 8445 | D35: 8447 | K35: 71.04 | L35: =K35*1.0724 -> 76.183296 | N35: ja | O35: ja | P35: ja | Q35: ja
B36: Dal Vrij Oost Bus (4-11) | C36: 7250 | D36: 7251 | E36: 50 | F36: 53 | H36: 54 | I36: 54 | J36: 54 | K36: 55 | L36: 59 | N36: ja | O36: ja | P36: ja | Q36: ja
B37: Dal Vrij Oost Bus (12-18) | C37: 7250 | D37: 7252 | E37: 50 | F37: 53 | H37: 54 | I37: 54 | J37: 54 | K37: 55 | L37: 59 | N37: ja | O37: ja | P37: ja | Q37: ja
B38: Dal Vrij Oost Bus (19-64) | C38: 7250 | D38: 7253 | E38: 50 | F38: 53 | H38: 54 | I38: 54 | J38: 54 | K38: 55 | L38: 59 | N38: ja | O38: ja | P38: ja | Q38: ja
B39: Dal Vrij Oost Bus (65+) | C39: 7250 | D39: 7254 | E39: 50 | F39: 53 | H39: 54 | I39: 54 | J39: 54 | K39: 55 | L39: 59 | N39: ja | O39: ja | P39: ja | Q39: ja
B40: Dal Vrij Oost Bus & Trein (4-11) | C40: 7260 | D40: 7261 | E40: 75 | F40: 79 | H40: 81 | I40: 81 | J40: 81 | K40: 83 | L40: 89 | N40: ja | O40: ja | P40: ja | Q40: ja
B41: Dal Vrij Oost Bus & Trein (12-18) | C41: 7260 | D41: 7262 | E41: 75 | F41: 79 | H41: 81 | I41: 81 | J41: 81 | K41: 83 | L41: 89 | N41: ja | O41: ja | P41: ja | Q41: ja
...

Sheet W-ZHN
B2: Indexatie waar we hieronder van uitgaan is (over onafgeronde bedragen): | C2: 0.0724
B3: Nog te bepalen Is geel gemarkeerd of bij Chipoffice bekend
B7: Regionale tarieven 2023 Zuid-Holland Noord | M7: X= per 1 januari 2017 niet meer in de webshop verkrijgbaar maar via aanvraagformulier op arriva.nl/regioabonnement | O7: Voorwaarden
B8: Productnaam | C8: Productnr | D8: Contract Tariff Id | E8: 2022 Vaststelling (afgerond) | F8: 2022 Toegepast (afgerond) | G8: 2023 aanvraag (afgerond) | H8: 2023 Toegepast (afgerond) | I8: Acceptatie OVC | J8: Verkoop POS/quarto | K8: Verkoop Backoffice | L8: Verkoop Webshop | M8: assist productie | O8: Geldigheid (dal/spits) | P8: Modaliteit (trein/(buurtbus)/HOV) | Q8: Leeftijd (65+/kind/etc) | R8: Gebied (landelijk/1 regio of meer) | S8: Uitzonderingen
B9: Kilometertarief OV-chipkaart | C9: Productnr | D9: Contract Tariff Id | E9: 2022 Vaststelling | F9: 2022 Toegepast | G9: 2023 Aanvraag | H9: 2023 Toegepast
B10: Kilometertarief ZHN Buurtbussen | C10: nvt | D10: nvt | E10: 0.113 | F10: 0.113 | G10: 0.121 | H10: 0.121 | I10: ja | J10: nee | K10: nee | L10: nee
B11: Kilometertarief ZHN streek/stad/Vlinder | C11: nvt | D11: nvt | E11: 0.145 | F11: 0.145 | G11: 0.156 | H11: 0.156 | I11: ja | J11: nee | K11: nee | L11: nee
B12: Kilometertarief lijn 295 (trajectdeel Rotterdam - Schoonhoven Lopikerplein - Arriva) | C12: nvt | D12: nvt | E12: 0.145 | F12: 0.145 | G12: 0.156 | H12: 0.156 | I12: ja | J12: nee | K12: nee | L12: nee
B13: Kilometertarief lijn 295 (trajectdeel Utrecht - Schoonhoven Lopikerplein- Keolis) | C13: nvt | D13: nvt | E13: 0.175 | F13: 0.175 | G13: 0.187 | H13: tbd (0,187 aangevraagd) | I13: ja | J13: nee | K13: nee | L13: nee
B14: Kilometertarief ZHN HOV (Qiliners en Rnet. LET OP: 430, 431 en 432 moet wel streektarief zijn) | C14: nvt | D14: nvt | E14: 0.186 | F14: 0.186 | G14: 0.2 | H14: 0.2 | I14: ja | J14: nee | K14: nee | L14: nee
B15: Keukenhof flatfare 852 | C15: nvt | D15: nvt | E15: 8 | F15: 8 | G15: 8.6 | H15: 8.6 | I15: ja | J15: nee | K15: nee | L15: nee | O15: Alleen geldig op lijn 852
B16: Keukenhof flatfare 854 | C16: nvt | D16: nvt | E16: 4.7 | F16: 4.7 | G16: 5 | H16: 5 | I16: ja | J16: nee | K16: nee | L16: nee | O16: Alleen geldig op lijn 854
B17: Keukenhof flatfare 858 | C17: nvt | D17: nvt | E17: 5.2 | F17: 5.2 | G17: 5.6 | H17: 5.6 | I17: ja | J17: nee | K17: nee | L17: nee | O17: Alleen geldig op lijn 858
B18: Reisproducten OV-chipkaart maand (doorlopend) | C18: Productnr | D18: Contract Tariff Id | E18: 2022 Vaststelling | F18: 2022 Toegepast | G18: 2023 Aanvraag | H18: 2023 Toegepast | O18: Reisproducten OV-chipkaart maand (doorlopend)
B19: Arriva Altijd Korting Scholier (55%) | C19: 1065 | D19: 1066 | E19: 26.6 | F19: 26.6 | G19: 31 | H19: 31 | I19: ja | J19: nee | K19: ja | L19: Niet zichtbaar | M19: x | O19: Tijdens de daluren van maandag t/m vrijdag van 9.00 - 16.00 uur en tussen 18.30 en 06.30 uur en in het weekend en op nationale feestdagen de hele dag. | P19: BQR | Q19: 12 t/m 18 jaar | R19: meer | S19: Niet geldig in de Nachtbus, buurtbus, Waterbus, Belbus, OV-taxi, lijn 45 (Den Haag – Leiden) en de buslijnen 195/295 die door Syntus gereden worden
B20: Arriva Dal Vrij RBMH (streekbus) maand (kind) | C20: 2400 | D20: 2401 | E20: 77 | F20: 77 | G20: 91 | H20: 91 | I20: ja | J20: nee | K20: ja | L20: Niet zichtbaar | M20: x | O20: Geldig tijdens de daluren op maandag t/m vrijdag van 9.00 - 16.00 uur en tussen 18.30 en 06.30 uur en in het weekend en op nationale feestdagen de hele dag | P20: B | Q20: n.v.t. | R20: regio | S20: Niet geldig in Qliners, R-net, de Nachtbus, buurtbus, Belbus, OV-taxi, lijn 45 (Den Haag-Leiden ) en 195/295 (Rotterdam-Utrecht) die door Syntus gereden worden
B21: Arriva Dal Vrij RBMH (streekbus) maand (tiener) | C21: 2400 | D21: 2402 | E21: 77 | F21: 77 | G21: 91 | H21: 91 | I21: ja | J21: nee | K21: ja | L21: Niet zichtbaar | M21: x | O21: Geldig tijdens de daluren op maandag t/m vrijdag van 9.00 - 16.00 uur en tussen 18.30 en 06.30 uur en in het weekend en op nationale feestdagen de hele dag | P21: B | Q21: 12 t/m 18 jaar | R21: regio | S21: Niet geldig in Qliners, R-net, de Nachtbus, buurtbus, Belbus, OV-taxi, lijn 45 (Den Haag-Leiden ) en 195/295 (Rotterdam-Utrecht) die door Syntus gereden worden
B22: Arriva Dal Vrij RBMH (streekbus) maand (volwassene) | C22: 2400 | D22: 2403 | E22: 77 | F22: 77 | G22: 91 | H22: 91 | I22: ja | J22: nee | K22: ja | L22: Niet zichtbaar | M22: x | O22: Geldig tijdens de daluren op maandag t/m vrijdag van 9.00 - 16.00 uur en tussen 18.30 en 06.30 uur en in het weekend en op nationale feestdagen de hele dag | P22: B | Q22: 19 tm 64 jaar | R22: regio | S22: Niet geldig in Qliners, R-net, de Nachtbus, buurtbus, Belbus, OV-taxi, lijn 45 (Den Haag-Leiden ) en 195/295 (Rotterdam-Utrecht) die door Syntus gereden worden
B23: Arriva Dal Vrij RBMH (streekbus) maand (senior) | C23: 2400 | D23: 2404 | E23: 77 | F23: 77 | G23: 91 | H23: 91 | I23: ja | J23: nee | K23: ja | L23: Niet zichtbaar | M23: x | O23: Geldig tijdens de daluren op maandag t/m vrijdag van 9.00 - 16.00 uur en tussen 18.30 en 06.30 uur en in het weekend en op nationale feestdagen de hele dag | P23: B | Q23: 65+ | R23: regio | S23: Niet geldig in Qliners, R-net, de Nachtbus, buurtbus, Belbus, OV-taxi, lijn 45 (Den Haag-Leiden ) en 195/295 (Rotterdam-Utrecht) die door Syntus gereden worden
B24: Arriva Dal Vrij RBMH (ook Qliner) maand (kind) | C24: 2590 | D24: 2591 | E24: 91.3 | F24: 91.3 | G24: 108 | H24: 108 | I24: ja | J24: nee | K24: ja | L24: Niet zichtbaar | M24: x | O24: Geldig tijdens de daluren op maandag t/m vrijdag van 9.00 - 16.00 uur en tussen 18.30 en 06.30 uur en in het weekend en op nationale feestdagen de hele dag | P24: BQR | Q24: n.v.t. | R24: regio | S24: Niet geldig in Qliners, R-net, de Nachtbus, buurtbus, Belbus, OV-taxi, lijn 45 (Den Haag-Leiden ) en 195/295 (Rotterdam-Utrecht) die door Syntus gereden worden
