Workbook
Name BESTAND: '[1]Opbr N-1'!#REF!
Name BESTAND: '[1]Opbr N-1'!#REF!
Name d: '[1]Opbr N-1'!#REF!
Name d: '[1]Opbr N-1'!#REF!
Name EURO: '[1]Opbr N-1'!#REF!
Name EURO: '[1]Opbr N-1'!#REF!

Sheet Aanbevolen Inhoud
A1: Soort | B1: Productnaam | C1: Productnr | D1: Contract Tariff Id | E1: 2024 | F1: DEF | G1: Acceptatie OVC | H1: Verkoop Servicebalie OVC | I1: Verkoop Servicebalie Overig | J1: DC Light | K1: DC 800 | L1: Verkoop Backoffice | M1: Verkoop Webshop
H2: Gewijzigde kolomnaam | I2: Nieuwe Kolom | J2: Nieuwe Kolom | K2: Nieuwe Kolom | L2: ZZ-LB: Assist -> Backoffice
A3: OV-Chipkaart tarieven | B3: Altijd invullen | C3: Nvt | D3: Nvt | E3: Altijd invullen | F3: Optioneel | G3: Ja | H3: Nvt | I3: Nvt | J3: Nvt | K3: Nvt | L3: Nvt | M3: Nvt
A4: OV-Chipkaart producten | B4: Altijd invullen | C4: Altijd Invullen | D4: Altijd Invullen | E4: Altijd invullen | F4: Optioneel | G4: Ja | H4: Ja of Nee | I4: Nvt | J4: Nvt | K4: Nvt | L4: Ja of Nee | M4: Ja of Nee
A5: CT-producten | B5: Altijd invullen | C5: Altijd Invullen | D5: Nvt | E5: Altijd invullen | F5: Optioneel | G5: Ja | H5: Nvt | I5: Ja of Nee | J5: Nvt | K5: Nvt | L5: Nvt | M5: Nvt
A6: Papieren kaartjes | B6: Altijd invullen | C6: Altijd Invullen | D6: Nvt | E6: Altijd invullen | F6: Optioneel | G6: Nvt | H6: Nvt | I6: Ja of Nee | J6: Ja of Nee | K6: Ja of Nee | L6: Nvt | M6: Nvt
A7: e-tickets | B7: Altijd invullen | C7: Nvt | D7: Nvt | E7: Altijd invullen | F7: Optioneel | G7: Nvt | H7: Nvt | I7: Ja of Nee | J7: Nvt | K7: Nvt | L7: Ja of Nee | M7: Ja of Nee

Sheet LOG
D2: d.d. 14-12-2023
B4: datum: | C4: concessie: | D4: wijziging:
B5: 45127 | C5: Oost | D5: TO DO: nieuwe producten Twente moeten toegevoegd worden. Mail naar Peter Fokkema gestuurd met, Maja/Remco in cc voor vullen sheet als basis om producten ingeregeld te krijgen
B6: 45250 | C6: all | D6: 0.4 Noord en Oost toegevoegd. Vastrecht NS document moet ik nog ontvangen. Prijzen zijn gelijk.
B7: 45253 | C7: Limburg / NS | D7: 0.5 Limburg correct + update Oost + vastrecht NS
B8: 45268 | C8: Oost | D8: 0.9 Aanpassing Twente + tariff ID netabonnementen
B9: 45274 | C9: Oost / Noord | D9: 1.0 Aanpassing Altijd Vrij RRReis maand en jaarprijzen voor 2023 en toevoeging Noord verkoopkanaal

Sheet 01 Vastrechten
A1: 01 | B1: Vastrechten & losse vervoersbewijzen
A3: Eret | B3: =0 -> 0
A4: Altijd Vrij/Traject Vrij | B4: =0 -> 0
A5: CPI | B5: ='[2]A Versie'!C14 -> 0.038
A6: Tariefruimte | B6: ='[2]A Versie'!C9 -> 0
A8: Consumenten portfolio
A9: Abonnementen
A10: Contract Tariff | B10: VAR-code / kl / red | E10: Productnaam | F10: Tarief | G10: Klasse | I10: P-2023 | J10: P-2024 | K10: Delta | L10: Opmerkingen
A11: 212 | B11: 5066 2 0000 | E11: Weekend Vrij | F11: Vol | G11: 2e | I11: 38.35 | J11: =J36 -> 38.35 | K11: =IF(J11<>0,(J11-I11)/I11,0) -> 0
A12: 211 | B12: 5066 1 0000 | E12: Weekend Vrij | F12: Vol | G12: 1e | I12: 47.35 | J12: =J37 -> 47.35 | K12: =IF(J12<>0,(J12-I12)/I12,0) -> 0
A13: 212 | B13: 5066 2 6500 & 5082 2 0000 | E13: Weekend Vrij | F13: Red | G13: 2e | I13: 28.35 | J13: =24.95+J51 -> 28.35 | K13: =IF(J13<>0,(J13-I13)/I13,0) -> 0
A14: 211 | B14: 5066 1 6500 & 5082 1 0000 | E14: Weekend Vrij | F14: Red | G14: 1e | I14: 36.35 | J14: =32.95+J51 -> 36.35 | K14: =IF(J14<>0,(J14-I14)/I14,0) -> 0
A15: 214 | B15: 5065 2 0000 | E15: Dal Vrij | F15: Vol | G15: 2e | I15: 119.95 | J15: =J39 -> 119.95 | K15: =IF(J15<>0,(J15-I15)/I15,0) -> 0
A16: 213 | B16: 5065 1 0000 | E16: Dal Vrij | F16: Vol | G16: 1e | I16: 159.95 | J16: =J40 -> 159.95 | K16: =IF(J16<>0,(J16-I16)/I16,0) -> 0
A17: 214 | B17: 5065 2 6500 & 5081 2 0000 | E17: Dal Vrij | F17: Red | G17: 2e | I17: 54.95 | J17: =I17 -> 54.95 | K17: =IF(J17<>0,(J17-I17)/I17,0) -> 0
A18: 213 | B18: 5065 1 6500 & 5081 1 0000 | E18: Dal Vrij | F18: Red | G18: 1e | I18: 87.95 | J18: =I18 -> 87.95 | K18: =IF(J18<>0,(J18-I18)/I18,0) -> 0
A19: 215 & 216 1 / 2 | B19: 5067 1 / 2 | E19: Altijd Voordeel | F19: nvt | I19: 26.7 | J19: =J41 -> 26.7 | K19: =IF(J19<>0,(J19-I19)/I19,0) -> 0
A20: 30 | B20: 5078 0 0000 | E20: Kids Vrij | F20: Vol | I20: 0 | J20: 0 | K20: =IF(J20<>0,(J20-I20)/I20,0) -> 0
A21: 220 | B21: 5069 2 0000 | E21: Altijd Vrij | F21: Vol | G21: 2e | I21: 353.8 | J21: =J42 -> 353.8 | K21: =IF(J21<>0,(J21-I21)/I21,0) -> 0
A22: 219 | B22: 5069 1 0000 | E22: Altijd Vrij | F22: Vol | G22: 1e | I22: 601.5 | J22: =J43 -> 601.5 | K22: =IF(J22<>0,(J22-I22)/I22,0) -> 0
A23: 55 | B23: 5329 2 0000 | E23: Maandkaart Altijd Vrij 1 maand | F23: Vol | G23: 2e | I23: 424.6 | J23: ='[2]03 Traject Vrij'!F16 -> 424.6 | K23: =IF(J23<>0,(J23-I23)/I23,0) -> 0 | L23: Prepaid kaart, geen abonnement. Te koop sinds april 2021
A24: 56 | B24: 5330 2 0000 | E24: Maandkaart Altijd Vrij 3 maanden | F24: Vol | G24: 2e | I24: 1061.4 | J24: =J21*3 -> 1061.4 | K24: =IF(J24<>0,(J24-I24)/I24,0) -> 0 | L24: Prepaid kaart, geen abonnement. Te koop sinds april 2021
A25: 55 | B25: 5329 1 0000 | E25: Maandkaart Altijd Vrij 1 maand | F25: Vol | G25: 1e | I25: 721.8 | J25: ='[2]03 Traject Vrij'!L16 -> 721.8 | K25: =IF(J25<>0,(J25-I25)/I25,0) -> 0 | L25: Prepaid kaart, geen abonnement. Te koop sinds april 2021
A26: 56 | B26: 5330 1 0000 | E26: Maandkaart Altijd Vrij 3 maanden | F26: Vol | G26: 1e | I26: 1804.5 | J26: =3*J22 -> 1804.5 | K26: =IF(J26<>0,(J26-I26)/I26,0) -> 0 | L26: Prepaid kaart, geen abonnement. Te koop sinds april 2021
A27: 209 & 210 1 / 2 | B27: 5064 1 / 2 | E27: Dal Voordeel | F27: nvt | G27: nvt | I27: 67.2 | J27: =12*J38 -> 67.2 | K27: =IF(J27<>0,(J27-I27)/I27,0) -> 0
A28: 91 / 90 | B28: 5134 2 / 5083 2 | E28: Keuzedagen | G28: 2e | I28: 27.5 | J28: =I28 -> 27.5 | K28: =IF(J28<>0,(J28-I28)/I28,0) -> 0
A29: 91 / 90 | B29: 5134 1 / 5083 1 | E29: Keuzedagen | G29: 1e | I29: 53.7 | J29: =I29 -> 53.7 | K29: =IF(J29<>0,(J29-I29)/I29,0) -> 0
E30: Toeslag Keuzedagen op Papier | I30: 11.6 | J30: =ROUND(I30*(1+$B$6),1) -> 11.6 | K30: =IF(J30<>0,(J30-I30)/I30,0) -> 0
E31: NS Flex administratie kosten | I31: 10 | J31: 10 | K31: =IF(J31<>0,(J31-I31)/I31,0) -> 0
E32: NS Flex basis | G32: nvt | I32: 0 | J32: 0 | K32: =IF(J32<>0,(J32-I32)/I32,0) -> 0
E33: NS Flex Weekend Voordeel | G33: nvt | I33: 2.2 | J33: =J50 -> 2.2 | K33: =IF(J33<>0,(J33-I33)/I33,0) -> 0
E34: NS Flex Weekend Vrij zonder dalkorting | G34: 2e | I34: 34.95 | J34: =J53 -> 34.95 | K34: =IF(J34<>0,(J34-I34)/I34,0) -> 0 | L34: Korting 65+ is 10 euro
E35: NS Flex Weekend Vrij zonder dalkorting | G35: 1e | I35: 43.95 | J35: =J53+J56 -> 43.95 | K35: =IF(J35<>0,(J35-I35)/I35,0) -> 0 | L35: Korting 65+ is 11 euro
E36: NS Flex Weekend Vrij met dalkorting | G36: 2e | I36: 38.35 | J36: =J53+J51 -> 38.35 | K36: =IF(J36<>0,(J36-I36)/I36,0) -> 0 | L36: Korting 65+ is 10 euro
E37: NS Flex Weekend Vrij met dalkorting | G37: 1e | I37: 47.35 | J37: =J53+J51+J56 -> 47.35 | K37: =IF(J37<>0,(J37-I37)/I37,0) -> 0 | L37: Korting 65+ is 11 euro
E38: NS Flex Dal Voordeel | G38: nvt | I38: 5.6 | J38: =J50+J51 -> 5.6 | K38: =IF(J38<>0,(J38-I38)/I38,0) -> 0
E39: NS Flex Dal Vrij | G39: 2e | I39: 119.95 | J39: =J53+J54 -> 119.95 | K39: =IF(J39<>0,(J39-I39)/I39,0) -> 0 | L39: Prijs 65+ is 54,95 euro
E40: NS Flex Dal Vrij | G40: 1e | I40: 159.95 | J40: =J53+J54+J56+J57 -> 159.95 | K40: =IF(J40<>0,(J40-I40)/I40,0) -> 0 | L40: Prijs 65+ is 87,95 euro
E41: NS Flex Altijd Voordeel | G41: nvt | I41: 26.7 | J41: =J50+J51+J52 -> 26.7 | K41: =IF(J41<>0,(J41-I41)/I41,0) -> 0
E42: NS Flex Altijd Vrij | G42: 2e | I42: 353.8 | J42: =J53+J54+J55 -> 353.8 | K42: =IF(J42<>0,(J42-I42)/I42,0) -> 0
...

Sheet Arriva Flow
A1: PEname | B1: pricePeriod | C1: fromStationCode | D1: toStationCode | E1: starValue | F1: amount
A2: Arriva Flow 1eKlas | B2: 2021 regulier | F2: 0
A3: Arriva Flow 20% korting tijdens de spits | B3: 2021 regulier | F3: 21.1
A4: Arriva Flow 40% korting buiten de spits | B4: 2021 regulier | F4: 3.4
A5: Arriva Flow 40% korting in het weekend | B5: 2021 regulier | F5: 2.2
A6: Arriva Flow Vrij reizen buiten de spits | B6: 2021 regulier | F6: 85
A7: Arriva Flow Vrij reizen buiten de spits - toeslag 1e klas | B7: 2021 regulier | F7: 31
A8: Arriva Flow Weekend Vrij zonder dalkorting | B8: 2021 regulier | F8: 34.95
A9: Arriva Flow Vrij reizen in het weekend - toeslag 1e klas | B9: 2021 regulier | F9: 9
A10: Arriva Flow Vrij reizen tijdens de spits | B10: 2021 regulier | F10: 233.85
A11: Arriva Flow Vrij reizen tijdens de spits - toeslag 1e klas | B11: 2021 regulier | F11: 207.7

Sheet Landelijk spoor NS
B3: Productnaam | C3: tarief | D3: klasse | E3: Productnr 1 | F3: Productnr 2 | G3: Contract Tariff Id | H3: 2021 | I3: 2022 | J3: 2023 | K3: 2024 | L3: Acceptatie OVC | M3: Verkoop POS/quarto | N3: Verkoop Backoffice | O3: Verkoop Webshop | P3: opmerkingen
B4: Weekend Vrij | C4: Vol | D4: 2e | E4: 5066 2 0000 | G4: 212 | H4: 34 | I4: 34.7 | J4: 38.35 | K4: 38.35 | L4: ja | M4: nee | N4: nee | O4: nee
B5: Weekend Vrij | C5: Vol | D5: 1e | E5: 5066 1 0000 | G5: 211 | H5: 40 | I5: 40.8 | J5: 47.35 | K5: 47.35 | L5: ja | M5: nee | N5: nee | O5: nee
B6: Weekend Vrij (Bijabonnement) | C6: Red | D6: 2e | E6: 5066 2 6500 & 5082 2 0000 | G6: 212 | H6: 24 | I6: 24.4 | J6: 28.35 | K6: 28.35 | L6: ja | M6: nee | N6: nee | O6: nee
B7: Weekend Vrij (Bijabonnement) | C7: Red | D7: 1e | E7: 5066 1 6500 & 5082 1 0000 | G7: 211 | H7: 30 | I7: 30.5 | J7: 36.35 | K7: 36.35 | L7: ja | M7: nee | N7: nee | O7: nee
B8: Dal Vrij | C8: Vol | D8: 2e | E8: 5065 2 0000 | G8: 214 | H8: 106 | I8: 107.9 | J8: 119.95 | K8: 119.95 | L8: ja | M8: nee | N8: nee | O8: nee
B9: Dal Vrij | C9: Vol | D9: 1e | E9: 5065 1 0000 | G9: 213 | H9: 134 | I9: 136.4 | J9: 159.95 | K9: 159.95 | L9: ja | M9: nee | N9: nee | O9: nee
B10: Dal Vrij (Bijabonnement) | C10: Red | D10: 2e | E10: 5065 2 6500 & 5081 2 0000 | G10: 214 | H10: 46 | I10: 46.8 | J10: 54.95 | K10: 54.95 | L10: ja | M10: nee | N10: nee | O10: nee
B11: Dal Vrij (Bijabonnement) | C11: Red | D11: 1e | E11: 5065 1 6500 & 5081 1 0000 | G11: 213 | H11: 72 | I11: 73.3 | J11: 87.95 | K11: 87.95 | L11: ja | M11: nee | N11: nee | O11: nee
B12: BTM vrij particulier (OV-deel bij Dal Vrij) | C12: Vol | D12: nvt | G12: - | H12: 255.29167 | I12: 260.66667 | L12: ja | M12: nee | N12: nee | O12: nee
B13: BTM vrij particulier (OV-deel bij Dal Vrij bijabonnement) | G13: - | H13: 36.4 | I13: 37.2 | L13: ja | M13: nee | N13: nee | O13: nee
B14: Altijd Voordeel | C14: nvt | E14: 5067 1 / 2 | G14: 215 & 216 1 / 2 | H14: 23 | I14: 24.2 | J14: 26.7 | K14: 26.7 | L14: ja | M14: nee | N14: nee | O14: nee
B15: Altijd Voordeel MAAND | C15: nvt | E15: 5077 1 & 5095 2 | G15: 51 & 52 | H15: 28 | I15: 28.5 | J15: x | K15: x | L15: ja | M15: nee | N15: nee | O15: nee
B16: Kids Vrij | C16: Vol | E16: 5078 0 0000 | G16: 30 | H16: 0 | I16: 0 | J16: - | K16: - | L16: ja | M16: nee | N16: nee | O16: nee
B17: Kids Vrij (Bijabonnement) | C17: Red | E17: 5079 0 0000 | G17: 30 | H17: 0 | I17: 0 | J17: - | K17: - | L17: ja | M17: nee | N17: nee | O17: nee
B18: Altijd Vrij | C18: Vol | D18: 2e | E18: 5069 2 0000 | G18: 220 | H18: 356 | I18: 362.4 | J18: 353.8 | K18: 353.8 | L18: ja | M18: nee | N18: nee | O18: nee
B19: Altijd Vrij | C19: Vol | D19: 1e | E19: 5069 1 0000 | G19: 219 | H19: 602 | I19: 612.5 | J19: 601.5 | K19: 601.5 | L19: ja | M19: nee | N19: nee | O19: nee
B20: Maandkaart Altijd Vrij 1 maand | C20: Vol | D20: 2e | E20: 5329 2 0000 | G20: 55 | H20: 427.2 | I20: 434.9 | J20: 424.6 | K20: 424.6 | L20: ja | M20: nee | N20: nee | O20: nee | P20: Prepaid kaart, geen abonnement. Te koop sinds april 2021
B21: Maandkaart Altijd Vrij 3 maanden | C21: Vol | D21: 2e | E21: 5330 2 0000 | G21: 56 | H21: 1068 | I21: 1087.2 | J21: 1061.4 | K21: 1061.4 | L21: ja | M21: nee | N21: nee | O21: nee | P21: Prepaid kaart, geen abonnement. Te koop sinds april 2021
B22: Maandkaart Altijd Vrij 1 maand | C22: Vol | D22: 1e | E22: 5329 1 0000 | G22: 55 | H22: 722.4 | I22: 735 | J22: 721.8 | K22: 721.8 | L22: ja | M22: nee | N22: nee | O22: nee | P22: Prepaid kaart, geen abonnement. Te koop sinds april 2021
B23: Maandkaart Altijd Vrij 3 maanden | C23: Vol | D23: 1e | E23: 5330 1 0000 | G23: 56 | H23: 1806 | I23: 1837.5 | J23: 1804.5 | K23: 1804.5 | L23: ja | M23: nee | N23: nee | O23: nee | P23: Prepaid kaart, geen abonnement. Te koop sinds april 2021
B24: Altijd Vrij (Bijabonnement) | C24: Red | D24: 2e | E24: 5069 2 ZK 16 (= kortingscode in ECC) *) | G24: 220 | H24: 165 | I24: 168 | L24: ja | M24: nee | N24: nee | O24: nee
B25: Altijd Vrij (Bijabonnement) | C25: Red | D25: 1e | E25: 5069 1 ZK 16 (= kortingscode in ECC) *) | G25: 219 | H25: 356 | I25: 362.4 | L25: ja | M25: nee | N25: nee | O25: nee
B26: BTM Vrij (OV-deel bij Altijd Vrij) | C26: Vol | D26: nvt | E26: 5176 | G26: 600 | H26: 60.55 | I26: 61.85 | L26: nee | M26: nee | N26: nee | O26: nee
B27: BTM Vrij (OV-deel bij Altijd Vrij) (Bijabonnement) | C27: Red | D27: nvt | E27: 5176 (met kortingscode in ECC) | G27: 600 | H27: 36.4 | I27: 37.2 | L27: nee | M27: nee | N27: nee | O27: nee
B28: Dal Voordeel | C28: nvt | D28: nvt | E28: 5064 1 / 2 | G28: 209 & 210 1 / 2 | H28: 60 | I28: 61.2 | J28: 67.2 | K28: 67.2 | L28: ja | M28: nee | N28: nee | O28: nee
B29: OV Voordeel MAAND (OV-deel i.c.m. Altijd Voordeel) | C29: nvt | E29: 5125 0 0000 | G29: 610 | H29: 12 | I29: 12 | L29: nee | M29: nee | N29: nee | O29: nee
B30: OV Voordeel JAAR (OV-deel i.c.m. Altijd Voordeel) | C30: nvt | E30: 5126 0 0000 | G30: 601 | H30: 144 | I30: 144 | L30: nee | M30: nee | N30: nee | O30: nee
B31: VDU | C31: nvt | E31: 1042 | G31: nvt | H31: 60 | I31: 61.2 | J31: 67.2 | K31: 67.2 | L31: ja | M31: nee | N31: nee | O31: nee
B32: Keuzedagen | D32: 2e | E32: 5134 2 / 5083 2 | G32: 91 / 90 | H32: 26 | I32: 26.5 | J32: 27.5 | K32: 27.5 | L32: ja | M32: nee | N32: nee | O32: nee
B33: Keuzedagen | D33: 1e | E33: 5134 1 / 5083 1 | G33: 91 / 90 | H33: 51 | I33: 51.9 | J33: 53.7 | K33: 53.7 | L33: ja | M33: nee | N33: nee | O33: nee
B34: Toeslag Keuzedagen op Papier | G34: - | H34: 11 | I34: 11.2 | J34: 11.6 | K34: 11.6 | L34: ja | M34: nee | N34: nee | O34: nee
B35: Totaalprijs VDU +Keuzedagen op CT | D35: 2e | G35: - | H35: 97 | I35: 98.9 | J35: 106.3 | K35: 106.3 | L35: ja | M35: nee | N35: nee | O35: nee
B36: Totaalprijs VDU +Keuzedagen op CT | D36: 1e | G36: - | H36: 122 | I36: 124.3 | J36: 132.5 | K36: 132.5 | L36: ja | M36: nee | N36: nee | O36: nee
B37: NS Flex administratie kosten | G37: - | H37: 10 | I37: 10 | J37: 10 | K37: 10 | L37: nee | M37: nee | N37: nee | O37: nee
B38: NS Flex basis | D38: nvt | G38: 550 | H38: 0 | I38: 0 | J38: - | K38: - | L38: nee | M38: nee | N38: nee | O38: nee
B39: NS Flex Weekend Voordeel | D39: nvt | G39: 550 | H39: 2 | I39: 2 | J39: 2.2 | K39: 2.2 | L39: ja | M39: nee | N39: nee | O39: ja
B40: NS Flex Weekend Vrij zonder dalkorting | D40: 2e | G40: 550 | H40: 31 | I40: 31.6 | J40: 34.95 | K40: 34.95 | L40: ja | M40: nee | N40: nee | O40: ja | P40: Korting 65+ is 10,30 euro
B41: NS Flex Weekend Vrij zonder dalkorting | D41: 1e | G41: 550 | H41: 37 | I41: 37.7 | J41: 43.95 | K41: 43.95 | L41: ja | M41: nee | N41: nee | O41: ja | P41: Korting 65+ is 10,30 euro
B42: NS Flex Weekend Vrij met dalkorting | D42: 2e | G42: 550 | H42: 34 | I42: 34.7 | J42: 38.35 | K42: 38.35 | L42: ja | M42: nee | N42: nee | O42: ja | P42: Korting 65+ is 10,30 euro
...

Sheet LTK
B3: Productnaam | C3: Productnr | D3: Contract Tariff Id | E3: 2018 | F3: 2019 | G3: 2020 | H3: 2021 | I3: 2022 | J3: 2023 | K3: 2024 | L3: Acceptatie OVC | M3: Verkoop POS/quarto | N3: Verkoop Backoffice | O3: Verkoop Webshop
B4: Reisproducten OV-Chipkaart
B5: Opstaptarief (bus en trein)* | C5: nvt | D5: nvt | E5: 0.9 | F5: 0.96 | G5: 0.98 | H5: 0.99 | I5: 1.01 | J5: 1.08 | K5: =J5 -> 1.08 | L5: ja | M5: nee | N5: nee | O5: nee
B6: Opstaptarief met 20% korting | C6: nvt | D6: nvt | E6: 0.72 | F6: 0.77 | G6: 0.78 | H6: 0.79 | I6: 0.81 | J6: =0.8*J5 -> 0.864 | K6: =J6 -> 0.864 | L6: ja | M6: nee | N6: nee | O6: nee
B7: Opstaptarief met 34% korting | C7: nvt | D7: nvt | E7: 0.59 | F7: 0.63 | G7: 0.65 | H7: 0.65 | I7: 0.67 | J7: =0.66*J5 -> 0.7128 | K7: =J7 -> 0.7128 | L7: ja | M7: nee | N7: nee | O7: nee
B8: Opstaptarief met 40% korting | C8: nvt | D8: nvt | E8: 0.54 | F8: 0.58 | G8: 0.59 | H8: 0.59 | I8: 0.61 | J8: =0.6*J5 -> 0.648 | K8: =J8 -> 0.648 | L8: ja | M8: nee | N8: nee | O8: nee
B9: Opstaptarief met 34% + 20% korting | C9: nvt | D9: nvt | E9: 0.48 | F9: 0.51 | G9: 0.52 | H9: 0.52 | I9: 0.53 | J9: =(0.66*J5)*0.8 -> 0.57024 | K9: =J9 -> 0.57024 | L9: ja | M9: nee | N9: nee | O9: nee
B11: Altijd Korting (LTK2) maandabonnement (kind) | C11: 4010 | D11: 4011 | E11: 17.5 | F11: 19 | G11: 19.5 | H11: 19.5 | I11: 20 | J11: 21.55 | K11: =J11 -> 21.55 | L11: ja | M11: ja | N11: ja | O11: ja
B12: Altijd Korting (LTK2) maandabonnement (tiener) | C12: 4010 | D12: 4012 | E12: 17.5 | F12: 19 | G12: 19.5 | H12: 19.5 | I12: 20 | J12: 21.55 | K12: =J12 -> 21.55 | L12: ja | M12: ja | N12: ja | O12: ja
B13: Altijd Korting (LTK2) maandabonnement (volwassene) | C13: 4010 | D13: 4013 | E13: 17.5 | F13: 19 | G13: 19.5 | H13: 19.5 | I13: 20 | J13: 21.55 | K13: =J13 -> 21.55 | L13: ja | M13: ja | N13: ja | O13: ja
B14: Altijd Korting (LTK2) maandabonnement (senior) | C14: 4010 | D14: 4014 | E14: 17.5 | F14: 19 | G14: 19.5 | H14: 19.5 | I14: 20 | J14: 21.55 | K14: =J14 -> 21.55 | L14: ja | M14: ja | N14: ja | O14: ja
B15: Altijd Korting (LTK2) jaarabonnement (kind) | C15: 4000 | D15: 4001 | E15: 175 | F15: 190 | G15: 195 | H15: 195 | I15: =I14*10 -> 200 | J15: 215.5 | K15: =J15 -> 215.5 | L15: ja | M15: ja | N15: ja | O15: ja
B16: Altijd Korting (LTK2) jaarabonnement (tiener) | C16: 4000 | D16: 4002 | E16: 175 | F16: 190 | G16: 195 | H16: 195 | I16: 200 | J16: 215.5 | L16: ja | M16: ja | N16: ja | O16: ja
B17: Altijd Korting (LTK2) jaarabonnement (volwassene) | C17: 4000 | D17: 4003 | E17: 175 | F17: 190 | G17: 195 | H17: 195 | I17: 200 | J17: 215.5 | L17: ja | M17: ja | N17: ja | O17: ja
B18: Altijd Korting (LTK2) jaarabonnement (senior) | C18: 4000 | D18: 4004 | E18: 175 | F18: 190 | G18: 195 | H18: 195 | I18: 200 | J18: 215.5 | L18: ja | M18: ja | N18: ja | O18: ja
B20: OV jaarkaart 1 persoon (BTM deel) | C20: 600 | D20: 600 | E20: 666 | F20: 704.4 | G20: 720 | H20: 726.6 | I20: 742.2 | J20: 796 | K20: =J20 -> 796 | L20: nee | M20: nee | N20: nee | O20: nee
B21: Bij-abonnementen (i.c.m. Dal Vrij en Spoor Vrij) | C21: 7 | D21: 7 | E21: 400.8 | F21: 423.6 | G21: 433.2 | H21: 436.8 | I21: 446.4 | J21: - | K21: =J21 -> - | L21: ja | M21: nee | N21: nee | O21: nee
B22: 1 Dag OV vrij (BTM-deel) | C22: 453 | D22: 453 | E22: 9.5 | F22: 9.5 | G22: 10 | H22: 10 | I22: 10 | J22: 10 | K22: =J22 -> 10 | L22: ja | M22: nee | N22: nee | O22: nee
B23: Holland Travel Ticket (BTM deel) | C23: 440 | D23: 440 | E23: 7.5 | F23: 8 | G23: 8.2 | H23: 8.45 | I23: 8.63 | J23: 9.25 | K23: =J23 -> 9.25 | L23: ja | M23: nee | N23: nee | O23: nee
B24: Holland Travel Ticket off peak (BTM deel) | C24: 443 | D24: 443 | E24: 7.5 | F24: 8 | G24: 8.2 | H24: 8.45 | I24: 8.63 | J24: 9.25 | K24: =J24 -> 9.25 | L24: ja | M24: nee | N24: nee | O24: nee
B25: Holland Travel Ticket | C25: 440 | D25: 440 | G25: 62 | H25: 63 | L25: ja | M25: nee | N25: nee | O25: nee
B26: Holland Travel Ticket off peak | C26: 443 | D26: 443 | G26: 42 | H26: 43 | L26: ja | M26: nee | N26: nee | O26: nee
B27: OV voordeel supplement (maand) | C27: 610 | D27: 610 | E27: 11 | F27: 11.5 | G27: 12 | H27: 12 | I27: 12 | J27: - | L27: nee | M27: nee | N27: nee | O27: nee
B28: OV voordeel supplement (jaar) | C28: 601 | D28: 601 | E28: 132 | F28: 138 | G28: 144 | H28: 144 | I28: =I27*12 -> 144 | J28: - | L28: nee | M28: nee | N28: nee | O28: nee
B30: Budget Zeker (small) | C30: 611 | D30: 611 | E30: 509 | F30: 538 | G30: 550 | H30: 555 | I30: 567 | J30: 607.5 | K30: =J30 -> 607.5 | L30: ja | M30: nee | N30: nee | O30: nee
B31: Budget Zeker (medium) | C31: 611 | D31: 611 | E31: 796 | F31: 842 | G31: 860 | H31: 868 | I31: 887 | J31: 951 | K31: =J31 -> 951 | L31: ja | M31: nee | N31: nee | O31: nee
B32: Budget Zeker (large) | C32: 611 | D32: 611 | E32: 1207 | F32: 1276 | G32: 1305 | H32: 1317 | I32: 1345 | J32: 1442 | K32: =J32 -> 1442 | L32: ja | M32: nee | N32: nee | O32: nee
B34: Netabonnement voltarief (maand) (volwassene) | C34: 8285 | D34: 8288 | E34: 280.8 | F34: 296.95 | G34: 303.55 | H34: 306.35 | I34: 312.8 | J34: 335.45 | K34: =J34 -> 335.45 | L34: ja | M34: ja | N34: ja | O34: ja
B35: Netabonnement reductietarief (maand) (kind) | C35: 8285 | D35: 8286 | E35: 185.35 | F35: 196 | G35: 200.35 | H35: 202.2 | I35: 206.45 | J35: 221.4 | K35: =J35 -> 221.4 | L35: ja | M35: ja | N35: ja | O35: ja
B36: Netabonnement reductietarief (maand) (tiener) | C36: 8285 | D36: 8287 | E36: 185.35 | F36: 196 | G36: 200.35 | H36: 202.2 | I36: 206.45 | J36: 221.4 | K36: =J36 -> 221.4 | L36: ja | M36: ja | N36: ja | O36: ja
B37: Netabonnement reductietarief (maand) (senior) | C37: 8285 | D37: 8289 | E37: 185.35 | F37: 196 | G37: 200.35 | H37: 202.2 | I37: 206.45 | J37: 221.4 | K37: =J37 -> 221.4 | L37: ja | M37: ja | N37: ja | O37: ja
B38: Netabonnement Particulier voltarief (jaar) (volwassene) | C38: 8275 | D38: 8278 | E38: 2808 | F38: 2969.5 | G38: 3035.5 | H38: 3063.5 | I38: 3128 | J38: 3354.5 | K38: =J38 -> 3354.5 | L38: ja | M38: ja | N38: ja | O38: ja
B39: Netabonnement Particulier reductietarief (jaar) (kind) | C39: 8275 | D39: 8276 | E39: 1853.5 | F39: 1960 | G39: 2003.5 | H39: 2022 | I39: 2064.5 | J39: 2214 | K39: =J39 -> 2214 | L39: ja | M39: ja | N39: ja | O39: ja
B40: Netabonnement Particulier reductietarief (jaar) (tiener) | C40: 8275 | D40: 8277 | E40: 1853.5 | F40: 1960 | G40: 2003.5 | H40: 2022 | I40: 2064.5 | J40: 2214 | K40: =J40 -> 2214 | L40: ja | M40: ja | N40: ja | O40: ja
B41: Netabonnement Particulier reductietarief (jaar) (senior) | C41: 8275 | D41: 8279 | E41: 1853.5 | F41: 1960 | G41: 2003.5 | H41: 2022 | I41: 2064.5 | J41: 2214 | K41: =J41 -> 2214 | L41: ja | M41: ja | N41: ja | O41: ja
B42: Netabonnement Jaar (zakelijk) (volwassene) | C42: 8290 | D42: 8293 | E42: 1367.8 | F42: 2969.5 | G42: 3035.5 | H42: =H38 -> 3063.5 | I42: 3128 | J42: =J38 -> 3354.5 | K42: =J42 -> 3354.5 | L42: ja | M42: nee | N42: nee | O42: nee
B43: Netabonnement Jaar (zakelijk) (kind) | C43: 8290 | D43: 8291 | E43: 1367.8 | F43: 1960 | G43: 2003.5 | H43: =H41 -> 2022 | I43: 2064.5 | J43: 2214 | K43: =J43 -> 2214 | L43: ja | M43: nee | N43: nee | O43: nee
B44: Netabonnement Jaar (zakelijk) (tiener) | C44: 8290 | D44: 8292 | E44: 1367.8 | F44: 1960 | G44: 2003.5 | H44: 2022 | I44: 2064.5 | J44: 2214 | K44: =J44 -> 2214 | L44: ja | M44: nee | N44: nee | O44: nee
B45: Netabonnement Jaar (zakelijk) (senior) | C45: 8290 | D45: 8294 | E45: 1367.8 | F45: 1960 | G45: 2003.5 | H45: =H43 -> 2022 | I45: 2064.5 | J45: 2214 | K45: =J45 -> 2214 | L45: ja | M45: nee | N45: nee | O45: nee
B46: Netabonnement zakelijk (jaar) | C46: 8280 | D46: 8280 | E46: 1367.8 | F46: 1446.5 | G46: 1478.7 | H46: 1492.2 | I46: 1523.8 | J46: 1634 | K46: =J46 -> 1634 | L46: ja | M46: nee | N46: ja | O46: nee
...

Sheet Sales producten
A2: Productnaam | B2: Regionale tarieven | C2: Productnr | D2: Contract Tariff Id | E2: 2017 | F2: 2018 | G2: 2019 | H2: 2020 | I2: 2021 | J2: 2022 def | K2: 2023 | L2: 2024
A3: SALES
A4: Brabant Altijd Vrij jaar zakelijk | B4: Zuid- Brabant West | C4: 1283 | D4: 1283 | E4: 1164 | F4: 1189 | G4: 1269.1 | H4: 1310.14 | J4: ? | K4: ?
A5: Meedoen / Dalvrij West-Brabant Streek kind | B5: Zuid- Brabant West | C5: 8125 | D5: 8126 | F5: 87.5 | G5: 90 | H5: 90 | I5: 90 | J5: 94.5 | K5: 101.35
A6: Meedoen / Dalvrij West-Brabant Streek jeugd | B6: Zuid- Brabant West | C6: 8125 | D6: 8127 | F6: 87.5 | G6: 90 | H6: 90 | I6: 90 | J6: 94.5 | K6: 101.35
A7: Meedoen / Dalvrij West-Brabant Streek volwassen | B7: Zuid- Brabant West | C7: 8125 | D7: 8128 | F7: 87.5 | G7: 90 | H7: 90 | I7: 90 | J7: 94.5 | K7: 101.35
A8: Meedoen / Dalvrij West-Brabant Streek senior | B8: Zuid- Brabant West | C8: 8125 | D8: 8129 | F8: 87.5 | G8: 90 | H8: 90 | I8: 90 | J8: 94.5 | K8: 101.35
A9: Meedoen / Dalvrij West-Brabant Stad (Breda) en Streek kind | B9: Zuid- Brabant West | C9: 8130 | D9: 8131 | F9: 127.5 | G9: 131 | H9: 131 | I9: 131 | J9: 137.5 | K9: 147.45
A10: Meedoen / Dalvrij West-Brabant Stad (Breda) en Streek jeugd | B10: Zuid- Brabant West | C10: 8130 | D10: 8132 | F10: 127.5 | G10: 131 | H10: 131 | I10: 131 | J10: 137.5 | K10: 147.45
A11: Meedoen / Dalvrij West-Brabant Stad (Breda) en Streek volwassen | B11: Zuid- Brabant West | C11: 8130 | D11: 8133 | F11: 127.5 | G11: 131 | H11: 131 | I11: 131 | J11: 137.5 | K11: 147.45
A12: Meedoen / Dalvrij West-Brabant Stad (Breda) en Streek senior | B12: Zuid- Brabant West | C12: 8130 | D12: 8134 | F12: 127.5 | G12: 131 | H12: 131 | I12: 131 | J12: 137.5 | K12: 147.45
A13: zakelijk divers | B13: Zuid- Brabant West | K13: ?
A14: WMO divers | B14: Zuid- Brabant West | K14: ?
A15: sales divers CT kaarten | B15: Zuid- Brabant West | K15: ?
A16: Brabant Altijd Vrij jaar zakelijk | B16: Zuid - Brabant Oost | C16: 1283 | D16: 1283 | E16: 1189 | F16: 1269.1 | G16: 1310.14 | J16: ? | K16: ?
A17: Meedoen / Dalvrij Tilburg stad kind | B17: Zuid - Brabant Oost | C17: 8120 | D17: 8121 | E17: 87.5 | F17: 100 | G17: 110 | J17: 115.5 | K17: 125
A18: Meedoen / Dalvrij Tilburg stad jeugd | B18: Zuid - Brabant Oost | C18: 8120 | D18: 8122 | E18: 87.5 | F18: 100 | G18: 110 | J18: 115.5 | K18: 125
A19: Meedoen / Dalvrij Tilburg stad volwassen | B19: Zuid - Brabant Oost | C19: 8120 | D19: 8123 | E19: 87.5 | F19: 100 | G19: 110 | J19: 115.5 | K19: 125
A20: Meedoen / Dalvrij Tilburg stad senior | B20: Zuid - Brabant Oost | C20: 8120 | D20: 8124 | E20: 87.5 | F20: 100 | G20: 110 | J20: 115.5 | K20: 125
A21: zakelijk divers | B21: Zuid - Brabant Oost | K21: ?
A22: WMO divers | B22: Zuid - Brabant Oost | K22: ?
A23: sales divers CT kaarten | B23: Zuid - Brabant Oost | K23: ?

Sheet Z-BW
C2: “Verkoop Servicebalie OVC” betreft OV-Chip producten die op een OV-Chipkaart worden geschreven.
C3: “Verkoop Servicebalie Overig” betreft alle overige producten: CT-kaarten, papieren kaartjes etc.
C4: “Verkoop Backoffice” betreft verkoop van OV-Chip producten via Assist/klantenservice (backoffice).
B6: Regionale tarieven Brabant West | V6: Voorwaarden
B7: Productnaam | C7: Productnr | D7: Contract Tariff Id | E7: 2017 | F7: 2018 | G7: 2019 | H7: 2020 | I7: 2021 | J7: 2022 def | K7: 2023 | L7: 2024 | M7: DEF | N7: Acceptatie OVC | O7: Verkoop Servicebalie OVC | P7: Verkoop Servicebalie Overig | Q7: DC Light | R7: Handheld Toezichthouder | S7: Verkoop Backoffice | T7: Verkoop Webshop | V7: Geldigheid (dal/spits) | W7: Modaliteit (trein/(buurtbus)/HOV) | X7: Leeftijd (65+/kind/etc) | Y7: Gebied (landelijk/1 regio of meer) | Z7: Productvoorwaarden
B8: BRABANT OV-chipkaart
B9: Kilometertarief | C9: nvt | D9: nvt | E9: 0.151 | F9: 0.157 | G9: 0.167 | H9: 0.172 | I9: 0.17542151 | J9: 0.181 | K9: 0.188 | L9: =K9 -> 0.188 | N9: ja | O9: nee | P9: nee | Q9: nee | R9: nee | S9: nee | T9: nee
B10: Kilometer tarief Nightliner flatfare | C10: nvt | D10: nvt | G10: 6.63 | H10: 4.5 | I10: 5 | J10: 5.16 | K10: 5.58 | L10: =K10 -> 5.58 | N10: ja | O10: nee | P10: nee | Q10: nee | R10: nee | S10: nee | T10: nee | Z10: Voor reizigers die met de OV-chipkaart of met OVpay willen reizen is een flatfare-tarief op de Nightliner beschikbaar van € 5,58 voor één enkele rit, zonder overstap.
B11: Bravo Flex Bergen op Zoom lijn 820 flatfare van/naar station. | C11: nvt | D11: nvt | H11: 1.5 | I11: 1.5 | J11: 1.5 | K11: 1.5 | L11: =K11 -> 1.5 | N11: ja | O11: nee | P11: nee | Q11: nee | R11: nee | S11: nee | T11: nee
B12: Bravo Flex Bergen op Zoom lijn 820 flatfare kris kras | C12: n.v.t. | D12: nvt | H12: 1.5 | J12: 3.5 | K12: 3.5 | L12: =K12 -> 3.5 | N12: ja | O12: nee | P12: nee | Q12: nee | R12: nee | S12: nee | T12: nee
B13: BARABANT Reisproducten OV-chipkaart maand (doorlopend)
B14: Brabant Jeugd maandabonnement 12 t/m 18 jarigen | C14: 1586 | D14: 1586 | E14: 87.6 | F14: 89.45 | G14: 95.47 | H14: 98.55 | I14: 100.44 | J14: 103.57 | K14: 112.1 | L14: =K14 -> 112.1 | N14: ja | O14: ja | P14: nee | Q14: nee | R14: nee | S14: ja | T14: ja | Z14: Personen van 12 tot en met 18 jaar kunnen voor € 112,10 per maand een abonnement voor busvervoer verkrijgen. Dit abonnement is te laden op een persoonlijke OV-chipkaart en geeft vrij reisrecht in het Brabantse stads- en streekvervoer gedurende alle dagen van de betreffende maand. Het abonnement is niet geldig op de Nightliner, Transferiumbussen en de Arriva buslijn 165/166 (Gelderland: ’s-Hertogenbosch-Druten). Het is wel geldig op de Arriva/Breng-buslijn 99 (Nijmegen-Grave). NB: Het Jeugdabonnement wordt door Arriva zakelijk met maximaal 34% korting geboden aan Jeugdspelers bij voetbalclub NAC Breda, Willem II en FC Den Bosch.
B15: Brabant Altijd Vrij Anoniem | C15: 8020 | D15: 8020 | E15: 116.4 | F15: 118.9 | G15: 126.91 | H15: 131.01 | I15: 133.52 | J15: 137.68 | K15: 149.03 | L15: =K15 -> 149.03 | N15: ja | O15: ja | P15: nee | Q15: nee | R15: nee | S15: ja | T15: nee | Z15: Brabant Altijd Vrij biedt onbeperkt reizen in de Brabantse OV-concessies voor een vast bedrag. De prijs van het product bedraagt € 149,03 per maand en € 1.490,27 per jaar. Het OV-chipkaartproduct is niet geldig op de Nightliner, de Transferiumbussen en de Arriva-buslijn 165/166 (Gelderland: ’s-Hertogenbosch- Druten). Het is wel geldig op de Arriva/Breng buslijn 99 (Nijmegen-Grave).
B16: Brabant Altijd Vrij Kind | C16: 8020 | D16: 8021 | E16: 116.4 | F16: 118.9 | G16: 126.91 | H16: 131.01 | I16: 133.52 | J16: 137.68 | K16: =K15 -> 149.03 | L16: =K16 -> 149.03 | N16: ja | O16: ja | P16: nee | Q16: nee | R16: nee | S16: ja | T16: ja
B17: Brabant Altijd Vrij Tiener | C17: 8020 | D17: 8022 | E17: 116.4 | F17: 118.9 | G17: 126.91 | H17: 131.01 | I17: 133.52 | J17: 137.68 | K17: =K16 -> 149.03 | L17: =K17 -> 149.03 | N17: ja | O17: ja | P17: nee | Q17: nee | R17: nee | S17: ja | T17: ja
B18: Brabant Altijd Vrij Volwassen | C18: 8020 | D18: 8023 | E18: 116.4 | F18: 118.9 | G18: 126.91 | H18: 131.01 | I18: 133.52 | J18: 137.68 | K18: =K17 -> 149.03 | L18: =K18 -> 149.03 | N18: ja | O18: ja | P18: nee | Q18: nee | R18: nee | S18: ja | T18: ja
B19: Brabant Altijd Vrij Senior | C19: 8020 | D19: 8024 | E19: 116.4 | F19: 118.9 | G19: 126.91 | H19: 131.01 | I19: 133.52 | J19: 137.68 | K19: =K18 -> 149.03 | L19: =K19 -> 149.03 | N19: ja | O19: ja | P19: nee | Q19: nee | R19: nee | S19: ja | T19: ja
B20: BRABANT Reisproducten OV-chipkaart kwartaal
B21: Winterschoolliner 5 maanden | E21: nvt | F21: nvt | J21: 401.76 | K21: vervallen | L21: n.v.t. | N21: nee | O21: nee | P21: nee | Q21: nee | S21: nee | T21: nee
B22: BRABANT Reisproducten OV-chipkaart jaar of onbepaalde tijd
B23: Brabant Dalkorting Kind | C23: 1580 | D23: 1582 | E23: 11.7 | F23: 11.95 | G23: 12.74 | H23: 13.15 | I23: 13.4 | J23: 13.82 | K23: 14.96 | L23: =K23 -> 14.96 | N23: ja | O23: ja | P23: nee | Q23: nee | R23: nee | S23: ja | T23: ja | Z23: Reizigers kunnen voor € 14,96 per jaar het Brabants Dalkortingsproduct kopen dat recht geeft op 40% dalkorting op de standaard ritprijs. Deze dalkorting geldt op werkdagen ná 09.00 uur. Op zaterdag en zondag de hele dag. Het reisproduct moet geladen worden op een persoonlijke OV-chipkaart. Brabant Dalkorting is niet geldig op de Nightliner, de Transferiumbussen en de Arriva buslijn 165/166 (Gelderland: ’s-Hertogenbosch-Druten). Het is wel geldig op de Arriva/Brengbuslijn 99 (Nijmegen-Grave). Dalkorting stapelt met de hiervoor omschreven nationale en regionale leeftijdskortingen
B24: Brabant Dalkorting Jeugd | C24: 1580 | D24: 1583 | E24: 11.7 | F24: 11.95 | G24: 12.74 | H24: 13.15 | I24: 13.4 | J24: 13.82 | K24: 14.96 | L24: =K24 -> 14.96 | N24: ja | O24: ja | P24: nee | Q24: nee | R24: nee | S24: ja | T24: ja
B25: Brabant Dalkorting Volwassen | C25: 1580 | D25: 1584 | E25: 11.7 | F25: 11.95 | G25: 12.74 | H25: 13.15 | I25: 13.4 | J25: 13.82 | K25: 14.96 | L25: =K25 -> 14.96 | N25: ja | O25: ja | P25: nee | Q25: nee | R25: nee | S25: ja | T25: ja
B26: Brabant Dalkorting Senior | C26: 1580 | D26: 1585 | E26: 11.7 | F26: 11.95 | G26: 12.74 | H26: 13.15 | I26: 13.4 | J26: 13.82 | K26: 14.96 | L26: =K26 -> 14.96 | N26: ja | O26: ja | P26: nee | Q26: nee | R26: nee | S26: ja | T26: ja
B27: Brabant Altijd Vrij Anoniem | C27: 8025 | D27: 8025 | E27: 1164 | F27: 1189 | G27: 1269.1 | H27: 1310.14 | I27: 1335.17 | J27: 1376.82 | K27: 1490.27 | L27: =K27 -> 1490.27 | N27: ja | O27: ja | P27: nee | Q27: nee | R27: nee | S27: ja | T27: nee | Z27: Brabant Altijd Vrij biedt onbeperkt reizen in de Brabantse OV-concessies voor een vast bedrag. De prijs van het product bedraagt € 149,03 per maand en € 1.490,27 per jaar. Het OV-chipkaartproduct is niet geldig op de Nightliner, de Transferiumbussen en de Arriva-buslijn 165/166 (Gelderland: ’s-Hertogenbosch- Druten). Het is wel geldig op de Arriva/Breng buslijn 99 (Nijmegen-Grave). NB: Brabant Altijd Vrij jaar wordt door Arriva zakelijk met maximaal 34% korting geboden aan het zorgpersoneel bij het Jeroen Bosch Ziekenhuis.
B28: Brabant Altijd Vrij Kind | C28: 8025 | D28: 8026 | E28: 1164 | F28: 1189 | G28: 1269.1 | H28: 1310.14 | I28: 1335.17 | J28: 1376.82 | K28: =K27 -> 1490.27 | L28: =K28 -> 1490.27 | N28: ja | O28: ja | P28: nee | Q28: nee | R28: nee | S28: ja | T28: ja
B29: Brabant Altijd Vrij jeugd | C29: 8025 | D29: 8027 | E29: 1164 | F29: 1189 | G29: 1269.1 | H29: 1310.14 | I29: 1335.17 | J29: 1376.82 | K29: =K28 -> 1490.27 | L29: =K29 -> 1490.27 | N29: ja | O29: ja | P29: nee | Q29: nee | R29: nee | S29: ja | T29: ja
B30: Brabant Altijd Vrij Volwassen | C30: 8025 | D30: 8028 | E30: 1164 | F30: 1189 | G30: 1269.1 | H30: 1310.14 | I30: 1335.17 | J30: 1376.82 | K30: =K29 -> 1490.27 | L30: =K30 -> 1490.27 | N30: ja | O30: ja | P30: nee | Q30: nee | R30: nee | S30: ja | T30: ja
B31: Brabant Altijd Vrij Senior | C31: 8025 | D31: 8029 | E31: 1164 | F31: 1189 | G31: 1269.1 | H31: 1310.14 | I31: 1335.17 | J31: 1376.82 | K31: =K30 -> 1490.27 | L31: =K31 -> 1490.27 | N31: ja | O31: ja | P31: nee | Q31: nee | R31: nee | S31: ja | T31: ja
B32: BRABANT Wagenverkoopassortiment + CT voorverkoop
B33: Ritkaartje | C33: nvt | D33: nvt | E33: 3.98 | F33: 4.24 | G33: 4.24 | H33: 4.38 | I33: 4.46 | J33: 4.59 | K33: 4.8 | L33: =K33 -> 4.8 | N33: nee | O33: nee | P33: nee | Q33: ja | R33: nee | S33: nee | T33: nee | Z33: Het tarief van de Ritkaart bedraagt € 4,80. Voor de interregionale lijnen 310, 400 en 401 van de concessie West-Brabant geldt een staffel van het ritkaarttarief. De tarieven zijn afhankelijk van het deeltraject € 4,80, € 9,60, en € 14,40. De Ritkaart is geldig voor een enkele rit zonder overstap. De Ritkaart is niet geldig op de Transferiumbussen en de Nightliners.
B34: Ritkaartje middellang | C34: nvt | D34: nvt | E34: 7.96 | F34: 8.48 | G34: 8.48 | H34: 8.76 | I34: 8.92 | J34: 9.18 | K34: =K33*2 -> 9.6 | L34: =K34 -> 9.6 | N34: nee | O34: nee | P34: nee | Q34: ja | R34: nee | S34: nee | T34: nee
B35: Ritkaartje lang | C35: nvt | D35: nvt | E35: 11.94 | F35: 12.72 | G35: 12.72 | H35: 13.14 | I35: 13.38 | J35: 13.77 | K35: =K33*3 -> 14.4 | L35: =K35 -> 14.4 | N35: nee | O35: nee | P35: nee | Q35: ja | R35: nee | S35: nee | T35: nee
B36: Ritkaartje (CT voorverkoop) | C36: 8034 | D36: 8034 | E36: 6.22 | F36: 4.24 | G36: 4.24 | H36: 4.38 | I36: 4.46 | J36: 4.59 | K36: =K33 -> 4.8 | L36: =K36 -> 4.8 | N36: ja | O36: nee | P36: ja | Q36: nee | R36: nee | S36: nee | T36: nee
B37: Ritkaart Bravoflex Bergen op Zoom (halte-halte) | C37: 8046 | D37: 8046 | J37: 3.5 | K37: 3.5 | L37: =K37 -> 3.5 | N37: nee | O37: nee | P37: nee | Q37: ja | R37: nee | S37: nee | T37: nee
B38: Ritkaart Bravoflex Bergen op Zoom (halte-station) | C38: 8651 | D38: 8651 | J38: 1.5 | K38: 1.5 | L38: =K38 -> 1.5 | N38: nee | O38: nee | P38: nee | Q38: ja | R38: nee | S38: nee | T38: nee
B39: Dalurendagkaartje | C39: nvt | D39: nvt | E39: 6.22 | F39: 6.63 | G39: 6.63 | H39: 6.84 | I39: 6.97 | J39: 7.18 | K39: 7.55 | L39: =K39 -> 7.55 | N39: nee | O39: nee | P39: nee | Q39: ja | R39: nee | S39: nee | T39: nee | Z39: Het tarief voor de Dalurendagkaart is € 7,55. Deze kaart is geldig van maandag t/m vrijdag vanaf 09.00 tot einde dienstregeling. De kaart is de hele dag geldig op: zaterdagen en zondagen, werkdagen in de maanden juli en augustus, Nieuwjaarsdag, Goede Vrijdag, Tweede Paasdag, Koningsdag, Hemelvaartsdag, de dag na Hemelvaartsdag, Tweede Pinksterdag en van 25 tot en met 31 december. De Dalurendagkaart is niet geldig op de Nightliners en Transferiumbussen. Voor de interregionale lijnen 310, 400 en 401 van de concessie West-Brabant geldt een staffel van het Dalurendagkaarttarief. De tarieven zijn afhankelijk van het deeltraject € 7,55, € 15,10 en € 22,65.
B40: Dalurendagkaartje middellang | C40: nvt | D40: nvt | E40: 12.44 | F40: 13.25 | G40: 13.25 | H40: 13.68 | I40: 13.94 | J40: 14.36 | K40: =K39*2 -> 15.1 | L40: =K40 -> 15.1 | N40: nee | O40: nee | P40: nee | Q40: ja | R40: nee | S40: nee | T40: nee
B41: Dalurendagkaartje lang | C41: nvt | D41: nvt | E41: 12.44 | F41: 13.25 | G41: nvt | H41: nvt | I41: 20.91 | J41: 21.54 | K41: =K39*3 -> 22.65 | L41: =K41 -> 22.65 | N41: nee | O41: nee | P41: nee | Q41: ja | R41: nee | S41: nee | T41: nee
B42: Dalurendagkaartje (CT voorverkoop) | C42: 8046 | D42: 8046 | E42: 6.22 | F42: 6.63 | G42: 6.63 | H42: 6.84 | I42: 6.97 | J42: 7.18 | K42: =K39 -> 7.55 | L42: =K42 -> 7.55 | N42: ja | O42: nee | P42: ja | Q42: nee | R42: nee | S42: nee | T42: nee
...

Sheet Z-BO
N3: “Verkoop Servicebalie OVC” betreft OV-Chip producten die op een OV-Chipkaart worden geschreven.
N4: “Verkoop Servicebalie Overig” betreft alle overige producten: CT-kaarten, papieren kaartjes etc.
N5: “Verkoop Backoffice” betreft verkoop van OV-Chip producten via Assist/klantenservice (backoffice).
B6: Regionale tarieven Brabant Oost | V6: Voorwaarden
B7: Productnaam | C7: Productnr | D7: Contract Tariff Id | E7: 2018 | F7: 2019 | G7: 2020 | H7: 44197 | I7: 44378 | J7: 2022 niet definitief | K7: 2023 | L7: 2024 | M7: DEF | N7: Acceptatie OVC | O7: Verkoop Servicebalie OVC | P7: Verkoop Servicebalie Overig | Q7: DC Light | R7: Handheld Toezichthouder | S7: Verkoop Backoffice | T7: Verkoop Webshop | V7: Geldigheid (dal/spits) | W7: Modaliteit (trein/(buurtbus)/HOV) | X7: Leeftijd (65+/kind/etc) | Y7: Gebied (landelijk/1 regio of meer) | Z7: Productvoorwaarden
B8: ='Z-BW'!B8 -> BRABANT OV-chipkaart
B9: Kilometertarief | C9: nvt | D9: nvt | E9: 0.157 | F9: 0.167 | G9: 0.172 | H9: 0.17542151 | J9: 0.181 | K9: ='Z-BW'!K9 -> 0.188 | L9: =K9 -> 0.188 | N9: ja | O9: nee | P9: nee | Q9: nee | R9: nee | S9: nee | T9: nee
B10: Tranferiumbussen Den Bosch (geen OV-chipkaart afrekening lijn 760,770,780) | L10: n.v.t.
B11: Kilometer tarief Nightliner flatfare | C11: nvt | D11: nvt | F11: 6.63 | G11: 4.5 | H11: 5 | J11: 5.16 | K11: ='Z-BW'!K10 -> 5.58 | L11: =K11 -> 5.58 | N11: ja | O11: nee | P11: nee | Q11: nee | R11: nee | S11: nee | T11: nee | Z11: Voor reizigers die met de OV-chipkaart of met OVpay willen reizen is een flatfare-tarief op de Nightliner beschikbaar van € 5,58 voor één enkele rit, zonder overstap.
B12: ='Z-BW'!B13 -> BARABANT Reisproducten OV-chipkaart maand (doorlopend)
B13: Brabant Jeugd maandabonnement 12 t/m 18 jarigen | C13: 1586 | D13: 1586 | E13: 89.45 | F13: 95.47 | G13: 98.55 | H13: 100.44 | J13: 103.57 | K13: ='Z-BW'!K14 -> 112.1 | L13: =K13 -> 112.1 | N13: ja | O13: ja | P13: nee | Q13: nee | R13: nee | S13: ja | T13: ja | Z13: Personen van 12 tot en met 18 jaar kunnen voor € 112,10 per maand een abonnement voor busvervoer verkrijgen. Dit abonnement is te laden op een persoonlijke OV-chipkaart en geeft vrij reisrecht in het Brabantse stads- en streekvervoer gedurende alle dagen van de betreffende maand. Het abonnement is niet geldig op de Nightliner, Transferiumbussen en de Arriva buslijn 165/166 (Gelderland: ’s-Hertogenbosch-Druten). Het is wel geldig op de Arriva/Breng-buslijn 99 (Nijmegen-Grave). NB: Het Jeugdabonnement wordt door Arriva zakelijk met maximaal 34% korting geboden aan Jeugdspelers bij voetbalclub NAC Breda, Willem II en FC Den Bosch.
B14: Brabant Altijd Vrij Anoniem | C14: 8020 | D14: 8020 | E14: 118.9 | F14: 126.91 | G14: 131.01 | H14: 133.52 | J14: 137.68 | K14: ='Z-BW'!K15 -> 149.03 | L14: =K14 -> 149.03 | N14: ja | O14: ja | P14: nee | Q14: nee | R14: nee | S14: ja | T14: nee | Z14: Brabant Altijd Vrij biedt onbeperkt reizen in de Brabantse OV-concessies voor een vast bedrag. De prijs van het product bedraagt € 149,03 per maand en € 1.490,27 per jaar. Het OV-chipkaartproduct is niet geldig op de Nightliner, de Transferiumbussen en de Arriva-buslijn 165/166 (Gelderland: ’s-Hertogenbosch- Druten). Het is wel geldig op de Arriva/Breng buslijn 99 (Nijmegen-Grave).
B15: Brabant Altijd Vrij Kind | C15: 8020 | D15: 8021 | E15: 118.9 | F15: 126.91 | G15: 131.01 | H15: 133.52 | J15: 137.68 | K15: ='Z-BW'!K16 -> 149.03 | L15: =K15 -> 149.03 | N15: ja | O15: ja | P15: nee | Q15: nee | R15: nee | S15: ja | T15: ja
B16: Brabant Altijd Vrij jeugd | C16: 8020 | D16: 8022 | E16: 118.9 | F16: 126.91 | G16: 131.01 | H16: 133.52 | J16: 137.68 | K16: ='Z-BW'!K17 -> 149.03 | L16: =K16 -> 149.03 | N16: ja | O16: ja | P16: nee | Q16: nee | R16: nee | S16: ja | T16: ja
B17: Brabant Altijd Vrij Volwassen | C17: 8020 | D17: 8023 | E17: 118.9 | F17: 126.91 | G17: 131.01 | H17: 133.52 | J17: 137.68 | K17: ='Z-BW'!K18 -> 149.03 | L17: =K17 -> 149.03 | N17: ja | O17: ja | P17: nee | Q17: nee | R17: nee | S17: ja | T17: ja
B18: Brabant Altijd Vrij Senior | C18: 8020 | D18: 8024 | E18: 118.9 | F18: 126.91 | G18: 131.01 | H18: 133.52 | J18: 137.68 | K18: ='Z-BW'!K19 -> 149.03 | L18: =K18 -> 149.03 | N18: ja | O18: ja | P18: nee | Q18: nee | R18: nee | S18: ja | T18: ja
B19: ='Z-BW'!B22 -> BRABANT Reisproducten OV-chipkaart jaar of onbepaalde tijd
B20: Brabant Dalkorting Kind | C20: 1580 | D20: 1582 | E20: 11.95 | F20: 12.74 | G20: 13.15 | H20: 13.4 | J20: 13.82 | K20: ='Z-BW'!K23 -> 14.96 | L20: =K20 -> 14.96 | N20: ja | O20: ja | P20: nee | Q20: nee | R20: nee | S20: ja | T20: ja | Z20: Reizigers kunnen voor € 14,96 per jaar het Brabants Dalkortingsproduct kopen dat recht geeft op 40% dalkorting op de standaard ritprijs. Deze dalkorting geldt op werkdagen ná 09.00 uur. Op zaterdag en zondag de hele dag. Het reisproduct moet geladen worden op een persoonlijke OV-chipkaart. Brabant Dalkorting is niet geldig op de Nightliner, de Transferiumbussen en de Arriva buslijn 165/166 (Gelderland: ’s-Hertogenbosch-Druten). Het is wel geldig op de Arriva/Brengbuslijn 99 (Nijmegen-Grave). Dalkorting stapelt met de hiervoor omschreven nationale en regionale leeftijdskortingen.
B21: Brabant Dalkorting Jeugd | C21: 1580 | D21: 1583 | E21: 11.95 | F21: 12.74 | G21: 13.15 | H21: 13.4 | J21: 13.82 | K21: ='Z-BW'!K24 -> 14.96 | L21: =K21 -> 14.96 | N21: ja | O21: ja | P21: nee | Q21: nee | R21: nee | S21: ja | T21: ja
B22: Brabant Dalkorting Volwassen | C22: 1580 | D22: 1584 | E22: 11.95 | F22: 12.74 | G22: 13.15 | H22: 13.4 | J22: 13.82 | K22: ='Z-BW'!K25 -> 14.96 | L22: =K22 -> 14.96 | N22: ja | O22: ja | P22: nee | Q22: nee | R22: nee | S22: ja | T22: ja
B23: Brabant Dalkorting Senior | C23: 1580 | D23: 1585 | E23: 11.95 | F23: 12.74 | G23: 13.15 | H23: 13.4 | J23: 13.82 | K23: ='Z-BW'!K26 -> 14.96 | L23: =K23 -> 14.96 | N23: ja | O23: ja | P23: nee | Q23: nee | R23: nee | S23: ja | T23: ja
B24: Brabant Altijd Vrij Anoniem | C24: 8025 | D24: 8025 | E24: 1189 | F24: 1269.1 | G24: 1310.14 | H24: 1335.17 | J24: 1376.82 | K24: ='Z-BW'!K27 -> 1490.27 | L24: =K24 -> 1490.27 | N24: ja | O24: ja | P24: nee | Q24: nee | R24: nee | S24: ja | T24: nee | Z24: Brabant Altijd Vrij biedt onbeperkt reizen in de Brabantse OV-concessies voor een vast bedrag. De prijs van het product bedraagt € 149,03 per maand en € 1.490,27 per jaar. Het OV-chipkaartproduct is niet geldig op de Nightliner, de Transferiumbussen en de Arriva-buslijn 165/166 (Gelderland: ’s-Hertogenbosch- Druten). Het is wel geldig op de Arriva/Breng buslijn 99 (Nijmegen-Grave). NB: Brabant Altijd Vrij jaar wordt door Arriva zakelijk met maximaal 34% korting geboden aan het zorgpersoneel bij het Jeroen Bosch Ziekenhuis.
B25: Brabant Altijd Vrij Kind | C25: 8025 | D25: 8026 | E25: 1189 | F25: 1269.1 | G25: 1310.14 | H25: 1335.17 | J25: 1376.82 | K25: ='Z-BW'!K28 -> 1490.27 | L25: =K25 -> 1490.27 | N25: ja | O25: ja | P25: nee | Q25: nee | R25: nee | S25: ja | T25: ja
B26: Brabant Altijd Vrij jeugd | C26: 8025 | D26: 8027 | E26: 1189 | F26: 1269.1 | G26: 1310.14 | H26: 1335.17 | J26: 1376.82 | K26: ='Z-BW'!K29 -> 1490.27 | L26: =K26 -> 1490.27 | N26: ja | O26: ja | P26: nee | Q26: nee | R26: nee | S26: ja | T26: ja
B27: Brabant Altijd Vrij Volwassen | C27: 8025 | D27: 8028 | E27: 1189 | F27: 1269.1 | G27: 1310.14 | H27: 1335.17 | J27: 1376.82 | K27: ='Z-BW'!K30 -> 1490.27 | L27: =K27 -> 1490.27 | N27: ja | O27: ja | P27: nee | Q27: nee | R27: nee | S27: ja | T27: ja
B28: Brabant Altijd Vrij Senior | C28: 8025 | D28: 8029 | E28: 1189 | F28: 1269.1 | G28: 1310.14 | H28: 1335.17 | J28: 1376.82 | K28: ='Z-BW'!K31 -> 1490.27 | L28: =K28 -> 1490.27 | N28: ja | O28: ja | P28: nee | Q28: nee | R28: nee | S28: ja | T28: ja
B29: ='Z-BW'!B32 -> BRABANT Wagenverkoopassortiment + CT voorverkoop
B30: Ritkaartje | C30: nvt | D30: nvt | E30: 3.98 | F30: 4.24 | G30: 4.38 | H30: 4.46 | J30: 4.59 | K30: ='Z-BW'!K33 -> 4.8 | L30: =K30 -> 4.8 | N30: nee | O30: nee | P30: nee | Q30: ja | R30: nee | S30: nee | T30: nee | Z30: Het tarief van de Ritkaart bedraagt € 4,80. Voor de interregionale lijnen 310, 400 en 401 van de concessie West-Brabant geldt een staffel van het ritkaarttarief. De Ritkaart is geldig voor een enkele rit zonder overstap. De Ritkaart is niet geldig op de Transferiumbussen en de Nightliners.
B31: Ritkaartje (CT voorverkoop) | C31: 8034 | D31: 8034 | E31: 6.22 | F31: 4.24 | G31: 4.38 | H31: 4.46 | J31: 4.59 | K31: ='Z-BW'!K36 -> 4.8 | L31: =K31 -> 4.8 | N31: ja | O31: nee | P31: ja | Q31: nee | R31: nee | S31: nee | T31: nee
B32: Dalurendagkaartje | C32: nvt | D32: nvt | E32: 6.22 | F32: 6.63 | G32: 6.84 | H32: 6.97 | J32: 7.18 | K32: ='Z-BW'!K39 -> 7.55 | L32: =K32 -> 7.55 | N32: nee | O32: nee | P32: nee | Q32: ja | R32: nee | S32: nee | T32: nee | Z32: Het tarief voor de Dalurendagkaart is € 7,55. Deze kaart is geldig van maandag t/m vrijdag vanaf 09.00 tot einde dienstregeling. De kaart is de hele dag geldig op: zaterdagen en zondagen, werkdagen in de maanden juli en augustus, Nieuwjaarsdag, Goede Vrijdag, Tweede Paasdag, Koningsdag, Hemelvaartsdag, de dag na Hemelvaartsdag, Tweede Pinksterdag en van 25 tot en met 31 december. De Dalurendagkaart is niet geldig op de Nightliners en Transferiumbussen.
B33: Dalurendagkaartje (CT voorverkoop) | C33: 8046 | D33: 8046 | E33: 6.22 | F33: 6.63 | G33: 6.84 | H33: 6.97 | J33: 7.18 | K33: ='Z-BW'!K42 -> 7.55 | L33: =K33 -> 7.55 | N33: ja | O33: nee | P33: ja | Q33: nee | R33: nee | S33: nee | T33: nee
B34: Stadskaartje (CT voorverkoop) | C34: 8160 | D34: 8160 | G34: nvt | J34: 4.59 | K34: ='Z-BW'!K43 -> 4.97 | L34: =K34 -> 4.97 | N34: ja | R34: nee
B35: Stadskaartje | C35: nvt | D35: nvt | G35: 4.38 | H35: 4.46 | J35: 4.59 | K35: ='Z-BW'!K44 -> 4.97 | L35: =K35 -> 4.97 | R35: nee
B36: Ritkaartje Nightliner | C36: nvt | D36: nvt | E36: 6.22 | F36: 6.63 | G36: 6.84 | H36: 7 | J36: 7 | K36: ='Z-BW'!K45 -> 7.58 | L36: =K36 -> 7.58 | N36: nee | O36: nee | P36: nee | Q36: ja | R36: nee | S36: nee | T36: nee | Z36: Voor al het regionale nachtvervoer op vervoerrelaties binnen de OV-concessies West- en Oost-Brabant (de Nightliners) is een Ritkaart Nightliner beschikbaar voor reizigers die zonder OV-chipkaart of niet met OVpay willen reizen, met een tarief van € 7,58 Deze ritkaart is geldig voor één enkele rit, zonder overstap. De Retourkaart Nightliner kost € 11,37. Dit vervoerbewijs is geldig op de dag van afgifte van 09.00 uur tot 05.00 uur op de volgende dag.
B37: Retourkaartje Nightliner | C37: nvt | D37: nvt | E37: 6.22 | F37: 6.63 | G37: 6.84 | H37: 10 | J37: 10.3 | K37: ='Z-BW'!K46 -> 11.37 | L37: =K37 -> 11.37 | N37: nee | O37: nee | P37: nee | Q37: ja | R37: nee | S37: nee | T37: nee
B38: Rituitrijkaart | J38: 35 | K38: 35 | L38: =K38 -> 35 | N38: nee | O38: nee | P38: nee | Q38: nee | R38: ja | S38: nee | T38: nee | Z38: De vervoerders in de Brabantse OV-concessies voeren in hun assortiment de Rituitrijkaart. Reizigers hebben bij zwartrijden de keuze tussen een boete van € 50,00 plus € 4,00 administratiekosten of het direct betalen van een Rituitrijkaart. Het tarief van de Rituitrijkaart is € 35,00 en is geldig voor het afmaken van de beoogde rit.
B39: ='Z-BW'!B48 -> BRABANT E-ticket assortiment
B40: OV-Schoolticket Bravo voor groepen (max 26 incl. 1 begeleider) | C40: nvt | D40: nvt | E40: nvt | F40: 35 | G40: 35 | H40: 35 | J40: 35 | K40: ='Z-BW'!K49 -> 35 | L40: =K40 -> 35 | N40: nee | O40: nee | P40: nee | Q40: nee | R40: nee | S40: ja | T40: nee | Z40: Bravo OV-schoolticket is een reisproduct speciaal voor scholen en het tarief voor 2024 is € 35,00. Voor dat bedrag kan iedere schoolklas (maximaal 26 personen bestaande uit leerlingen van een basisschool of van een school voor voortgezet onderwijs en ten minste één begeleider) binnen de Brabantse OV-concessies reizen. Het OV-schoolticket geldt op werkdagen na 09.00 uur. De OV-schoolticket is niet geldig in de buurtbus, Transferiumbussen en nachtvervoer.
B41: BRENG lijn 99
B42: Acceptatie alle BRENG produkten | N42: ja | O42: nee | P42: nee | Q42: nee | R42: nee | S42: nee | T42: nee | Z42: Streeklijn 99 die een voorziening biedt op het traject Uden – Grave – Nederasselt – Nijmegen is een bestuurlijk geknipte lijn die deels tot de bevoegdheid hoort van de provincie Gelderland, namelijk het deeltraject Nederasselt – Nijmegen en deels tot de bevoegdheid van de provincie Noord-Brabant (deeltraject Uden Grave). De exploitatie van deze lijn wordt deels uitgevoerd door Breng (de vervoerder in dit deel van de provincie Gelderland) en deels door Arriva. Deze constellatie leidt tot een complexe en voor reizigers onduidelijke situatie op het gebied van de geldigheid van tarieven en vervoerbewijzen op deze lijn. Daarom is tussen de betrokken partijen afgesproken dat op deze lijn alle bussen van Breng en Arriva de Brabantse tarieven en de tarieven van de provincie Gelderland voeren. Dit betekent dat op lijn 99 naast Brabants assortiment ook OV-chipkaart-producten van het Tariefhuis Oost (Altijd Voordeel Oost Bus, Altijd Voordeel Oost Bus en Trein, Dal Voordeel Oost Bus, Dal Voordeel Oost Bus en Trein, Dal Vrij Oost Bus, Dal Vrij Oost Bus en Trein, Weekend Vrij Oost Bus en Weekend Vrij Oost Bus en Trein) en Breng Vrij zullen worden geaccepteerd. Verder geldt er voor de ritkaarten op deze lijn een tariefstaffel. Voor de relaties op het lijnsegment Grave-Uden geldt een ritkaarttarief.
...

Sheet ZZ-LB
B2: Regionale tarieven Limburg
B3: Productnaam | C3: Productnr | D3: Contract Tariff Id | E3: 2018 | F3: 2019 | G3: 2020 | H3: 01-07-2020 | I3: 44197 | J3: 44378 | K3: 2022 | L3: 2023 | M3: 1.7.23 | N3: 2024 | O3: Acceptatie OVC | P3: Verkoop Servicebalie OVC | Q3: Verkoop Servicebalie Overig | R3: DC Light | S3: DC 800 | T3: Verkoop ASSIST | U3: Verkoop Webshop
B4: Kilometertarief OV-chipkaart
B5: Kilometertarief bus | C5: nvt | D5: nvt | E5: 0.171 | F5: 0.181 | G5: 0.185 | I5: 0.186 | K5: 0.19040154 | L5: 0.204 | N5: 0.204 | O5: ja | P5: nvt | Q5: nvt | R5: nvt | S5: nvt | T5: ja | U5: nee
B6: Kilometertarief trein regionaal 2e klas | C6: nvt | D6: nvt | E6: 0.187 | F6: 0.198 | G6: 0.202 | I6: 0.205 | K6: 0.20596075 | L6: 0.22 | N6: 0.22 | O6: ja | P6: nvt | Q6: nvt | R6: nvt | S6: nvt | T6: ja | U6: nee
B7: Kilometertarief trein regionaal 1e klas | C7: nvt | D7: nvt | E7: 0.317 | F7: 0.335 | G7: 0.343 | I7: 0.346 | K7: 0.34880449 | L7: 0.373 | N7: 0.373 | O7: ja | P7: nvt | Q7: nvt | R7: nvt | S7: nvt | T7: ja | U7: nee
B8: Kilometertarief trein samenloop 2e klas | C8: nvt | D8: nvt | E8: 0.187 | F8: nvt | G8: nvt | H8: nvt | I8: nvt | J8: nvt | K8: nvt | L8: nvt | O8: ja | P8: nvt | Q8: nvt | R8: nvt | S8: nvt | T8: ja | U8: nee
B9: Kilometertarief trein samenloop 1e klas | C9: nvt | D9: nvt | E9: 0.317 | F9: nvt | G9: nvt | H9: nvt | I9: nvt | J9: nvt | K9: nvt | L9: nvt | O9: ja | P9: nvt | Q9: nvt | R9: nvt | S9: nvt | T9: ja | U9: nee
B10: Kilometertarief SAN lijn 83 (Breng) naar Milsbeek Helweg | C10: nvt | D10: nvt | F10: 0.168 | G10: 0.17 | H10: 0.168 | I10: 0.17 | J10: 0.169 | L10: 0.186 | N10: 0.186 | O10: ja | P10: nvt | Q10: nvt | R10: nvt | S10: nvt | T10: nee | U10: nee
B11: Reisproducten OV-chipkaart maand (doorlopend)
B12: Sterabonnement Limburg Maand (vol tarief) 1-ster* | C12: 8705 | E12: 48.74 | F12: 51.55 | G12: 52.7 | I12: 53.18 | K12: 54.303872 | L12: 58.235472 | N12: 58.235472 | O12: ja | P12: ja | Q12: ja | R12: nvt | S12: nvt | T12: ja | U12: ja
B13: Sterabonnement Limburg Maand (vol tarief) 2-ster* | C13: 8705 | E13: 79.99383 | F13: 84.59 | G13: 86.48 | I13: 87.27 | K13: 89.116935 | L13: 95.569001 | N13: 95.569001 | O13: ja | P13: ja | Q13: ja | R13: nvt | S13: nvt | T13: ja | U13: ja
B14: Sterabonnement Limburg Maand (vol tarief) 3-ster* | C14: 8705 | E14: 118.92888 | F14: 125.77 | G14: 128.57 | I14: 129.74 | K14: 132.49243 | L14: 142.08489 | N14: 142.08489 | O14: ja | P14: ja | Q14: ja | R14: nvt | S14: nvt | T14: ja | U14: ja
B15: Sterabonnement Limburg Maand (vol tarief) 4-ster* | C15: 8705 | E15: 158.26845 | F15: 167.37 | G15: 171.1 | I15: 172.66 | K15: 176.31859 | L15: 189.08405 | N15: 189.08405 | O15: ja | P15: ja | Q15: ja | R15: nvt | S15: nvt | T15: ja | U15: ja
B16: Sterabonnement Limburg Maand (vol tarief) 5-ster* | C16: 8705 | E16: 197.2035 | F16: 208.54 | G16: 213.19 | I16: 215.13 | K16: 219.69409 | L16: 235.59994 | N16: 235.59994 | O16: ja | P16: ja | Q16: ja | R16: nvt | S16: nvt | T16: ja | U16: ja
B17: Sterabonnement Limburg Maand (vol tarief) 6-ster* | C17: 8705 | E17: 236.23968 | F17: 249.82 | G17: 255.39 | I17: 257.72 | K17: 263.18225 | L17: 282.23664 | N17: 282.23664 | O17: ja | P17: ja | Q17: ja | R17: nvt | S17: nvt | T17: ja | U17: ja
B18: Sterabonnement Limburg Maand (reductietarief) 1-ster* | C18: 8705 | E18: 32.15934 | F18: 34.01 | G18: 34.77 | I18: 35.08 | K18: 35.827036 | L18: 38.420913 | N18: 38.420913 | O18: ja | P18: ja | Q18: ja | R18: nvt | S18: nvt | T18: ja | U18: ja
B19: Sterabonnement Limburg Maand (reductietarief) 2-ster* | C19: 8705 | E19: 52.78986 | F19: 55.83 | G19: 57.07 | I19: 57.59 | K19: 58.810417 | L19: 63.068291 | N19: 63.068291 | O19: ja | P19: ja | Q19: ja | R19: nvt | S19: nvt | T19: ja | U19: ja
B20: Sterabonnement Limburg Maand (reductietarief) 3-ster* | C20: 8705 | E20: 78.47688 | F20: 82.99 | G20: 84.84 | I20: 85.61 | K20: 87.42698 | L20: 93.756694 | N20: 93.756694 | O20: ja | P20: ja | Q20: ja | R20: nvt | S20: nvt | T20: ja | U20: ja
B21: Sterabonnement Limburg Maand (reductietarief) 4-ster* | C21: 8705 | E21: 104.46729 | F21: 110.47 | G21: 112.94 | I21: 113.97 | K21: 116.38153 | L21: 124.80756 | N21: 124.80756 | O21: ja | P21: ja | Q21: ja | R21: nvt | S21: nvt | T21: ja | U21: ja
B22: Sterabonnement Limburg Maand (reductietarief) 5-ster* | C22: 8705 | E22: 130.15431 | F22: 137.64 | G22: 140.71 | I22: 141.99 | K22: 144.9981 | L22: 155.49596 | N22: 155.49596 | O22: ja | P22: ja | Q22: ja | R22: nvt | S22: nvt | T22: ja | U22: ja
B23: Sterabonnement Limburg Maand (reductietarief) 6-ster* | C23: 8705 | E23: 155.94246 | F23: 164.91 | G23: 168.59 | I23: 170.12 | K23: 173.72732 | L23: 186.30518 | N23: 186.30518 | O23: ja | P23: ja | Q23: ja | R23: nvt | S23: nvt | T23: ja | U23: ja
B24: Dal Vrij Senioren (65+) Bus | C24: 8065 | D24: 8069 | E24: vervalt per 1-1-2018 | G24: 0 | H24: 0 | I24: 0 | J24: 0 | K24: 0 | L24: 0 | N24: 0 | O24: nvt | P24: nvt | Q24: nvt | R24: nvt | S24: nvt | T24: nvt | U24: nvt
B25: Dal Vrij Senioren (65+) Trein en Bus | C25: 8070 | D25: 8074 | E25: vervalt per 1-1-2018 | G25: 0 | H25: 0 | I25: 0 | J25: 0 | K25: 0 | L25: 0 | N25: 0 | O25: nvt | P25: nvt | Q25: nvt | R25: nvt | S25: nvt | T25: nvt | U25: nvt
B26: Dal Vrij Afgestudeerden Bus | C26: 8065 | D26: 8068 | E26: vervalt per 1-1-2018 | G26: 0 | H26: 0 | I26: 0 | J26: 0 | K26: 0 | L26: 0 | N26: 0 | O26: nvt | P26: nvt | Q26: nvt | R26: nvt | S26: nvt | T26: nvt | U26: nvt
B27: Dal Vrij Afgestudeerden Trein en Bus | C27: 8070 | D27: 8073 | E27: vervalt per 1-1-2018 | G27: 0 | H27: 0 | I27: 0 | J27: 0 | K27: 0 | L27: 0 | N27: 0 | O27: nvt | P27: nvt | Q27: nvt | R27: nvt | S27: nvt | T27: nvt | U27: nvt
B28: P&R Maastricht Altijd Vrij | C28: 8105 | E28: 25 | F28: 25 | G28: 27.05 | I28: 27.25 | K28: 27.85 | L28: 29.85 | N28: 29.85 | O28: ja | P28: ja | Q28: ja | R28: nvt | S28: nvt | T28: ja | U28: ja
B29: Arriva Traject Vrij Maand | C29: 8090 | D29: 8090 | E29: prijs afhankelijk van traject | F29: prijs afhankelijk van traject | G29: prijs afhankelijk van traject | H29: prijs afhankelijk van traject | I29: prijs afhankelijk van traject | J29: prijs afhankelijk van traject | K29: prijs afhankelijk van traject | L29: prijs afhankelijk van traject | N29: prijs afhankelijk van traject | O29: ja | P29: ja | Q29: ja | R29: nvt | S29: nvt | T29: ja | U29: ja
B30: Reisproducten OV-chipkaart jaar of onbepaalde tijd
B31: Dal Voordeel Limburg (a-kaart) | C31: 8700 | D31: 8700 | E31: 18 | F31: 17 | G31: 18 | I31: 18 | K31: nvt | L31: 19 | N31: 19 | O31: ja | P31: ja | Q31: ja | R31: nvt | S31: nvt | T31: ja | U31: ja
B32: Dal Voordeel Limburg (kind) | C32: 8700 | D32: 8701 | E32: 18 | F32: 17 | G32: 18 | I32: 18 | K32: nvt | L32: 19 | N32: 19 | O32: ja | P32: ja | Q32: ja | R32: nvt | S32: nvt | T32: ja | U32: ja
B33: Dal Voordeel Limburg (tiener) | C33: 8700 | D33: 8702 | E33: 18 | F33: 17 | G33: 18 | I33: 18 | K33: nvt | L33: 19 | N33: 19 | O33: ja | P33: ja | Q33: ja | R33: nvt | S33: nvt | T33: ja | U33: ja
B34: Dal Voordeel Limburg (volwassen) | C34: 8700 | D34: 8703 | E34: 18 | F34: 17 | G34: 18 | I34: 18 | K34: nvt | L34: 19 | N34: 19 | O34: ja | P34: ja | Q34: ja | R34: nvt | S34: nvt | T34: ja | U34: ja
B35: Dal Voordeel Limburg (senior) | C35: 8700 | D35: 8704 | E35: 18 | F35: 17 | G35: 18 | I35: 18 | K35: nvt | L35: 19 | N35: 19 | O35: ja | P35: ja | Q35: ja | R35: nvt | S35: nvt | T35: ja | U35: ja
B36: Sterabonnement Limburg Jaar (vol tarief) 1-ster* | C36: 8710 | E36: 487.4466 | F36: 515.47 | G36: 526.97 | I36: 531.77 | K36: 543.03872 | L36: 582.35472 | N36: 582.35472 | O36: ja | P36: ja | Q36: ja | R36: nvt | S36: nvt | T36: ja | U36: ja
B37: Sterabonnement Limburg Jaar (vol tarief) 2-ster* | C37: 8710 | E37: 799.9383 | F37: 845.93 | G37: 864.8 | I37: 872.67 | K37: 891.16935 | L37: 955.69001 | N37: 955.69001 | O37: ja | P37: ja | Q37: ja | R37: nvt | S37: nvt | T37: ja | U37: ja
B38: Sterabonnement Limburg Jaar (vol tarief) 3-ster* | C38: 8710 | E38: 1189.2888 | F38: 1257.67 | G38: 1285.72 | I38: 1297.42 | K38: 1324.9243 | L38: 1420.8489 | N38: 1420.8489 | O38: ja | P38: ja | Q38: ja | R38: nvt | S38: nvt | T38: ja | U38: ja
B39: Sterabonnement Limburg Jaar (vol tarief) 4-ster* | C39: 8710 | E39: 1582.6845 | F39: 1673.69 | G39: 1711.01 | I39: 1726.58 | K39: 1763.1859 | L39: 1890.8405 | N39: 1890.8405 | O39: ja | P39: ja | Q39: ja | R39: nvt | S39: nvt | T39: ja | U39: ja
B40: Sterabonnement Limburg Jaar (vol tarief) 5-ster* | C40: 8710 | E40: 1972.035 | F40: 2085.43 | G40: 2131.93 | I40: 2151.33 | K40: 2196.9409 | L40: 2355.9994 | N40: 2355.9994 | O40: ja | P40: ja | Q40: ja | R40: nvt | S40: nvt | T40: ja | U40: ja
B41: Sterabonnement Limburg Jaar (vol tarief) 6-ster* | C41: 8710 | E41: 2362.3968 | F41: 2498.23 | G41: 2553.95 | I41: 2577.19 | K41: 2631.8225 | L41: 2822.3664 | N41: 2822.3664 | O41: ja | P41: ja | Q41: ja | R41: nvt | S41: nvt | T41: ja | U41: ja
...

Sheet O-VD
B2: Regionale tarieven Vechtdal
B3: Productnaam | C3: Productnr | D3: Contract Tariff Id | E3: 2018 | F3: 2019 | G3: 2020 | H3: 2021 | I3: 2022 | J3: 2023 | K3: 2024 | L3: Acceptatie OVC | M3: Verkoop POS/quarto | N3: Verkoop Backoffice | O3: Verkoop Webshop
B4: Kilometertarief OV-chipkaart
