Workbook
Name BESTAND: '[1]Opbr N-1'!#REF!
Name d: '[1]Opbr N-1'!#REF!
Name EURO: '[1]Opbr N-1'!#REF!

Sheet Z-BW
C2: “Verkoop Servicebalie OVC” betreft OV-Chip producten die op een OV-Chipkaart worden geschreven.
C3: “Verkoop Servicebalie Overig” betreft alle overige producten: CT-kaarten, papieren kaartjes etc.
C4: “Verkoop Backoffice” betreft verkoop van OV-Chip producten via Assist/klantenservice (backoffice).
B6: Regionale tarieven Brabant West | W6: Voorwaarden
B7: Productnaam | C7: Productnr | D7: Contract Tariff Id | E7: 2017 | F7: 2018 | G7: 2019 | H7: 2020 | I7: 2021 | J7: 2022 def | K7: 2023 | L7: 2024 | M7: 2025 | N7: 2026 | O7: Acceptatie OVC | P7: Verkoop Servicebalie OVC | Q7: Verkoop Servicebalie Overig | R7: DC Light | S7: Handheld Toezichthouder | T7: Verkoop Backoffice | U7: Verkoop Webshop | W7: Geldigheid (dal/spits) | X7: Modaliteit (trein/(buurtbus)/HOV) | Y7: Leeftijd (65+/kind/etc) | Z7: Gebied (landelijk/1 regio of meer) | AA7: Productvoorwaarden
B8: BRABANT OV-chipkaart en OVpay
B9: Kilometertarief | C9: nvt | D9: nvt | E9: 0.151 | F9: 0.157 | G9: 0.167 | H9: 0.172 | I9: 0.17542151 | J9: 0.181 | K9: 0.188 | L9: =K9 -> 0.188 | M9: 0.194 | N9: 0.202 | O9: ja | P9: nee | Q9: nee | R9: nee | S9: nee | T9: nee | U9: nee
B10: Bravo Flex Bergen op Zoom lijn 820 flatfare van/naar station. | C10: nvt | D10: nvt | H10: 1.5 | I10: 1.5 | J10: 1.5 | K10: 1.5 | L10: =K10 -> 1.5 | M10: gestopt | O10: ja | P10: nee | Q10: nee | R10: nee | S10: nee | T10: nee | U10: nee
B11: Bravo Flex Bergen op Zoom lijn 820 flatfare kris kras | C11: n.v.t. | D11: nvt | H11: 1.5 | J11: 3.5 | K11: 3.5 | L11: =K11 -> 3.5 | M11: gestopt | O11: ja | P11: nee | Q11: nee | R11: nee | S11: nee | T11: nee | U11: nee
B12: BARABANT Reisproducten OV-chipkaart maand
B13: Brabant Jeugd maandabonnement 12 t/m 18 jarigen | C13: 1586 | D13: 1586 | E13: 87.6 | F13: 89.45 | G13: 95.47 | H13: 98.55 | I13: 100.44 | J13: 103.57 | K13: 112.1 | L13: =K13 -> 112.1 | M13: 115.85 | N13: 120 | O13: ja | P13: ja | Q13: nee | R13: nee | S13: nee | T13: ja | U13: ja | AA13: Personen van 12 tot en met 18 jaar kunnen voor € 115,85 per maand een abonnement voor busvervoer verkrijgen. Dit abonnement is te laden op een persoonlijke OV-chipkaart en geeft vrij reisrecht in het Brabantse stads- en streekvervoer gedurende alle dagen van de betreffende maand. Het abonnement is niet geldig op de Nightliner, Transferiumbussen en de Arriva buslijn 165/166 (Gelderland: ’s-Hertogenbosch-Druten). Het is wel geldig op de Arriva/Breng-buslijn 99 (Nijmegen-Grave). NB: Het Jeugdabonnement wordt door Arriva zakelijk met maximaal 34% korting geboden aan Jeugdspelers bij voetbalclub NAC Breda, Willem II en FC Den Bosch.
B14: Brabant Altijd Vrij Anoniem | C14: 8020 | D14: 8020 | E14: 116.4 | F14: 118.9 | G14: 126.91 | H14: 131.01 | I14: 133.52 | J14: 137.68 | K14: 149.03 | L14: =K14 -> 149.03 | M14: 154 | N14: 160 | O14: ja | P14: ja | Q14: nee | R14: nee | S14: nee | T14: ja | U14: nee | AA14: Brabant Altijd Vrij biedt onbeperkt reizen in de Brabantse OV-concessies voor een vast bedrag. De prijs van het product bedraagt € 149,03 per maand en € 1.490,27 per jaar. Het OV-chipkaartproduct is niet geldig op de Nightliner, de Transferiumbussen en de Arriva-buslijn 165/166 (Gelderland: ’s-Hertogenbosch- Druten). Het is wel geldig op de Arriva/Breng buslijn 99 (Nijmegen-Grave).
B15: Brabant Altijd Vrij Kind | C15: 8020 | D15: 8021 | E15: 116.4 | F15: 118.9 | G15: 126.91 | H15: 131.01 | I15: 133.52 | J15: 137.68 | K15: =K14 -> 149.03 | L15: =K15 -> 149.03 | M15: 154 | N15: 160 | O15: ja | P15: ja | Q15: nee | R15: nee | S15: nee | T15: ja | U15: ja
B16: Brabant Altijd Vrij Tiener | C16: 8020 | D16: 8022 | E16: 116.4 | F16: 118.9 | G16: 126.91 | H16: 131.01 | I16: 133.52 | J16: 137.68 | K16: =K15 -> 149.03 | L16: =K16 -> 149.03 | M16: 154 | N16: 160 | O16: ja | P16: ja | Q16: nee | R16: nee | S16: nee | T16: ja | U16: ja
B17: Brabant Altijd Vrij Volwassen | C17: 8020 | D17: 8023 | E17: 116.4 | F17: 118.9 | G17: 126.91 | H17: 131.01 | I17: 133.52 | J17: 137.68 | K17: =K16 -> 149.03 | L17: =K17 -> 149.03 | M17: 154 | N17: 160 | O17: ja | P17: ja | Q17: nee | R17: nee | S17: nee | T17: ja | U17: ja
B18: Brabant Altijd Vrij Senior | C18: 8020 | D18: 8024 | E18: 116.4 | F18: 118.9 | G18: 126.91 | H18: 131.01 | I18: 133.52 | J18: 137.68 | K18: =K17 -> 149.03 | L18: =K18 -> 149.03 | M18: 154 | N18: 160 | O18: ja | P18: ja | Q18: nee | R18: nee | S18: nee | T18: ja | U18: ja
B19: BRABANT Reisproducten OV-chipkaart kwartaal
B20: Winterschoolliner 5 maanden | E20: nvt | F20: nvt | J20: 401.76 | K20: vervallen | L20: n.v.t. | O20: nee | P20: nee | Q20: nee | R20: nee | T20: nee | U20: nee
B21: BRABANT Reisproducten OV-chipkaart jaar of onbepaalde tijd
B22: Brabant Dalkorting Kind | C22: 1580 | D22: 1582 | E22: 11.7 | F22: 11.95 | G22: 12.74 | H22: 13.15 | I22: 13.4 | J22: 13.82 | K22: 14.96 | L22: =K22 -> 14.96 | M22: 15.46 | N22: 16 | O22: ja | P22: ja | Q22: nee | R22: nee | S22: nee | T22: ja | U22: ja
B23: Brabant Dalkorting Jeugd | C23: 1580 | D23: 1583 | E23: 11.7 | F23: 11.95 | G23: 12.74 | H23: 13.15 | I23: 13.4 | J23: 13.82 | K23: 14.96 | L23: =K23 -> 14.96 | M23: 15.46 | N23: 16 | O23: ja | P23: ja | Q23: nee | R23: nee | S23: nee | T23: ja | U23: ja
B24: Brabant Dalkorting Volwassen | C24: 1580 | D24: 1584 | E24: 11.7 | F24: 11.95 | G24: 12.74 | H24: 13.15 | I24: 13.4 | J24: 13.82 | K24: 14.96 | L24: =K24 -> 14.96 | M24: 15.46 | N24: 16 | O24: ja | P24: ja | Q24: nee | R24: nee | S24: nee | T24: ja | U24: ja
B25: Brabant Dalkorting Senior | C25: 1580 | D25: 1585 | E25: 11.7 | F25: 11.95 | G25: 12.74 | H25: 13.15 | I25: 13.4 | J25: 13.82 | K25: 14.96 | L25: =K25 -> 14.96 | M25: 15.46 | N25: 16 | O25: ja | P25: ja | Q25: nee | R25: nee | S25: nee | T25: ja | U25: ja
B26: Brabant Altijd Vrij Anoniem | C26: 8025 | D26: 8025 | E26: 1164 | F26: 1189 | G26: 1269.1 | H26: 1310.14 | I26: 1335.17 | J26: 1376.82 | K26: 1490.27 | L26: =K26 -> 1490.27 | M26: 1540.05 | N26: 1600 | O26: ja | P26: ja | Q26: nee | R26: nee | S26: nee | T26: ja | U26: nee
B27: Brabant Altijd Vrij Kind | C27: 8025 | D27: 8026 | E27: 1164 | F27: 1189 | G27: 1269.1 | H27: 1310.14 | I27: 1335.17 | J27: 1376.82 | K27: =K26 -> 1490.27 | L27: =K27 -> 1490.27 | M27: 1540.05 | N27: 1600 | O27: ja | P27: ja | Q27: nee | R27: nee | S27: nee | T27: ja | U27: ja
B28: Brabant Altijd Vrij jeugd | C28: 8025 | D28: 8027 | E28: 1164 | F28: 1189 | G28: 1269.1 | H28: 1310.14 | I28: 1335.17 | J28: 1376.82 | K28: =K27 -> 1490.27 | L28: =K28 -> 1490.27 | M28: 1540.05 | N28: 1600 | O28: ja | P28: ja | Q28: nee | R28: nee | S28: nee | T28: ja | U28: ja
B29: Brabant Altijd Vrij Volwassen | C29: 8025 | D29: 8028 | E29: 1164 | F29: 1189 | G29: 1269.1 | H29: 1310.14 | I29: 1335.17 | J29: 1376.82 | K29: =K28 -> 1490.27 | L29: =K29 -> 1490.27 | M29: 1540.05 | N29: 1600 | O29: ja | P29: ja | Q29: nee | R29: nee | S29: nee | T29: ja | U29: ja
B30: Brabant Altijd Vrij Senior | C30: 8025 | D30: 8029 | E30: 1164 | F30: 1189 | G30: 1269.1 | H30: 1310.14 | I30: 1335.17 | J30: 1376.82 | K30: =K29 -> 1490.27 | L30: =K30 -> 1490.27 | M30: 1540.05 | N30: 1600 | O30: ja | P30: ja | Q30: nee | R30: nee | S30: nee | T30: ja | U30: ja
B31: BRABANT Wagenverkoopassortiment + CT voorverkoop
B32: Ritkaartje | C32: 8820 | D32: nvt | E32: 3.98 | F32: 4.24 | G32: 4.24 | H32: 4.38 | I32: 4.46 | J32: 4.59 | K32: 4.8 | L32: =K32 -> 4.8 | M32: 4.96 | N32: 5.15 | O32: nee | P32: nee | Q32: nee | R32: ja | S32: nee | T32: nee | U32: nee | AA32: Het tarief van de Ritkaart bedraagt € 4,96. Voor de interregionale lijnen 310, 400 en 401 van de concessie West-Brabant geldt een staffel van het ritkaarttarief. De tarieven zijn afhankelijk van het deeltraject. De Ritkaart is geldig voor een enkele rit zonder overstap. De Ritkaart is niet geldig op de Transferiumbussen en de Nightliners.
B33: Ritkaartje middellang | C33: 8821 | D33: nvt | E33: 7.96 | F33: 8.48 | G33: 8.48 | H33: 8.76 | I33: 8.92 | J33: 9.18 | K33: =K32*2 -> 9.6 | L33: =K33 -> 9.6 | M33: 9.92 | N33: 10.3 | O33: nee | P33: nee | Q33: nee | R33: ja | S33: nee | T33: nee | U33: nee
B34: Ritkaartje lang | C34: 8822 | D34: nvt | E34: 11.94 | F34: 12.72 | G34: 12.72 | H34: 13.14 | I34: 13.38 | J34: 13.77 | K34: =K32*3 -> 14.4 | L34: =K34 -> 14.4 | M34: 14.88 | N34: 15.45 | O34: nee | P34: nee | Q34: nee | R34: ja | S34: nee | T34: nee | U34: nee
B35: Ritkaartje (CT voorverkoop tegen contante betaling bij OV Servicepunten en VVV-kantoren). | C35: 8034 | D35: 8034 | E35: 6.22 | F35: 4.24 | G35: 4.24 | H35: 4.38 | I35: 4.46 | J35: 4.59 | K35: =K32 -> 4.8 | L35: =K35 -> 4.8 | M35: 4.96 | N35: 5.15 | O35: ja | P35: nee | Q35: ja | R35: nee | S35: nee | T35: nee | U35: nee
B36: Ritkaartje Kids Vrij | C36: 8671 | D36: nvt | E36: 3.98 | F36: 4.24 | G36: 4.24 | H36: 4.38 | I36: 4.46 | J36: 4.59 | K36: 4.8 | L36: 0 | M36: 0 | O36: nee | P36: nee | Q36: nee | R36: ja | S36: nee | T36: nee | U36: nee
B37: Dalurendagkaartje | C37: 8823 | D37: nvt | E37: 6.22 | F37: 6.63 | G37: 6.63 | H37: 6.84 | I37: 6.97 | J37: 7.18 | K37: 7.55 | L37: =K37 -> 7.55 | M37: 7.8 | N37: 8.1 | O37: nee | P37: nee | Q37: nee | R37: ja | S37: nee | T37: nee | U37: nee | AA37: Het tarief voor de Dalurendagkaart is € 7,80. Deze kaart is geldig van maandag t/m vrijdag vanaf 09.00 tot einde dienstregeling. De kaart is de hele dag geldig op: zaterdagen en zondagen, werkdagen in de maanden juli en augustus, Nieuwjaarsdag, Goede Vrijdag, Tweede Paasdag, Koningsdag, Hemelvaartsdag, de dag na Hemelvaartsdag, Tweede Pinksterdag en van 25 tot en met 31 december. De Dalurendagkaart is niet geldig op de Nightliners en Transferiumbussen. Voor de interregionale lijnen 310, 400 en 401 van de concessie West-Brabant geldt een staffel van het Dalurendagkaarttarief. De tarieven zijn afhankelijk van het deeltraject.
B38: Dalurendagkaartje middellang | C38: 8835 | D38: nvt | E38: 12.44 | F38: 13.25 | G38: 13.25 | H38: 13.68 | I38: 13.94 | J38: 14.36 | K38: =K37*2 -> 15.1 | L38: =K38 -> 15.1 | M38: 15.6 | N38: 16.2 | O38: nee | P38: nee | Q38: nee | R38: ja | S38: nee | T38: nee | U38: nee
B39: Dalurendagkaartje lang | C39: 8605 | D39: nvt | E39: 12.44 | F39: 13.25 | G39: nvt | H39: nvt | I39: 20.91 | J39: 21.54 | K39: =K37*3 -> 22.65 | L39: =K39 -> 22.65 | M39: 23.4 | N39: 24.3 | O39: nee | P39: nee | Q39: nee | R39: ja | S39: nee | T39: nee | U39: nee
B40: Dalurendagkaartje CT voorverkoop tegen contante betaling bij OV Servicepunten en VVV-kantoren). | C40: 8046 | D40: 8046 | E40: 6.22 | F40: 6.63 | G40: 6.63 | H40: 6.84 | I40: 6.97 | J40: 7.18 | K40: =K37 -> 7.55 | L40: =K40 -> 7.55 | M40: 7.8 | N40: 8.1 | O40: ja | P40: nee | Q40: ja | R40: nee | S40: nee | T40: nee | U40: nee
B41: Stadskaartje (CT voorverkoop) | C41: 8160 | D41: 8160 | H41: nvt | J41: 4.59 | K41: 4.97 | L41: =K41 -> 4.97 | S41: nee
B42: Stadskaartje | C42: nvt | D42: nvt | G42: 3 | H42: 4.38 | I42: 4.46 | J42: 4.59 | K42: 4.97 | L42: =K42 -> 4.97 | S42: nee
B43: Ritkaartje Nightliner | C43: nvt | D43: nvt | E43: 6.22 | F43: 6.63 | G43: 6.63 | H43: 6.84 | I43: 7 | J43: 7 | K43: 7.58 | L43: =K43 -> 7.58 | M43: 7.83 | O43: nee | P43: nee | Q43: nee | R43: ja | S43: nee | T43: nee | U43: nee | AA43: Voor al het regionale nachtvervoer op vervoerrelaties binnen de OV-concessies West- en Oost-Brabant (de Nightliners) is een Ritkaart Nightliner beschikbaar voor reizigers die zonder OV-chipkaart of niet met OVpay willen reizen, met een tarief van € 7,83. Deze ritkaart is geldig voor één enkele rit, zonder overstap. De Retourkaart Nightliner kost € 11,74. Dit vervoerbewijs is geldig op de dag van afgifte van 09.00 uur tot 05.00 uur op de volgende dag.
B44: Retourkaartje Nightliner | C44: nvt | D44: nvt | E44: 6.22 | F44: 6.63 | G44: 6.63 | H44: 6.84 | I44: 10 | J44: 10.3 | K44: 11.37 | L44: =K44 -> 11.37 | M44: 11.74 | O44: nee | P44: nee | Q44: nee | R44: ja | S44: nee | T44: nee | U44: nee
B45: Rituitrijkaart | C45: nvt | D45: nvt | J45: 35 | K45: 35 | L45: =K45 -> 35 | M45: 35 | N45: 50 | O45: nee | P45: nee | Q45: nee | R45: nee | S45: ja | T45: nee | U45: nee | AA45: De vervoerders in de Brabantse OV-concessies voeren in hun assortiment de Rituitrijkaart. Reizigers hebben bij zwartrijden de keuze tussen een boete van € 50,00 plus € 4,00 administratiekosten of het direct betalen van een Rituitrijkaart. Het tarief van de Rituitrijkaart is € 35,00 en is geldig voor het afmaken van de beoogde rit.
B46: BRABANT E-ticket assortiment
B47: Bravo OV-Schoolticket voor groepen (max 26 incl. 1 begeleider) | C47: nvt | D47: nvt | E47: nvt | G47: 35 | H47: 35 | I47: 35 | J47: 35 | K47: 35 | L47: =K47 -> 35 | M47: 35 | N47: 35 | O47: nee | P47: nee | Q47: nee | R47: nee | S47: nee | T47: ja | U47: nee | AA47: Bravo OV-schoolticket is een reisproduct speciaal voor scholen en het tarief voor 2024 is € 35,- . Voor dat bedrag kan iedere schoolklas (maximaal 26 personen bestaande uit leerlingen van een basisschool of van een school voor voortgezet onderwijs en ten minste één begeleider) binnen de Brabantse OV-concessies reizen. Het OV-schoolticket geldt op werkdagen na 09.00 uur. De OV-schoolticket is niet geldig in de buurtbus, Transferiumbussen en nachtvervoer.

Sheet Z-BO
O3: “Verkoop Servicebalie OVC” betreft OV-Chip producten die op een OV-Chipkaart worden geschreven.
O4: “Verkoop Servicebalie Overig” betreft alle overige producten: CT-kaarten, papieren kaartjes etc.
O5: “Verkoop Backoffice” betreft verkoop van OV-Chip producten via Assist/klantenservice (backoffice).
B6: Regionale tarieven Brabant Oost | W6: Voorwaarden
B7: Productnaam | C7: Productnr | D7: Contract Tariff Id | E7: 2018 | F7: 2019 | G7: 2020 | H7: 44197 | I7: 44378 | J7: 2022 niet definitief | K7: 2023 | L7: 2024 | M7: 2025 | N7: 2026 | O7: Acceptatie OVC | P7: Verkoop Servicebalie OVC | Q7: Verkoop Servicebalie Overig | R7: DC Light | S7: Handheld Toezichthouder | T7: Verkoop Backoffice | U7: Verkoop Webshop | W7: Geldigheid (dal/spits) | X7: Modaliteit (trein/(buurtbus)/HOV) | Y7: Leeftijd (65+/kind/etc) | Z7: Gebied (landelijk/1 regio of meer)
B8: ='Z-BW'!B8 -> BRABANT OV-chipkaart en OVpay
B9: Kilometertarief | C9: nvt | D9: nvt | E9: 0.157 | F9: 0.167 | G9: 0.172 | H9: 0.17542151 | J9: 0.181 | K9: ='Z-BW'!K9 -> 0.188 | L9: =K9 -> 0.188 | M9: 0.194 | N9: 0.202 | O9: ja | P9: nee | Q9: nee | R9: nee | S9: nee | T9: nee | U9: nee
B10: Tranferiumbussen Den Bosch (geen OV-chipkaart afrekening lijn 760,770,780) | L10: n.v.t. | M10: n.v.t. | N10: n.v.t.
B11: ='Z-BW'!B12 -> BARABANT Reisproducten OV-chipkaart maand
B12: Brabant Jeugd maandabonnement 12 t/m 18 jarigen | C12: 1586 | D12: 1586 | E12: 89.45 | F12: 95.47 | G12: 98.55 | H12: 100.44 | J12: 103.57 | K12: ='Z-BW'!K13 -> 112.1 | L12: =K12 -> 112.1 | M12: 115.85 | N12: 120 | O12: ja | P12: ja | Q12: nee | R12: nee | S12: nee | T12: ja | U12: ja
B13: Brabant Altijd Vrij Anoniem | C13: 8020 | D13: 8020 | E13: 118.9 | F13: 126.91 | G13: 131.01 | H13: 133.52 | J13: 137.68 | K13: ='Z-BW'!K14 -> 149.03 | L13: =K13 -> 149.03 | M13: 154 | N13: 160 | O13: ja | P13: ja | Q13: nee | R13: nee | S13: nee | T13: ja | U13: nee
B14: Brabant Altijd Vrij Kind | C14: 8020 | D14: 8021 | E14: 118.9 | F14: 126.91 | G14: 131.01 | H14: 133.52 | J14: 137.68 | K14: ='Z-BW'!K15 -> 149.03 | L14: =K14 -> 149.03 | M14: 154 | N14: 160 | O14: ja | P14: ja | Q14: nee | R14: nee | S14: nee | T14: ja | U14: ja
B15: Brabant Altijd Vrij jeugd | C15: 8020 | D15: 8022 | E15: 118.9 | F15: 126.91 | G15: 131.01 | H15: 133.52 | J15: 137.68 | K15: ='Z-BW'!K16 -> 149.03 | L15: =K15 -> 149.03 | M15: 154 | N15: 160 | O15: ja | P15: ja | Q15: nee | R15: nee | S15: nee | T15: ja | U15: ja
B16: Brabant Altijd Vrij Volwassen | C16: 8020 | D16: 8023 | E16: 118.9 | F16: 126.91 | G16: 131.01 | H16: 133.52 | J16: 137.68 | K16: ='Z-BW'!K17 -> 149.03 | L16: =K16 -> 149.03 | M16: 154 | N16: 160 | O16: ja | P16: ja | Q16: nee | R16: nee | S16: nee | T16: ja | U16: ja
B17: Brabant Altijd Vrij Senior | C17: 8020 | D17: 8024 | E17: 118.9 | F17: 126.91 | G17: 131.01 | H17: 133.52 | J17: 137.68 | K17: ='Z-BW'!K18 -> 149.03 | L17: =K17 -> 149.03 | M17: 154 | N17: 160 | O17: ja | P17: ja | Q17: nee | R17: nee | S17: nee | T17: ja | U17: ja
B18: ='Z-BW'!B21 -> BRABANT Reisproducten OV-chipkaart jaar of onbepaalde tijd
B19: Brabant Dalkorting Kind | C19: 1580 | D19: 1582 | E19: 11.95 | F19: 12.74 | G19: 13.15 | H19: 13.4 | J19: 13.82 | K19: ='Z-BW'!K22 -> 14.96 | L19: =K19 -> 14.96 | M19: 15.46 | N19: 16 | O19: ja | P19: ja | Q19: nee | R19: nee | S19: nee | T19: ja | U19: ja
B20: Brabant Dalkorting Jeugd | C20: 1580 | D20: 1583 | E20: 11.95 | F20: 12.74 | G20: 13.15 | H20: 13.4 | J20: 13.82 | K20: ='Z-BW'!K23 -> 14.96 | L20: =K20 -> 14.96 | M20: 15.46 | N20: 16 | O20: ja | P20: ja | Q20: nee | R20: nee | S20: nee | T20: ja | U20: ja
B21: Brabant Dalkorting Volwassen | C21: 1580 | D21: 1584 | E21: 11.95 | F21: 12.74 | G21: 13.15 | H21: 13.4 | J21: 13.82 | K21: ='Z-BW'!K24 -> 14.96 | L21: =K21 -> 14.96 | M21: 15.46 | N21: 16 | O21: ja | P21: ja | Q21: nee | R21: nee | S21: nee | T21: ja | U21: ja
B22: Brabant Dalkorting Senior | C22: 1580 | D22: 1585 | E22: 11.95 | F22: 12.74 | G22: 13.15 | H22: 13.4 | J22: 13.82 | K22: ='Z-BW'!K25 -> 14.96 | L22: =K22 -> 14.96 | M22: 15.46 | N22: 16 | O22: ja | P22: ja | Q22: nee | R22: nee | S22: nee | T22: ja | U22: ja
B23: Brabant Altijd Vrij Anoniem | C23: 8025 | D23: 8025 | E23: 1189 | F23: 1269.1 | G23: 1310.14 | H23: 1335.17 | J23: 1376.82 | K23: ='Z-BW'!K26 -> 1490.27 | L23: =K23 -> 1490.27 | M23: 1540.05 | N23: 1600 | O23: ja | P23: ja | Q23: nee | R23: nee | S23: nee | T23: ja | U23: nee
B24: Brabant Altijd Vrij Kind | C24: 8025 | D24: 8026 | E24: 1189 | F24: 1269.1 | G24: 1310.14 | H24: 1335.17 | J24: 1376.82 | K24: ='Z-BW'!K27 -> 1490.27 | L24: =K24 -> 1490.27 | M24: 1540.05 | N24: 1600 | O24: ja | P24: ja | Q24: nee | R24: nee | S24: nee | T24: ja | U24: ja
B25: Brabant Altijd Vrij jeugd | C25: 8025 | D25: 8027 | E25: 1189 | F25: 1269.1 | G25: 1310.14 | H25: 1335.17 | J25: 1376.82 | K25: ='Z-BW'!K28 -> 1490.27 | L25: =K25 -> 1490.27 | M25: 1540.05 | N25: 1600 | O25: ja | P25: ja | Q25: nee | R25: nee | S25: nee | T25: ja | U25: ja
B26: Brabant Altijd Vrij Volwassen | C26: 8025 | D26: 8028 | E26: 1189 | F26: 1269.1 | G26: 1310.14 | H26: 1335.17 | J26: 1376.82 | K26: ='Z-BW'!K29 -> 1490.27 | L26: =K26 -> 1490.27 | M26: 1540.05 | N26: 1600 | O26: ja | P26: ja | Q26: nee | R26: nee | S26: nee | T26: ja | U26: ja
B27: Brabant Altijd Vrij Senior | C27: 8025 | D27: 8029 | E27: 1189 | F27: 1269.1 | G27: 1310.14 | H27: 1335.17 | J27: 1376.82 | K27: ='Z-BW'!K30 -> 1490.27 | L27: =K27 -> 1490.27 | M27: 1540.05 | N27: 1600 | O27: ja | P27: ja | Q27: nee | R27: nee | S27: nee | T27: ja | U27: ja
B28: ='Z-BW'!B31 -> BRABANT Wagenverkoopassortiment + CT voorverkoop
B29: Ritkaartje | C29: 8820 | D29: nvt | E29: 3.98 | F29: 4.24 | G29: 4.38 | H29: 4.46 | J29: 4.59 | K29: ='Z-BW'!K32 -> 4.8 | L29: =K29 -> 4.8 | M29: 4.96 | N29: 5.15 | O29: nee | P29: nee | Q29: nee | R29: ja | S29: nee | T29: nee | U29: nee
B30: Ritkaartje (CT voorverkoop tegen contante betaling bij OV Servicepunten en VVV-kantoren). | C30: 8034 | D30: 8034 | E30: 6.22 | F30: 4.24 | G30: 4.38 | H30: 4.46 | J30: 4.59 | K30: ='Z-BW'!K35 -> 4.8 | L30: =K30 -> 4.8 | M30: 4.96 | N30: 5.15 | O30: ja | P30: nee | Q30: ja | R30: nee | S30: nee | T30: nee | U30: nee
B31: Dalurendagkaartje | C31: 8823 | D31: nvt | E31: 6.22 | F31: 6.63 | G31: 6.84 | H31: 6.97 | J31: 7.18 | K31: ='Z-BW'!K37 -> 7.55 | L31: =K31 -> 7.55 | M31: 7.8 | N31: 8.1 | O31: nee | P31: nee | Q31: nee | R31: ja | S31: nee | T31: nee | U31: nee
B32: Dalurendagkaartje CT voorverkoop tegen contante betaling bij OV Servicepunten en VVV-kantoren). | C32: 8046 | D32: 8046 | E32: 6.22 | F32: 6.63 | G32: 6.84 | H32: 6.97 | J32: 7.18 | K32: ='Z-BW'!K40 -> 7.55 | L32: =K32 -> 7.55 | M32: 7.8 | N32: 8.1 | O32: ja | P32: nee | Q32: ja | R32: nee | S32: nee | T32: nee | U32: nee
B33: Ritkaartje Nightliner | C33: nvt | D33: nvt | E33: 6.22 | F33: 6.63 | G33: 6.84 | H33: 7 | J33: 7 | K33: ='Z-BW'!K43 -> 7.58 | L33: =K33 -> 7.58 | M33: 7.83 | O33: nee | P33: nee | Q33: nee | R33: ja | S33: nee | T33: nee | U33: nee
B34: Retourkaartje Nightliner | C34: nvt | D34: nvt | E34: 6.22 | F34: 6.63 | G34: 6.84 | H34: 10 | J34: 10.3 | K34: ='Z-BW'!K44 -> 11.37 | L34: =K34 -> 11.37 | M34: 11.74 | O34: nee | P34: nee | Q34: nee | R34: ja | S34: nee | T34: nee | U34: nee
B35: Rituitrijkaart | J35: 35 | K35: 35 | L35: =K35 -> 35 | M35: 35 | N35: 50 | O35: nee | P35: nee | Q35: nee | R35: nee | S35: ja | T35: nee | U35: nee
B36: ='Z-BW'!B46 -> BRABANT E-ticket assortiment
B37: Bravo OV-Schoolticket voor groepen (max 26 incl. 1 begeleider) | C37: nvt | D37: nvt | E37: nvt | F37: 35 | G37: 35 | H37: 35 | J37: 35 | K37: ='Z-BW'!K47 -> 35 | L37: =K37 -> 35 | M37: 35 | N37: 35 | O37: nee | P37: nee | Q37: nee | R37: nee | S37: nee | T37: ja | U37: nee
B38: BRENG gedeelde lijn 99
B39: Acceptatie alle BRENG en Oost produkten | O39: ja | P39: nee | Q39: nee | R39: nee | S39: nee | T39: nee | U39: nee
B40: KM tarief Breng (gewogen gemiddeld lijn 99 bepalen) | K40: 0.186 | L40: =K40 -> 0.186 | M40: 0.192 | N40: 0.199 | O40: ja | P40: nee | Q40: nee | R40: nee | S40: nee | T40: nee | U40: nee
B41: Breng ritkaartje 1* | K41: 2.6 | L41: =K41 -> 2.6 | M41: 2.7 | O41: nee | P41: nee | Q41: nee | R41: ja | S41: nee | T41: nee | U41: nee
B42: Breng ritkaartje 2* | K42: 5.2 | L42: =K42 -> 5.2 | M42: 5.4 | O42: nee | P42: nee | Q42: nee | R42: ja | S42: nee | T42: nee | U42: nee
B43: Breng ritkaartje 3* | K43: 7.8 | L43: =K43 -> 7.8 | M43: 8.1 | O43: nee | P43: nee | Q43: nee | R43: ja | S43: nee | T43: nee | U43: nee
B44: KM-tarief Breng vanaf 1 maart 2026 | N44: 0.209
B45: Breng Dagkaart Oost | K45: 13 | L45: =K45 -> 13 | M45: 13.5 | N45: 14 | O45: nee | P45: nee | Q45: nee | R45: ja | S45: nee | T45: nee | U45: nee
B46: Breng Meermanskaart | K46: 20 | L46: =K46 -> 20 | M46: 20.5 | N46: 21.5 | O46: nee | P46: nee | Q46: nee | R46: ja | S46: nee | T46: nee | U46: nee
B47: Breng Kidskaart Oost | K47: 1.25 | L47: =K47 -> 1.25 | M47: 1.3 | N47: 1.4 | O47: nee | P47: nee | Q47: nee | R47: ja | S47: nee | T47: nee | U47: nee
