Workbook

Sheet tariefeenheden
A1: Connexxion Valleilijn - Tariefeenheden t.b.v. ERET, Traject Vrij en chipkaart
A2: Geldig vanaf 1-1-2015
A4: stationsnaam | B4: stationsnaam | C4: te
A5: Amersfoort | B5: Hoevelaken | C5: 6
A6: =B5 -> Hoevelaken | B6: Barneveld Noord | C6: 10
A7: =B6 -> Barneveld Noord | B7: Barneveld Centrum | C7: 3
A8: =B7 -> Barneveld Centrum | B8: Barneveld Zuid | C8: 2
A9: Barneveld Zuid | B9: Lunteren | C9: =7-C8 -> 5 | D9: samen 7
A10: =B9 -> Lunteren | B10: Ede Centrum | C10: 6
A11: =B10 -> Ede Centrum | B11: Ede-Wageningen | C11: 2
C12: =SUM(C5:C11) -> 34

Sheet degressie en km-tarief
A1: Valleilijn berekening vol tarief 2e klas | D1: ingangsdatum | E1: 44197
A2: minimumprijs | C2: 2.8511
A3: km-tarief vanaf 9km | C3: 0.1931
A5: Tarief-eenheden | B5: degressiefactor | C5: tarief 2e klasse vol
A6: 0 | B6: 1 | C6: =$C$2 -> 2.8511
A7: 1 | B7: 1 | C7: =$C$2 -> 2.8511
A8: 2 | B8: 1 | C8: =$C$2 -> 2.8511
A9: 3 | B9: 1 | C9: =$C$2 -> 2.8511
A10: 4 | B10: 1 | C10: =$C$2 -> 2.8511
A11: 5 | B11: 1 | C11: =$C$2 -> 2.8511
A12: 6 | B12: 1 | C12: =$C$2 -> 2.8511
A13: 7 | B13: 1 | C13: =$C$2 -> 2.8511
A14: 8 | B14: 1 | C14: =$C$2 -> 2.8511
A15: 9 | B15: 1 | C15: =C14+$C$3*B15 -> 3.0442
A16: 10 | B16: 1 | C16: =C15+$C$3*B16 -> 3.2373
A17: 11 | B17: 1 | C17: =C16+$C$3*B17 -> 3.4304
A18: 12 | B18: 1 | C18: =C17+$C$3*B18 -> 3.6235
A19: 13 | B19: 1 | C19: =C18+$C$3*B19 -> 3.8166
A20: 14 | B20: 1 | C20: =C19+$C$3*B20 -> 4.0097
A21: 15 | B21: 1 | C21: =C20+$C$3*B21 -> 4.2028
A22: 16 | B22: 1 | C22: =C21+$C$3*B22 -> 4.3959
A23: 17 | B23: 1 | C23: =C22+$C$3*B23 -> 4.589
A24: 18 | B24: 1 | C24: =C23+$C$3*B24 -> 4.7821
A25: 19 | B25: 1 | C25: =C24+$C$3*B25 -> 4.9752
A26: 20 | B26: 1 | C26: =C25+$C$3*B26 -> 5.1683
... A257: 999 | B257: 0 | C257: =C256+$C$3*B257 -> 30.747098

Sheet rekentabel
A1: Ingangsdatum | C1: 44197 | J1: deze prijzen gelden alleen binnen 1 vervoerder (indicatief voor reisplanner) | R1: prijzen Traject Vrij geindexeerd CPI | W1: 0.015
A2: Tarief-gebied | C2: Connexxion - Valleilijn
A3: Codering | B3: 1 | C3: 1 | D3: 1 | E3: 1 | F3: 20 | G3: 20 | H3: 60 | I3: 60 | J3: 2 | K3: 2 | L3: 2 | M3: 2 | N3: 10 | O3: 10 | P3: 61 | Q3: 61 | R3: 37 | S3: 37 | T3: 34 | U3: 34 | V3: 36 | W3: 36 | Y3: 37 | Z3: 37 | AA3: 34 | AB3: 34 | AC3: 36 | AD3: 36
A4: Prijstabel | B4: 12001 | C4: 12001 | D4: 12001 | E4: 12001 | F4: 12020 | G4: 12020 | H4: 12060 | I4: 12060 | J4: 12002 | K4: 12002 | L4: 12002 | M4: 12002 | N4: 12010 | O4: 12010 | P4: 12061 | Q4: 12061 | R4: 12037 | S4: 12037 | T4: 12034 | U4: 12034 | V4: 12036 | W4: 12036 | Y4: 12037 | Z4: 12037 | AA4: 12034 | AB4: 12034 | AC4: 12036 | AD4: 12036
A5: Tarief-eenheden | B5: enkel reis 1e klas vol | C5: enkele reis 2e klas vol | D5: enkele reis 1e klas 50% | E5: enkele reis 2e klas 50% | F5: enkele reis 1e klas 40% | G5: enkele reis 2e klas 40% | H5: enkele reis 1e klas 20% | I5: enkele reis 2e klas 20% | J5: retour 1e klas vol | K5: retour 2e klas vol | L5: retour 1e klas 50% | M5: retour 2e klas 50% | N5: retour 1e klas 40% | O5: retour 2e klas 40% | P5: retour 1e klas 20% | Q5: retour 2e klas 20% | R5: TV zakelijk 1e klas | S5: TV zakelijk 2e klas | T5: TV doorlopend 1e klas | U5: TV doorlopend 2e klas | V5: TV maand 1e klas | W5: TV maand 2e klas | Y5: TV zakelijk 1e klas | Z5: TV zakelijk 2e klas | AA5: TV doorlopend 1e klas | AB5: TV doorlopend 2e klas | AC5: TV maand 1e klas | AD5: TV maand 2e klas
A6: 0 | B6: =C6*1.7 -> 4.84687 | C6: ='degressie en km-tarief'!C6 -> 2.8511 | F6: =ROUND(B6,2)*0.6 -> 2.91 | G6: =ROUND(C6,2)*0.6 -> 1.71 | H6: =ROUND(B6,2)*0.8 -> 3.88 | I6: =ROUND(C6,2)*0.8 -> 2.28 | J6: 9.56 | K6: 5.62 | N6: 5.74 | O6: 3.38 | P6: 7.64 | Q6: 4.5 | R6: =ROUND(Y6*(1+$W$1),0) -> 1232 | S6: =ROUND(Z6*(1+$W$1),0) -> 720 | T6: =ROUND(AA6*(1+$W$1),0) -> 102 | U6: =ROUND(AB6*(1+$W$1),0) -> 61 | V6: =ROUND(AC6*(1+$W$1),0) -> 129 | W6: =ROUND(AD6*(1+$W$1),0) -> 76 | Y6: 1214 | Z6: 709 | AA6: 100 | AB6: 60 | AC6: 127 | AD6: 75 | AF6: =R6/Y6 -> 1.014827 | AG6: =S6/Z6 -> 1.0155148 | AH6: =T6/AA6 -> 1.02 | AI6: =U6/AB6 -> 1.0166667 | AJ6: =V6/AC6 -> 1.015748 | AK6: =W6/AD6 -> 1.0133333
A7: 1 | B7: =C7*1.7 -> 4.84687 | C7: ='degressie en km-tarief'!C7 -> 2.8511 | F7: =ROUND(B7,2)*0.6 -> 2.91 | G7: =ROUND(C7,2)*0.6 -> 1.71 | H7: =ROUND(B7,2)*0.8 -> 3.88 | I7: =ROUND(C7,2)*0.8 -> 2.28 | J7: =2*ROUND(B7,2) -> 9.7 | K7: =2*ROUND(C7,2) -> 5.7 | N7: =2*ROUND(F7,2) -> 5.82 | O7: =2*ROUND(G7,2) -> 3.42 | P7: =2*ROUND(H7,2) -> 7.76 | Q7: =2*ROUND(I7,2) -> 4.56 | R7: =ROUND(Y7*(1+$W$1),0) -> 1232 | S7: =ROUND(Z7*(1+$W$1),0) -> 720 | T7: =ROUND(AA7*(1+$W$1),0) -> 102 | U7: =ROUND(AB7*(1+$W$1),0) -> 61 | V7: =ROUND(AC7*(1+$W$1),0) -> 129 | W7: =ROUND(AD7*(1+$W$1),0) -> 76 | Y7: 1214 | Z7: 709 | AA7: 100 | AB7: 60 | AC7: 127 | AD7: 75 | AF7: =R7/Y7 -> 1.014827 | AG7: =S7/Z7 -> 1.0155148 | AH7: =T7/AA7 -> 1.02 | AI7: =U7/AB7 -> 1.0166667 | AJ7: =V7/AC7 -> 1.015748 | AK7: =W7/AD7 -> 1.0133333
A8: 2 | B8: =C8*1.7 -> 4.84687 | C8: ='degressie en km-tarief'!C8 -> 2.8511 | F8: =ROUND(B8,2)*0.6 -> 2.91 | G8: =ROUND(C8,2)*0.6 -> 1.71 | H8: =ROUND(B8,2)*0.8 -> 3.88 | I8: =ROUND(C8,2)*0.8 -> 2.28 | J8: =2*ROUND(B8,2) -> 9.7 | K8: =2*ROUND(C8,2) -> 5.7 | N8: =2*ROUND(F8,2) -> 5.82 | O8: =2*ROUND(G8,2) -> 3.42 | P8: =2*ROUND(H8,2) -> 7.76 | Q8: =2*ROUND(I8,2) -> 4.56 | R8: =ROUND(Y8*(1+$W$1),0) -> 1232 | S8: =ROUND(Z8*(1+$W$1),0) -> 720 | T8: =ROUND(AA8*(1+$W$1),0) -> 102 | U8: =ROUND(AB8*(1+$W$1),0) -> 61 | V8: =ROUND(AC8*(1+$W$1),0) -> 129 | W8: =ROUND(AD8*(1+$W$1),0) -> 76 | Y8: 1214 | Z8: 709 | AA8: 100 | AB8: 60 | AC8: 127 | AD8: 75 | AF8: =R8/Y8 -> 1.014827 | AG8: =S8/Z8 -> 1.0155148 | AH8: =T8/AA8 -> 1.02 | AI8: =U8/AB8 -> 1.0166667 | AJ8: =V8/AC8 -> 1.015748 | AK8: =W8/AD8 -> 1.0133333
A9: 3 | B9: =C9*1.7 -> 4.84687 | C9: ='degressie en km-tarief'!C9 -> 2.8511 | F9: =ROUND(B9,2)*0.6 -> 2.91 | G9: =ROUND(C9,2)*0.6 -> 1.71 | H9: =ROUND(B9,2)*0.8 -> 3.88 | I9: =ROUND(C9,2)*0.8 -> 2.28 | J9: =2*ROUND(B9,2) -> 9.7 | K9: =2*ROUND(C9,2) -> 5.7 | N9: =2*ROUND(F9,2) -> 5.82 | O9: =2*ROUND(G9,2) -> 3.42 | P9: =2*ROUND(H9,2) -> 7.76 | Q9: =2*ROUND(I9,2) -> 4.56 | R9: =ROUND(Y9*(1+$W$1),0) -> 1232 | S9: =ROUND(Z9*(1+$W$1),0) -> 720 | T9: =ROUND(AA9*(1+$W$1),0) -> 102 | U9: =ROUND(AB9*(1+$W$1),0) -> 61 | V9: =ROUND(AC9*(1+$W$1),0) -> 129 | W9: =ROUND(AD9*(1+$W$1),0) -> 76 | Y9: 1214 | Z9: 709 | AA9: 100 | AB9: 60 | AC9: 127 | AD9: 75 | AF9: =R9/Y9 -> 1.014827 | AG9: =S9/Z9 -> 1.0155148 | AH9: =T9/AA9 -> 1.02 | AI9: =U9/AB9 -> 1.0166667 | AJ9: =V9/AC9 -> 1.015748 | AK9: =W9/AD9 -> 1.0133333
A10: 4 | B10: =C10*1.7 -> 4.84687 | C10: ='degressie en km-tarief'!C10 -> 2.8511 | F10: =ROUND(B10,2)*0.6 -> 2.91 | G10: =ROUND(C10,2)*0.6 -> 1.71 | H10: =ROUND(B10,2)*0.8 -> 3.88 | I10: =ROUND(C10,2)*0.8 -> 2.28 | J10: =2*ROUND(B10,2) -> 9.7 | K10: =2*ROUND(C10,2) -> 5.7 | N10: =2*ROUND(F10,2) -> 5.82 | O10: =2*ROUND(G10,2) -> 3.42 | P10: =2*ROUND(H10,2) -> 7.76 | Q10: =2*ROUND(I10,2) -> 4.56 | R10: =ROUND(Y10*(1+$W$1),0) -> 1232 | S10: =ROUND(Z10*(1+$W$1),0) -> 720 | T10: =ROUND(AA10*(1+$W$1),0) -> 102 | U10: =ROUND(AB10*(1+$W$1),0) -> 61 | V10: =ROUND(AC10*(1+$W$1),0) -> 129 | W10: =ROUND(AD10*(1+$W$1),0) -> 76 | Y10: 1214 | Z10: 709 | AA10: 100 | AB10: 60 | AC10: 127 | AD10: 75 | AF10: =R10/Y10 -> 1.014827 | AG10: =S10/Z10 -> 1.0155148 | AH10: =T10/AA10 -> 1.02 | AI10: =U10/AB10 -> 1.0166667 | AJ10: =V10/AC10 -> 1.015748 | AK10: =W10/AD10 -> 1.0133333
A11: 5 | B11: =C11*1.7 -> 4.84687 | C11: ='degressie en km-tarief'!C11 -> 2.8511 | F11: =ROUND(B11,2)*0.6 -> 2.91 | G11: =ROUND(C11,2)*0.6 -> 1.71 | H11: =ROUND(B11,2)*0.8 -> 3.88 | I11: =ROUND(C11,2)*0.8 -> 2.28 | J11: =2*ROUND(B11,2) -> 9.7 | K11: =2*ROUND(C11,2) -> 5.7 | N11: =2*ROUND(F11,2) -> 5.82 | O11: =2*ROUND(G11,2) -> 3.42 | P11: =2*ROUND(H11,2) -> 7.76 | Q11: =2*ROUND(I11,2) -> 4.56 | R11: =ROUND(Y11*(1+$W$1),0) -> 1232 | S11: =ROUND(Z11*(1+$W$1),0) -> 720 | T11: =ROUND(AA11*(1+$W$1),0) -> 102 | U11: =ROUND(AB11*(1+$W$1),0) -> 61 | V11: =ROUND(AC11*(1+$W$1),0) -> 129 | W11: =ROUND(AD11*(1+$W$1),0) -> 76 | Y11: 1214 | Z11: 709 | AA11: 100 | AB11: 60 | AC11: 127 | AD11: 75 | AF11: =R11/Y11 -> 1.014827 | AG11: =S11/Z11 -> 1.0155148 | AH11: =T11/AA11 -> 1.02 | AI11: =U11/AB11 -> 1.0166667 | AJ11: =V11/AC11 -> 1.015748 | AK11: =W11/AD11 -> 1.0133333
A12: 6 | B12: =C12*1.7 -> 4.84687 | C12: ='degressie en km-tarief'!C12 -> 2.8511 | F12: =ROUND(B12,2)*0.6 -> 2.91 | G12: =ROUND(C12,2)*0.6 -> 1.71 | H12: =ROUND(B12,2)*0.8 -> 3.88 | I12: =ROUND(C12,2)*0.8 -> 2.28 | J12: =2*ROUND(B12,2) -> 9.7 | K12: =2*ROUND(C12,2) -> 5.7 | N12: =2*ROUND(F12,2) -> 5.82 | O12: =2*ROUND(G12,2) -> 3.42 | P12: =2*ROUND(H12,2) -> 7.76 | Q12: =2*ROUND(I12,2) -> 4.56 | R12: =ROUND(Y12*(1+$W$1),0) -> 1232 | S12: =ROUND(Z12*(1+$W$1),0) -> 720 | T12: =ROUND(AA12*(1+$W$1),0) -> 102 | U12: =ROUND(AB12*(1+$W$1),0) -> 61 | V12: =ROUND(AC12*(1+$W$1),0) -> 129 | W12: =ROUND(AD12*(1+$W$1),0) -> 76 | Y12: 1214 | Z12: 709 | AA12: 100 | AB12: 60 | AC12: 127 | AD12: 75 | AF12: =R12/Y12 -> 1.014827 | AG12: =S12/Z12 -> 1.0155148 | AH12: =T12/AA12 -> 1.02 | AI12: =U12/AB12 -> 1.0166667 | AJ12: =V12/AC12 -> 1.015748 | AK12: =W12/AD12 -> 1.0133333
A13: 7 | B13: =C13*1.7 -> 4.84687 | C13: ='degressie en km-tarief'!C13 -> 2.8511 | F13: =ROUND(B13,2)*0.6 -> 2.91 | G13: =ROUND(C13,2)*0.6 -> 1.71 | H13: =ROUND(B13,2)*0.8 -> 3.88 | I13: =ROUND(C13,2)*0.8 -> 2.28 | J13: =2*ROUND(B13,2) -> 9.7 | K13: =2*ROUND(C13,2) -> 5.7 | N13: =2*ROUND(F13,2) -> 5.82 | O13: =2*ROUND(G13,2) -> 3.42 | P13: =2*ROUND(H13,2) -> 7.76 | Q13: =2*ROUND(I13,2) -> 4.56 | R13: =ROUND(Y13*(1+$W$1),0) -> 1232 | S13: =ROUND(Z13*(1+$W$1),0) -> 720 | T13: =ROUND(AA13*(1+$W$1),0) -> 102 | U13: =ROUND(AB13*(1+$W$1),0) -> 61 | V13: =ROUND(AC13*(1+$W$1),0) -> 129 | W13: =ROUND(AD13*(1+$W$1),0) -> 76 | Y13: 1214 | Z13: 709 | AA13: 100 | AB13: 60 | AC13: 127 | AD13: 75 | AF13: =R13/Y13 -> 1.014827 | AG13: =S13/Z13 -> 1.0155148 | AH13: =T13/AA13 -> 1.02 | AI13: =U13/AB13 -> 1.0166667 | AJ13: =V13/AC13 -> 1.015748 | AK13: =W13/AD13 -> 1.0133333
A14: 8 | B14: =C14*1.7 -> 4.84687 | C14: ='degressie en km-tarief'!C14 -> 2.8511 | F14: =ROUND(B14,2)*0.6 -> 2.91 | G14: =ROUND(C14,2)*0.6 -> 1.71 | H14: =ROUND(B14,2)*0.8 -> 3.88 | I14: =ROUND(C14,2)*0.8 -> 2.28 | J14: =2*ROUND(B14,2) -> 9.7 | K14: =2*ROUND(C14,2) -> 5.7 | N14: =2*ROUND(F14,2) -> 5.82 | O14: =2*ROUND(G14,2) -> 3.42 | P14: =2*ROUND(H14,2) -> 7.76 | Q14: =2*ROUND(I14,2) -> 4.56 | R14: =ROUND(Y14*(1+$W$1),0) -> 1232 | S14: =ROUND(Z14*(1+$W$1),0) -> 720 | T14: =ROUND(AA14*(1+$W$1),0) -> 102 | U14: =ROUND(AB14*(1+$W$1),0) -> 61 | V14: =ROUND(AC14*(1+$W$1),0) -> 129 | W14: =ROUND(AD14*(1+$W$1),0) -> 76 | Y14: 1214 | Z14: 709 | AA14: 100 | AB14: 60 | AC14: 127 | AD14: 75 | AF14: =R14/Y14 -> 1.014827 | AG14: =S14/Z14 -> 1.0155148 | AH14: =T14/AA14 -> 1.02 | AI14: =U14/AB14 -> 1.0166667 | AJ14: =V14/AC14 -> 1.015748 | AK14: =W14/AD14 -> 1.0133333
A15: 9 | B15: =C15*1.7 -> 5.17514 | C15: ='degressie en km-tarief'!C15 -> 3.0442 | F15: =ROUND(B15,2)*0.6 -> 3.108 | G15: =ROUND(C15,2)*0.6 -> 1.824 | H15: =ROUND(B15,2)*0.8 -> 4.144 | I15: =ROUND(C15,2)*0.8 -> 2.432 | J15: =2*ROUND(B15,2) -> 10.36 | K15: =2*ROUND(C15,2) -> 6.08 | N15: =2*ROUND(F15,2) -> 6.22 | O15: =2*ROUND(G15,2) -> 3.64 | P15: =2*ROUND(H15,2) -> 8.28 | Q15: =2*ROUND(I15,2) -> 4.86 | R15: =ROUND(Y15*(1+$W$1),0) -> 1344 | S15: =ROUND(Z15*(1+$W$1),0) -> 789 | T15: =ROUND(AA15*(1+$W$1),0) -> 113 | U15: =ROUND(AB15*(1+$W$1),0) -> 66 | V15: =ROUND(AC15*(1+$W$1),0) -> 140 | W15: =ROUND(AD15*(1+$W$1),0) -> 81 | Y15: 1324 | Z15: 777 | AA15: 111 | AB15: 65 | AC15: 138 | AD15: 80 | AF15: =R15/Y15 -> 1.0151057 | AG15: =S15/Z15 -> 1.015444 | AH15: =T15/AA15 -> 1.018018 | AI15: =U15/AB15 -> 1.0153846 | AJ15: =V15/AC15 -> 1.0144928 | AK15: =W15/AD15 -> 1.0125
A16: 10 | B16: =C16*1.7 -> 5.50341 | C16: ='degressie en km-tarief'!C16 -> 3.2373 | F16: =ROUND(B16,2)*0.6 -> 3.3 | G16: =ROUND(C16,2)*0.6 -> 1.944 | H16: =ROUND(B16,2)*0.8 -> 4.4 | I16: =ROUND(C16,2)*0.8 -> 2.592 | J16: =2*ROUND(B16,2) -> 11 | K16: =2*ROUND(C16,2) -> 6.48 | N16: =2*ROUND(F16,2) -> 6.6 | O16: =2*ROUND(G16,2) -> 3.88 | P16: =2*ROUND(H16,2) -> 8.8 | Q16: =2*ROUND(I16,2) -> 5.18 | R16: =ROUND(Y16*(1+$W$1),0) -> 1440 | S16: =ROUND(Z16*(1+$W$1),0) -> 844 | T16: =ROUND(AA16*(1+$W$1),0) -> 121 | U16: =ROUND(AB16*(1+$W$1),0) -> 71 | V16: =ROUND(AC16*(1+$W$1),0) -> 149 | W16: =ROUND(AD16*(1+$W$1),0) -> 88 | Y16: 1419 | Z16: 832 | AA16: 119 | AB16: 70 | AC16: 147 | AD16: 87 | AF16: =R16/Y16 -> 1.0147992 | AG16: =S16/Z16 -> 1.0144231 | AH16: =T16/AA16 -> 1.0168067 | AI16: =U16/AB16 -> 1.0142857 | AJ16: =V16/AC16 -> 1.0136054 | AK16: =W16/AD16 -> 1.0114943
A17: 11 | B17: =C17*1.7 -> 5.83168 | C17: ='degressie en km-tarief'!C17 -> 3.4304 | F17: =ROUND(B17,2)*0.6 -> 3.498 | G17: =ROUND(C17,2)*0.6 -> 2.058 | H17: =ROUND(B17,2)*0.8 -> 4.664 | I17: =ROUND(C17,2)*0.8 -> 2.744 | J17: =2*ROUND(B17,2) -> 11.66 | K17: =2*ROUND(C17,2) -> 6.86 | N17: =2*ROUND(F17,2) -> 7 | O17: =2*ROUND(G17,2) -> 4.12 | P17: =2*ROUND(H17,2) -> 9.32 | Q17: =2*ROUND(I17,2) -> 5.48 | R17: =ROUND(Y17*(1+$W$1),0) -> 1552 | S17: =ROUND(Z17*(1+$W$1),0) -> 914 | T17: =ROUND(AA17*(1+$W$1),0) -> 129 | U17: =ROUND(AB17*(1+$W$1),0) -> 76 | V17: =ROUND(AC17*(1+$W$1),0) -> 161 | W17: =ROUND(AD17*(1+$W$1),0) -> 94 | Y17: 1529 | Z17: 900 | AA17: 127 | AB17: 75 | AC17: 159 | AD17: 93 | AF17: =R17/Y17 -> 1.0150425 | AG17: =S17/Z17 -> 1.0155556 | AH17: =T17/AA17 -> 1.015748 | AI17: =U17/AB17 -> 1.0133333 | AJ17: =V17/AC17 -> 1.0125786 | AK17: =W17/AD17 -> 1.0107527
A18: 12 | B18: =C18*1.7 -> 6.15995 | C18: ='degressie en km-tarief'!C18 -> 3.6235 | F18: =ROUND(B18,2)*0.6 -> 3.696 | G18: =ROUND(C18,2)*0.6 -> 2.172 | H18: =ROUND(B18,2)*0.8 -> 4.928 | I18: =ROUND(C18,2)*0.8 -> 2.896 | J18: =2*ROUND(B18,2) -> 12.32 | K18: =2*ROUND(C18,2) -> 7.24 | N18: =2*ROUND(F18,2) -> 7.4 | O18: =2*ROUND(G18,2) -> 4.34 | P18: =2*ROUND(H18,2) -> 9.86 | Q18: =2*ROUND(I18,2) -> 5.8 | R18: =ROUND(Y18*(1+$W$1),0) -> 1622 | S18: =ROUND(Z18*(1+$W$1),0) -> 956 | T18: =ROUND(AA18*(1+$W$1),0) -> 136 | U18: =ROUND(AB18*(1+$W$1),0) -> 79 | V18: =ROUND(AC18*(1+$W$1),0) -> 167 | W18: =ROUND(AD18*(1+$W$1),0) -> 98 | Y18: 1598 | Z18: 942 | AA18: 134 | AB18: 78 | AC18: 165 | AD18: 97 | AF18: =R18/Y18 -> 1.0150188 | AG18: =S18/Z18 -> 1.014862 | AH18: =T18/AA18 -> 1.0149254 | AI18: =U18/AB18 -> 1.0128205 | AJ18: =V18/AC18 -> 1.0121212 | AK18: =W18/AD18 -> 1.0103093
... A96: 90 | B96: =C96*1.7 -> 31.063169 | C96: ='degressie en km-tarief'!C96 -> 18.272452 | F96: =ROUND(B96,2)*0.6 -> 18.636 | G96: =ROUND(C96,2)*0.6 -> 10.962 | H96: =ROUND(B96,2)*0.8 -> 24.848 | I96: =ROUND(C96,2)*0.8 -> 14.616 | J96: =2*ROUND(B96,2) -> 62.12 | K96: =2*ROUND(C96,2) -> 36.54 | N96: =2*ROUND(F96,2) -> 37.28 | O96: =2*ROUND(G96,2) -> 21.92 | P96: =2*ROUND(H96,2) -> 49.7 | Q96: =2*ROUND(I96,2) -> 29.24 | R96: =ROUND(Y96*(1+$W$1),0) -> 7614 | S96: =ROUND(Z96*(1+$W$1),0) -> 4535 | T96: =ROUND(AA96*(1+$W$1),0) -> 634 | U96: =ROUND(AB96*(1+$W$1),0) -> 379 | V96: =ROUND(AC96*(1+$W$1),0) -> 797 | W96: =ROUND(AD96*(1+$W$1),0) -> 465 | Y96: 7501 | Z96: 4468 | AA96: 625 | AB96: 373 | AC96: 785 | AD96: 458 | AF96: =R96/Y96 -> 1.0150647 | AG96: =S96/Z96 -> 1.0149955 | AH96: =T96/AA96 -> 1.0144 | AI96: =U96/AB96 -> 1.0160858 | AJ96: =V96/AC96 -> 1.0152866 | AK96: =W96/AD96 -> 1.0152838
A97: 91 | B97: =C97*1.7 -> 31.348829 | C97: ='degressie en km-tarief'!C97 -> 18.440488 | F97: =ROUND(B97,2)*0.6 -> 18.81 | G97: =ROUND(C97,2)*0.6 -> 11.064 | H97: =ROUND(B97,2)*0.8 -> 25.08 | I97: =ROUND(C97,2)*0.8 -> 14.752 | J97: =2*ROUND(B97,2) -> 62.7 | K97: =2*ROUND(C97,2) -> 36.88 | N97: =2*ROUND(F97,2) -> 37.62 | O97: =2*ROUND(G97,2) -> 22.12 | P97: =2*ROUND(H97,2) -> 50.16 | Q97: =2*ROUND(I97,2) -> 29.5 | AF97: =R97/Y97 -> #DIV/0! | AG97: =S97/Z97 -> #DIV/0! | AH97: =T97/AA97 -> #DIV/0! | AI97: =U97/AB97 -> #DIV/0! | AJ97: =V97/AC97 -> #DIV/0! | AK97: =W97/AD97 -> #DIV/0!
A98: 92 | B98: =C98*1.7 -> 31.63449 | C98: ='degressie en km-tarief'!C98 -> 18.608523 | F98: =ROUND(B98,2)*0.6 -> 18.978 | G98: =ROUND(C98,2)*0.6 -> 11.166 | H98: =ROUND(B98,2)*0.8 -> 25.304 | I98: =ROUND(C98,2)*0.8 -> 14.888 | J98: =2*ROUND(B98,2) -> 63.26 | K98: =2*ROUND(C98,2) -> 37.22 | N98: =2*ROUND(F98,2) -> 37.96 | O98: =2*ROUND(G98,2) -> 22.34 | P98: =2*ROUND(H98,2) -> 50.6 | Q98: =2*ROUND(I98,2) -> 29.78 | AF98: =R98/Y98 -> #DIV/0! | AG98: =S98/Z98 -> #DIV/0! | AH98: =T98/AA98 -> #DIV/0! | AI98: =U98/AB98 -> #DIV/0! | AJ98: =V98/AC98 -> #DIV/0! | AK98: =W98/AD98 -> #DIV/0!
A99: 93 | B99: =C99*1.7 -> 31.92015 | C99: ='degressie en km-tarief'!C99 -> 18.776559 | F99: =ROUND(B99,2)*0.6 -> 19.152 | G99: =ROUND(C99,2)*0.6 -> 11.268 | H99: =ROUND(B99,2)*0.8 -> 25.536 | I99: =ROUND(C99,2)*0.8 -> 15.024 | J99: =2*ROUND(B99,2) -> 63.84 | K99: =2*ROUND(C99,2) -> 37.56 | N99: =2*ROUND(F99,2) -> 38.3 | O99: =2*ROUND(G99,2) -> 22.54 | P99: =2*ROUND(H99,2) -> 51.08 | Q99: =2*ROUND(I99,2) -> 30.04 | AF99: =R99/Y99 -> #DIV/0! | AG99: =S99/Z99 -> #DIV/0! | AH99: =T99/AA99 -> #DIV/0! | AI99: =U99/AB99 -> #DIV/0! | AJ99: =V99/AC99 -> #DIV/0! | AK99: =W99/AD99 -> #DIV/0!
A100: 94 | B100: =C100*1.7 -> 32.205811 | C100: ='degressie en km-tarief'!C100 -> 18.944595 | F100: =ROUND(B100,2)*0.6 -> 19.326 | G100: =ROUND(C100,2)*0.6 -> 11.364 | H100: =ROUND(B100,2)*0.8 -> 25.768 | I100: =ROUND(C100,2)*0.8 -> 15.152 | J100: =2*ROUND(B100,2) -> 64.42 | K100: =2*ROUND(C100,2) -> 37.88 | N100: =2*ROUND(F100,2) -> 38.66 | O100: =2*ROUND(G100,2) -> 22.72 | P100: =2*ROUND(H100,2) -> 51.54 | Q100: =2*ROUND(I100,2) -> 30.3 | AF100: =R100/Y100 -> #DIV/0! | AG100: =S100/Z100 -> #DIV/0! | AH100: =T100/AA100 -> #DIV/0! | AI100: =U100/AB100 -> #DIV/0! | AJ100: =V100/AC100 -> #DIV/0! | AK100: =W100/AD100 -> #DIV/0!
A101: 95 | B101: =C101*1.7 -> 32.491472 | C101: ='degressie en km-tarief'!C101 -> 19.11263 | F101: =ROUND(B101,2)*0.6 -> 19.494 | G101: =ROUND(C101,2)*0.6 -> 11.466 | H101: =ROUND(B101,2)*0.8 -> 25.992 | I101: =ROUND(C101,2)*0.8 -> 15.288 | J101: =2*ROUND(B101,2) -> 64.98 | K101: =2*ROUND(C101,2) -> 38.22 | N101: =2*ROUND(F101,2) -> 38.98 | O101: =2*ROUND(G101,2) -> 22.94 | P101: =2*ROUND(H101,2) -> 51.98 | Q101: =2*ROUND(I101,2) -> 30.58 | AF101: =R101/Y101 -> #DIV/0! | AG101: =S101/Z101 -> #DIV/0! | AH101: =T101/AA101 -> #DIV/0! | AI101: =U101/AB101 -> #DIV/0! | AJ101: =V101/AC101 -> #DIV/0! | AK101: =W101/AD101 -> #DIV/0!
A102: 96 | B102: =C102*1.7 -> 32.777132 | C102: ='degressie en km-tarief'!C102 -> 19.280666 | F102: =ROUND(B102,2)*0.6 -> 19.668 | G102: =ROUND(C102,2)*0.6 -> 11.568 | H102: =ROUND(B102,2)*0.8 -> 26.224 | I102: =ROUND(C102,2)*0.8 -> 15.424 | J102: =2*ROUND(B102,2) -> 65.56 | K102: =2*ROUND(C102,2) -> 38.56 | N102: =2*ROUND(F102,2) -> 39.34 | O102: =2*ROUND(G102,2) -> 23.14 | P102: =2*ROUND(H102,2) -> 52.44 | Q102: =2*ROUND(I102,2) -> 30.84 | AF102: =R102/Y102 -> #DIV/0! | AG102: =S102/Z102 -> #DIV/0! | AH102: =T102/AA102 -> #DIV/0! | AI102: =U102/AB102 -> #DIV/0! | AJ102: =V102/AC102 -> #DIV/0! | AK102: =W102/AD102 -> #DIV/0!
A103: 97 | B103: =C103*1.7 -> 33.062793 | C103: ='degressie en km-tarief'!C103 -> 19.448702 | F103: =ROUND(B103,2)*0.6 -> 19.836 | G103: =ROUND(C103,2)*0.6 -> 11.67 | H103: =ROUND(B103,2)*0.8 -> 26.448 | I103: =ROUND(C103,2)*0.8 -> 15.56 | J103: =2*ROUND(B103,2) -> 66.12 | K103: =2*ROUND(C103,2) -> 38.9 | N103: =2*ROUND(F103,2) -> 39.68 | O103: =2*ROUND(G103,2) -> 23.34 | P103: =2*ROUND(H103,2) -> 52.9 | Q103: =2*ROUND(I103,2) -> 31.12 | AF103: =R103/Y103 -> #DIV/0! | AG103: =S103/Z103 -> #DIV/0! | AH103: =T103/AA103 -> #DIV/0! | AI103: =U103/AB103 -> #DIV/0! | AJ103: =V103/AC103 -> #DIV/0! | AK103: =W103/AD103 -> #DIV/0!
A104: 98 | B104: =C104*1.7 -> 33.348453 | C104: ='degressie en km-tarief'!C104 -> 19.616737 | F104: =ROUND(B104,2)*0.6 -> 20.01 | G104: =ROUND(C104,2)*0.6 -> 11.772 | H104: =ROUND(B104,2)*0.8 -> 26.68 | I104: =ROUND(C104,2)*0.8 -> 15.696 | J104: =2*ROUND(B104,2) -> 66.7 | K104: =2*ROUND(C104,2) -> 39.24 | N104: =2*ROUND(F104,2) -> 40.02 | O104: =2*ROUND(G104,2) -> 23.54 | P104: =2*ROUND(H104,2) -> 53.36 | Q104: =2*ROUND(I104,2) -> 31.4 | AF104: =R104/Y104 -> #DIV/0! | AG104: =S104/Z104 -> #DIV/0! | AH104: =T104/AA104 -> #DIV/0! | AI104: =U104/AB104 -> #DIV/0! | AJ104: =V104/AC104 -> #DIV/0! | AK104: =W104/AD104 -> #DIV/0!
A105: 99 | B105: =C105*1.7 -> 33.634114 | C105: ='degressie en km-tarief'!C105 -> 19.784773 | F105: =ROUND(B105,2)*0.6 -> 20.178 | G105: =ROUND(C105,2)*0.6 -> 11.868 | H105: =ROUND(B105,2)*0.8 -> 26.904 | I105: =ROUND(C105,2)*0.8 -> 15.824 | J105: =2*ROUND(B105,2) -> 67.26 | K105: =2*ROUND(C105,2) -> 39.56 | N105: =2*ROUND(F105,2) -> 40.36 | O105: =2*ROUND(G105,2) -> 23.74 | P105: =2*ROUND(H105,2) -> 53.8 | Q105: =2*ROUND(I105,2) -> 31.64 | AF105: =R105/Y105 -> #DIV/0! | AG105: =S105/Z105 -> #DIV/0! | AH105: =T105/AA105 -> #DIV/0! | AI105: =U105/AB105 -> #DIV/0! | AJ105: =V105/AC105 -> #DIV/0! | AK105: =W105/AD105 -> #DIV/0!
A106: 100 | B106: =C106*1.7 -> 33.919774 | C106: ='degressie en km-tarief'!C106 -> 19.952808 | F106: =ROUND(B106,2)*0.6 -> 20.352 | G106: =ROUND(C106,2)*0.6 -> 11.97 | H106: =ROUND(B106,2)*0.8 -> 27.136 | I106: =ROUND(C106,2)*0.8 -> 15.96 | J106: =2*ROUND(B106,2) -> 67.84 | K106: =2*ROUND(C106,2) -> 39.9 | N106: =2*ROUND(F106,2) -> 40.7 | O106: =2*ROUND(G106,2) -> 23.94 | P106: =2*ROUND(H106,2) -> 54.28 | Q106: =2*ROUND(I106,2) -> 31.92 | AF106: =R106/Y106 -> #DIV/0! | AG106: =S106/Z106 -> #DIV/0! | AH106: =T106/AA106 -> #DIV/0! | AI106: =U106/AB106 -> #DIV/0! | AJ106: =V106/AC106 -> #DIV/0! | AK106: =W106/AD106 -> #DIV/0!
A107: 101 | B107: =C107*1.7 -> 34.149563 | C107: ='degressie en km-tarief'!C107 -> 20.087978 | F107: =ROUND(B107,2)*0.6 -> 20.49 | G107: =ROUND(C107,2)*0.6 -> 12.054 | H107: =ROUND(B107,2)*0.8 -> 27.32 | I107: =ROUND(C107,2)*0.8 -> 16.072 | J107: =2*ROUND(B107,2) -> 68.3 | K107: =2*ROUND(C107,2) -> 40.18 | N107: =2*ROUND(F107,2) -> 40.98 | O107: =2*ROUND(G107,2) -> 24.1 | P107: =2*ROUND(H107,2) -> 54.64 | Q107: =2*ROUND(I107,2) -> 32.14 | AF107: =R107/Y107 -> #DIV/0! | AG107: =S107/Z107 -> #DIV/0! | AH107: =T107/AA107 -> #DIV/0! | AI107: =U107/AB107 -> #DIV/0! | AJ107: =V107/AC107 -> #DIV/0! | AK107: =W107/AD107 -> #DIV/0!
A108: 102 | B108: =C108*1.7 -> 34.379352 | C108: ='degressie en km-tarief'!C108 -> 20.223148 | F108: =ROUND(B108,2)*0.6 -> 20.628 | G108: =ROUND(C108,2)*0.6 -> 12.132 | H108: =ROUND(B108,2)*0.8 -> 27.504 | I108: =ROUND(C108,2)*0.8 -> 16.176 | J108: =2*ROUND(B108,2) -> 68.76 | K108: =2*ROUND(C108,2) -> 40.44 | N108: =2*ROUND(F108,2) -> 41.26 | O108: =2*ROUND(G108,2) -> 24.26 | P108: =2*ROUND(H108,2) -> 55 | Q108: =2*ROUND(I108,2) -> 32.36 | AF108: =R108/Y108 -> #DIV/0! | AG108: =S108/Z108 -> #DIV/0! | AH108: =T108/AA108 -> #DIV/0! | AI108: =U108/AB108 -> #DIV/0! | AJ108: =V108/AC108 -> #DIV/0! | AK108: =W108/AD108 -> #DIV/0!
... A256: 250 | B256: =C256*1.7 -> 52.270067 | C256: ='degressie en km-tarief'!C256 -> 30.747098 | F256: =ROUND(B256,2)*0.6 -> 31.362 | G256: =ROUND(C256,2)*0.6 -> 18.45 | H256: =ROUND(B256,2)*0.8 -> 41.816 | I256: =ROUND(C256,2)*0.8 -> 24.6 | J256: =2*ROUND(B256,2) -> 104.54 | K256: =2*ROUND(C256,2) -> 61.5 | N256: =2*ROUND(F256,2) -> 62.72 | O256: =2*ROUND(G256,2) -> 36.9 | P256: =2*ROUND(H256,2) -> 83.64 | Q256: =2*ROUND(I256,2) -> 49.2 | AF256: =R256/Y256 -> #DIV/0! | AG256: =S256/Z256 -> #DIV/0! | AH256: =T256/AA256 -> #DIV/0! | AI256: =U256/AB256 -> #DIV/0! | AJ256: =V256/AC256 -> #DIV/0! | AK256: =W256/AD256 -> #DIV/0!
A257: 999 | B257: =C257*1.7 -> 52.270067 | C257: ='degressie en km-tarief'!C257 -> 30.747098 | F257: =ROUND(B257,2)*0.6 -> 31.362 | G257: =ROUND(C257,2)*0.6 -> 18.45 | H257: =ROUND(B257,2)*0.8 -> 41.816 | I257: =ROUND(C257,2)*0.8 -> 24.6 | J257: =2*ROUND(B257,2) -> 104.54 | K257: =2*ROUND(C257,2) -> 61.5 | N257: =2*ROUND(F257,2) -> 62.72 | O257: =2*ROUND(G257,2) -> 36.9 | P257: =2*ROUND(H257,2) -> 83.64 | Q257: =2*ROUND(I257,2) -> 49.2 | R257: =ROUND(Y257*(1+$W$1),0) -> 7614 | S257: =ROUND(Z257*(1+$W$1),0) -> 4535 | T257: =ROUND(AA257*(1+$W$1),0) -> 634 | U257: =ROUND(AB257*(1+$W$1),0) -> 379 | V257: =ROUND(AC257*(1+$W$1),0) -> 797 | W257: =ROUND(AD257*(1+$W$1),0) -> 465 | Y257: 7501 | Z257: 4468 | AA257: 625 | AB257: 373 | AC257: 785 | AD257: 458 | AF257: =R257/Y257 -> 1.0150647 | AG257: =S257/Z257 -> 1.0149955 | AH257: =T257/AA257 -> 1.0144 | AI257: =U257/AB257 -> 1.0160858 | AJ257: =V257/AC257 -> 1.0152866 | AK257: =W257/AD257 -> 1.0152838

Sheet toelichting
A3: Tarief-gebied | B3: 7 | C3: Syntus | D3: Zutphen-Oldenzaal
A5: Product nummer | B5: Product naam | C5: vol | D5: 50% | E5: 40% | F5: 20% | G5: Opmerking
A6: 1 | B6: Enkele reis | C6: =rekentabel!$C$4 -> 12001 | D6: =rekentabel!$C$4 -> 12001 | E6: =rekentabel!$G$4 -> 12020
A7: 2 | B7: Dagretour | C7: =rekentabel!$K$4 -> 12002 | D7: =rekentabel!$K$4 -> 12002 | E7: =rekentabel!$O$4 -> 12010
A8: 23 | B8: Overgang 2-1 enkelereis | C8: =rekentabel!$C$4 -> 12001 | D8: =rekentabel!$C$4 -> 12001 | E8: =rekentabel!$G$4 -> 12020
A9: 24 | B9: Overgang 2-1 retour | C9: =rekentabel!$K$4 -> 12002 | D9: =rekentabel!$K$4 -> 12002 | E9: =rekentabel!$O$4 -> 12010
A10: 43 | B10: Maandtrajectabonnement | C10: 4 | G10: NS Prijzen voor MTK/JTK
A11: 301 | B11: Enkele reis met korting | C11: =rekentabel!$G$4 -> 12020 | G11: Is dit niet dubbel?
A12: 302 | B12: Dagretour met korting | C12: =rekentabel!$O$4 -> 12010 | G12: Is dit niet dubbel?
A13: 303 | B13: Overgang 2-1 enkele reis 40% | C13: =rekentabel!$G$4 -> 12020 | G13: Is dit niet dubbel?
A14: 304 | B14: Overgang 2-1 retour 40% | C14: =rekentabel!$O$4 -> 12010 | G14: Is dit niet dubbel?
A15: 326 | B15: Eindhoven Airport heenreis | C15: =rekentabel!$C$4 -> 12001 | D15: =rekentabel!$C$4 -> 12001 | E15: =rekentabel!$G$4 -> 12020
A16: 329 | B16: Eindhoven Airport terugreis | C16: =rekentabel!$K$4 -> 12002 | D16: =rekentabel!$K$4 -> 12002 | E16: =rekentabel!$O$4 -> 12010
A17: 1020 | B17: Jaartrajectkaart | C17: 13 | G17: 1020 Is JTK Betaling in 10 Termijnen Consumentenkanaal | M17: NS Prijzen voor MTK/JTK
A18: 1021 | B18: Jaartrajectkaart + 1 OV-zone | C18: 13 | G18: bestaat niet meer in 2014
A19: 1022 | B19: Jaartrajectkaart + 2 OV-zone | C19: 13 | G19: bestaat niet meer in 2014
A20: 1023 | B20: Jaartrajectkaart + 3 OV-zone | C20: 13 | G20: bestaat niet meer in 2014
A21: 1801 | B21: Enkele reis | C21: =rekentabel!$C$4 -> 12001 | D21: =rekentabel!$C$4 -> 12001 | E21: =rekentabel!$G$4 -> 12020
A22: 1802 | B22: Dagretour | C22: =rekentabel!$K$4 -> 12002 | D22: =rekentabel!$K$4 -> 12002 | E22: =rekentabel!$O$4 -> 12010
A23: 1833 | B23: Overgang 2-1 enkele reis | C23: =rekentabel!$C$4 -> 12001 | D23: =rekentabel!$C$4 -> 12001 | E23: =rekentabel!$G$4 -> 12020
A24: 1834 | B24: Overgang 2-1 retour | C24: =rekentabel!$K$4 -> 12002 | D24: =rekentabel!$K$4 -> 12002 | E24: =rekentabel!$O$4 -> 12010
A25: 3020 | B25: Jaartrajectkaart | C25: 33 | G25: 3020 Is JTK Betaling Ineens Consumentenkanaal | L25: NS Prijzen voor MTK/JTK
A26: 3021 | B26: Jaartrajectkaart + 1 OV-zone | C26: 33 | G26: bestaat niet meer in 2014
A27: 3022 | B27: Jaartrajectkaart + 2 OV-zone | C27: 33 | G27: bestaat niet meer in 2014
A28: 3023 | B28: Jaartrajectkaart + 3 OV-zone | C28: 33 | G28: bestaat niet meer in 2014
A29: 5113 | B29: Traject Vrij abonnement | C29: =rekentabel!S4 -> 12037 | G29: Traject Vrij, Zakelijk Kanaal, Betaling ineens
A30: 5142 | B30: Enkele reis | C30: =rekentabel!$C$4 -> 12001 | G30: weet niet wat dit is?
A31: 5143 | B31: Dagretour | C31: =rekentabel!$K$4 -> 12002 | G31: weet niet wat dit is?
A32: 5158 | B32: Jaartrajectkaart | C32: =rekentabel!U4 -> 12034 | G32: Traject Vrij Doorlopend, Consumentenkanaal, 12 maandelijkse termijnen
A33: 5159 | B33: Traject Vrij maand | C33: =rekentabel!W4 -> 12036 | G33: Traject Vrij Maand, Consumentenkanaal,
A34: 5900 | B34: Ritprijs reizen op saldo NS | C34: =rekentabel!$C$4 -> 12001 | E34: =rekentabel!$G$4 -> 12020 | F34: =rekentabel!$I$4 -> 12060 | G34: Voor de Saldo adviesmodule?
A35: 5901 | B35: Ritprijs reizen op saldo NS | C35: =rekentabel!$K$4 -> 12002 | E35: =rekentabel!$O$4 -> 12010 | F35: =rekentabel!$Q$4 -> 12061 | G35: Voor de Saldo adviesmodule?
A37: NB | B37: Tabel 61 Toegevoegd voor retour 20% korting | F37: NB dit product bestaat nog niet
B38: Code 5901 Bestaat nog niet= is enkele reis 2e klas voor de saldo adviesmodule

Sheet input aan NS afgerond op centen
A2: Tariefgebied | B2: 4 | C2: Valleilijn - Amersfoort Ede Wageningen | R2: Exlusief Kaarttoeslag
A3: Tariefgebied Code | B3: =2^B2 -> 16 | F3: ! Check of Prijzen doorgaand oplopend zijn | R3: Bedragen per jaar | T3: Bedragen per maand
A4: Codering | B4: 1 | C4: 1 | D4: 1 | E4: 1 | F4: 20 | G4: 20 | H4: 60 | I4: 60 | J4: 2 | K4: 2 | L4: 2 | M4: 2 | N4: 10 | O4: 10 | P4: 61 | Q4: 61 | R4: 37 | S4: 37 | T4: 34 | U4: 34 | V4: 36 | W4: 36
A5: Prijstabel | B5: =$B$2*1000+B4 -> 4001 | C5: =$B$2*1000+C4 -> 4001 | D5: =$B$2*1000+D4 -> 4001 | E5: =$B$2*1000+E4 -> 4001 | F5: =$B$2*1000+F4 -> 4020 | G5: =$B$2*1000+G4 -> 4020 | H5: =$B$2*1000+H4 -> 4060 | I5: =$B$2*1000+I4 -> 4060 | ... W5: =$B$2*1000+W4 -> 4036
A6: Tarief-eenheden | B6: enkel reis 1e klas vol | C6: enkele reis 2e klas vol | D6: enkele reis 1e klas 50% | E6: enkele reis 2e klas 50% | F6: enkele reis 1e klas 40% | G6: enkele reis 2e klas 40% | H6: enkele reis 1e klas 20% | I6: enkele reis 2e klas 20% | J6: retour 1e klas vol | K6: retour 2e klas vol | L6: retour 1e klas 50% | M6: retour 2e klas 50% | N6: retour 1e klas 40% | O6: retour 2e klas 40% | P6: retour 1e klas 20% | Q6: retour 2e klas 20% | R6: TV zakelijk 1e klas | S6: TV zakelijk 2e klas | T6: TV doorlopend 1e klas | U6: TV doorlopend 2e klas | V6: TV maand 1e klas | W6: TV maand 2e klas
A7: 0 | B7: =ROUND(rekentabel!B6,2) -> 4.85 | C7: =ROUND(rekentabel!C6,2) -> 2.85 | F7: =ROUND(rekentabel!F6,2) -> 2.91 | G7: =ROUND(rekentabel!G6,2) -> 1.71 | H7: =ROUND(rekentabel!H6,2) -> 3.88 | I7: =ROUND(rekentabel!I6,2) -> 2.28 | J7: =ROUND(rekentabel!J6,2) -> 9.56 | K7: =ROUND(rekentabel!K6,2) -> 5.62 | N7: =ROUND(rekentabel!N6,2) -> 5.74 | O7: =ROUND(rekentabel!O6,2) -> 3.38 | P7: =ROUND(rekentabel!P6,2) -> 7.64 | Q7: =ROUND(rekentabel!Q6,2) -> 4.5 | R7: =ROUND(rekentabel!R6,2) -> 1232 | S7: =ROUND(rekentabel!S6,2) -> 720 | T7: =ROUND(rekentabel!T6,2) -> 102 | U7: =ROUND(rekentabel!U6,2) -> 61 | ... W7: =ROUND(rekentabel!W6,2) -> 76
A8: 1 | B8: =ROUND(rekentabel!B7,2) -> 4.85 | C8: =ROUND(rekentabel!C7,2) -> 2.85 | F8: =ROUND(rekentabel!F7,2) -> 2.91 | G8: =ROUND(rekentabel!G7,2) -> 1.71 | H8: =ROUND(rekentabel!H7,2) -> 3.88 | I8: =ROUND(rekentabel!I7,2) -> 2.28 | J8: =ROUND(rekentabel!J7,2) -> 9.7 | K8: =ROUND(rekentabel!K7,2) -> 5.7 | N8: =ROUND(rekentabel!N7,2) -> 5.82 | O8: =ROUND(rekentabel!O7,2) -> 3.42 | P8: =ROUND(rekentabel!P7,2) -> 7.76 | Q8: =ROUND(rekentabel!Q7,2) -> 4.56 | R8: =ROUND(rekentabel!R7,2) -> 1232 | S8: =ROUND(rekentabel!S7,2) -> 720 | T8: =ROUND(rekentabel!T7,2) -> 102 | U8: =ROUND(rekentabel!U7,2) -> 61 | ... W8: =ROUND(rekentabel!W7,2) -> 76
A9: 2 | B9: =ROUND(rekentabel!B8,2) -> 4.85 | C9: =ROUND(rekentabel!C8,2) -> 2.85 | F9: =ROUND(rekentabel!F8,2) -> 2.91 | G9: =ROUND(rekentabel!G8,2) -> 1.71 | H9: =ROUND(rekentabel!H8,2) -> 3.88 | I9: =ROUND(rekentabel!I8,2) -> 2.28 | J9: =ROUND(rekentabel!J8,2) -> 9.7 | K9: =ROUND(rekentabel!K8,2) -> 5.7 | N9: =ROUND(rekentabel!N8,2) -> 5.82 | O9: =ROUND(rekentabel!O8,2) -> 3.42 | P9: =ROUND(rekentabel!P8,2) -> 7.76 | Q9: =ROUND(rekentabel!Q8,2) -> 4.56 | R9: =ROUND(rekentabel!R8,2) -> 1232 | S9: =ROUND(rekentabel!S8,2) -> 720 | T9: =ROUND(rekentabel!T8,2) -> 102 | U9: =ROUND(rekentabel!U8,2) -> 61 | ... W9: =ROUND(rekentabel!W8,2) -> 76
A10: 3 | B10: =ROUND(rekentabel!B9,2) -> 4.85 | C10: =ROUND(rekentabel!C9,2) -> 2.85 | F10: =ROUND(rekentabel!F9,2) -> 2.91 | G10: =ROUND(rekentabel!G9,2) -> 1.71 | H10: =ROUND(rekentabel!H9,2) -> 3.88 | I10: =ROUND(rekentabel!I9,2) -> 2.28 | J10: =ROUND(rekentabel!J9,2) -> 9.7 | K10: =ROUND(rekentabel!K9,2) -> 5.7 | N10: =ROUND(rekentabel!N9,2) -> 5.82 | O10: =ROUND(rekentabel!O9,2) -> 3.42 | P10: =ROUND(rekentabel!P9,2) -> 7.76 | Q10: =ROUND(rekentabel!Q9,2) -> 4.56 | R10: =ROUND(rekentabel!R9,2) -> 1232 | S10: =ROUND(rekentabel!S9,2) -> 720 | T10: =ROUND(rekentabel!T9,2) -> 102 | U10: =ROUND(rekentabel!U9,2) -> 61 | ... W10: =ROUND(rekentabel!W9,2) -> 76
A11: 4 | B11: =ROUND(rekentabel!B10,2) -> 4.85 | C11: =ROUND(rekentabel!C10,2) -> 2.85 | F11: =ROUND(rekentabel!F10,2) -> 2.91 | G11: =ROUND(rekentabel!G10,2) -> 1.71 | H11: =ROUND(rekentabel!H10,2) -> 3.88 | I11: =ROUND(rekentabel!I10,2) -> 2.28 | J11: =ROUND(rekentabel!J10,2) -> 9.7 | K11: =ROUND(rekentabel!K10,2) -> 5.7 | N11: =ROUND(rekentabel!N10,2) -> 5.82 | O11: =ROUND(rekentabel!O10,2) -> 3.42 | P11: =ROUND(rekentabel!P10,2) -> 7.76 | Q11: =ROUND(rekentabel!Q10,2) -> 4.56 | R11: =ROUND(rekentabel!R10,2) -> 1232 | S11: =ROUND(rekentabel!S10,2) -> 720 | T11: =ROUND(rekentabel!T10,2) -> 102 | U11: =ROUND(rekentabel!U10,2) -> 61 | ... W11: =ROUND(rekentabel!W10,2) -> 76
A12: 5 | B12: =ROUND(rekentabel!B11,2) -> 4.85 | C12: =ROUND(rekentabel!C11,2) -> 2.85 | F12: =ROUND(rekentabel!F11,2) -> 2.91 | G12: =ROUND(rekentabel!G11,2) -> 1.71 | H12: =ROUND(rekentabel!H11,2) -> 3.88 | I12: =ROUND(rekentabel!I11,2) -> 2.28 | J12: =ROUND(rekentabel!J11,2) -> 9.7 | K12: =ROUND(rekentabel!K11,2) -> 5.7 | N12: =ROUND(rekentabel!N11,2) -> 5.82 | O12: =ROUND(rekentabel!O11,2) -> 3.42 | P12: =ROUND(rekentabel!P11,2) -> 7.76 | Q12: =ROUND(rekentabel!Q11,2) -> 4.56 | R12: =ROUND(rekentabel!R11,2) -> 1232 | S12: =ROUND(rekentabel!S11,2) -> 720 | T12: =ROUND(rekentabel!T11,2) -> 102 | U12: =ROUND(rekentabel!U11,2) -> 61 | ... W12: =ROUND(rekentabel!W11,2) -> 76
A13: 6 | B13: =ROUND(rekentabel!B12,2) -> 4.85 | C13: =ROUND(rekentabel!C12,2) -> 2.85 | F13: =ROUND(rekentabel!F12,2) -> 2.91 | G13: =ROUND(rekentabel!G12,2) -> 1.71 | H13: =ROUND(rekentabel!H12,2) -> 3.88 | I13: =ROUND(rekentabel!I12,2) -> 2.28 | J13: =ROUND(rekentabel!J12,2) -> 9.7 | K13: =ROUND(rekentabel!K12,2) -> 5.7 | N13: =ROUND(rekentabel!N12,2) -> 5.82 | O13: =ROUND(rekentabel!O12,2) -> 3.42 | P13: =ROUND(rekentabel!P12,2) -> 7.76 | Q13: =ROUND(rekentabel!Q12,2) -> 4.56 | R13: =ROUND(rekentabel!R12,2) -> 1232 | S13: =ROUND(rekentabel!S12,2) -> 720 | T13: =ROUND(rekentabel!T12,2) -> 102 | U13: =ROUND(rekentabel!U12,2) -> 61 | ... W13: =ROUND(rekentabel!W12,2) -> 76
A14: 7 | B14: =ROUND(rekentabel!B13,2) -> 4.85 | C14: =ROUND(rekentabel!C13,2) -> 2.85 | F14: =ROUND(rekentabel!F13,2) -> 2.91 | G14: =ROUND(rekentabel!G13,2) -> 1.71 | H14: =ROUND(rekentabel!H13,2) -> 3.88 | I14: =ROUND(rekentabel!I13,2) -> 2.28 | J14: =ROUND(rekentabel!J13,2) -> 9.7 | K14: =ROUND(rekentabel!K13,2) -> 5.7 | N14: =ROUND(rekentabel!N13,2) -> 5.82 | O14: =ROUND(rekentabel!O13,2) -> 3.42 | P14: =ROUND(rekentabel!P13,2) -> 7.76 | Q14: =ROUND(rekentabel!Q13,2) -> 4.56 | R14: =ROUND(rekentabel!R13,2) -> 1232 | S14: =ROUND(rekentabel!S13,2) -> 720 | T14: =ROUND(rekentabel!T13,2) -> 102 | U14: =ROUND(rekentabel!U13,2) -> 61 | ... W14: =ROUND(rekentabel!W13,2) -> 76
A15: 8 | B15: =ROUND(rekentabel!B14,2) -> 4.85 | C15: =ROUND(rekentabel!C14,2) -> 2.85 | F15: =ROUND(rekentabel!F14,2) -> 2.91 | G15: =ROUND(rekentabel!G14,2) -> 1.71 | H15: =ROUND(rekentabel!H14,2) -> 3.88 | I15: =ROUND(rekentabel!I14,2) -> 2.28 | J15: =ROUND(rekentabel!J14,2) -> 9.7 | K15: =ROUND(rekentabel!K14,2) -> 5.7 | N15: =ROUND(rekentabel!N14,2) -> 5.82 | O15: =ROUND(rekentabel!O14,2) -> 3.42 | P15: =ROUND(rekentabel!P14,2) -> 7.76 | Q15: =ROUND(rekentabel!Q14,2) -> 4.56 | R15: =ROUND(rekentabel!R14,2) -> 1232 | S15: =ROUND(rekentabel!S14,2) -> 720 | T15: =ROUND(rekentabel!T14,2) -> 102 | U15: =ROUND(rekentabel!U14,2) -> 61 | ... W15: =ROUND(rekentabel!W14,2) -> 76
A16: 9 | B16: =ROUND(rekentabel!B15,2) -> 5.18 | C16: =ROUND(rekentabel!C15,2) -> 3.04 | F16: =ROUND(rekentabel!F15,2) -> 3.11 | G16: =ROUND(rekentabel!G15,2) -> 1.82 | H16: =ROUND(rekentabel!H15,2) -> 4.14 | I16: =ROUND(rekentabel!I15,2) -> 2.43 | J16: =ROUND(rekentabel!J15,2) -> 10.36 | K16: =ROUND(rekentabel!K15,2) -> 6.08 | N16: =ROUND(rekentabel!N15,2) -> 6.22 | O16: =ROUND(rekentabel!O15,2) -> 3.64 | P16: =ROUND(rekentabel!P15,2) -> 8.28 | Q16: =ROUND(rekentabel!Q15,2) -> 4.86 | R16: =ROUND(rekentabel!R15,2) -> 1344 | S16: =ROUND(rekentabel!S15,2) -> 789 | T16: =ROUND(rekentabel!T15,2) -> 113 | U16: =ROUND(rekentabel!U15,2) -> 66 | ... W16: =ROUND(rekentabel!W15,2) -> 81
A17: 10 | B17: =ROUND(rekentabel!B16,2) -> 5.5 | C17: =ROUND(rekentabel!C16,2) -> 3.24 | F17: =ROUND(rekentabel!F16,2) -> 3.3 | G17: =ROUND(rekentabel!G16,2) -> 1.94 | H17: =ROUND(rekentabel!H16,2) -> 4.4 | I17: =ROUND(rekentabel!I16,2) -> 2.59 | J17: =ROUND(rekentabel!J16,2) -> 11 | K17: =ROUND(rekentabel!K16,2) -> 6.48 | N17: =ROUND(rekentabel!N16,2) -> 6.6 | O17: =ROUND(rekentabel!O16,2) -> 3.88 | P17: =ROUND(rekentabel!P16,2) -> 8.8 | Q17: =ROUND(rekentabel!Q16,2) -> 5.18 | R17: =ROUND(rekentabel!R16,2) -> 1440 | S17: =ROUND(rekentabel!S16,2) -> 844 | T17: =ROUND(rekentabel!T16,2) -> 121 | U17: =ROUND(rekentabel!U16,2) -> 71 | ... W17: =ROUND(rekentabel!W16,2) -> 88
A18: 11 | B18: =ROUND(rekentabel!B17,2) -> 5.83 | C18: =ROUND(rekentabel!C17,2) -> 3.43 | F18: =ROUND(rekentabel!F17,2) -> 3.5 | G18: =ROUND(rekentabel!G17,2) -> 2.06 | H18: =ROUND(rekentabel!H17,2) -> 4.66 | I18: =ROUND(rekentabel!I17,2) -> 2.74 | J18: =ROUND(rekentabel!J17,2) -> 11.66 | K18: =ROUND(rekentabel!K17,2) -> 6.86 | N18: =ROUND(rekentabel!N17,2) -> 7 | O18: =ROUND(rekentabel!O17,2) -> 4.12 | P18: =ROUND(rekentabel!P17,2) -> 9.32 | Q18: =ROUND(rekentabel!Q17,2) -> 5.48 | R18: =ROUND(rekentabel!R17,2) -> 1552 | S18: =ROUND(rekentabel!S17,2) -> 914 | T18: =ROUND(rekentabel!T17,2) -> 129 | U18: =ROUND(rekentabel!U17,2) -> 76 | ... W18: =ROUND(rekentabel!W17,2) -> 94
... A258: 999 | B258: =ROUND(rekentabel!B257,2) -> 52.27 | C258: =ROUND(rekentabel!C257,2) -> 30.75 | F258: =ROUND(rekentabel!F257,2) -> 31.36 | G258: =ROUND(rekentabel!G257,2) -> 18.45 | H258: =ROUND(rekentabel!H257,2) -> 41.82 | I258: =ROUND(rekentabel!I257,2) -> 24.6 | J258: =ROUND(rekentabel!J257,2) -> 104.54 | K258: =ROUND(rekentabel!K257,2) -> 61.5 | N258: =ROUND(rekentabel!N257,2) -> 62.72 | O258: =ROUND(rekentabel!O257,2) -> 36.9 | P258: =ROUND(rekentabel!P257,2) -> 83.64 | Q258: =ROUND(rekentabel!Q257,2) -> 49.2 | R258: =ROUND(rekentabel!R257,2) -> 7614 | S258: =ROUND(rekentabel!S257,2) -> 4535 | T258: =ROUND(rekentabel!T257,2) -> 634 | U258: =ROUND(rekentabel!U257,2) -> 379 | ... W258: =ROUND(rekentabel!W257,2) -> 465

Sheet point-to-point tbv ROR intern
A1: Dit is de point-to-point matrix zonder LAK
A5: Deze point-to-point moet actueel blijven want in gebruik voor L3 prijsberekening ROR 1.0,
A6: dus Cxx-only ROR zolang we nog op de Valleilijn zelf de EOD doen en mogleijk nog even ROR 1.0 voor NS zoalsng ROR 1.1. nog niet live is.
A10: Tarieven Valleilijn 2020
A14: Toelichting: | B14: Tarief tweede klas
B15: Tarief eerste klas = tarief tweede klas * 1,7
A17: Ingangsdatum: | B17: 44197
A19: Van | C19: Naar
A20: Station | C20: Hoevelaken | D20: =A24 -> Barneveld Noord | E20: =A25 -> Barneveld Centrum | F20: Barneveld Zuid | G20: =A27 -> Lunteren | H20: =A28 -> Ede Centrum | I20: Ede-Wageningen
B21: Code | C21: 54675 | D21: =B24 -> 46203 | E21: =B25 -> 46205 | G21: =B27 -> 46200 | H21: =B28 -> 46196 | I21: 46198
A22: Amerfoort | B22: 46208 | C22: =VLOOKUP(C39,'input aan NS afgerond op centen'!$A$7:$C$41,3,FALSE)*100-$B$30 -> 186 | D22: =VLOOKUP(D39,'input aan NS afgerond op centen'!$A$7:$C$41,3,FALSE)*100-$B$30 -> 341 | E22: =VLOOKUP(E39,'input aan NS afgerond op centen'!$A$7:$C$41,3,FALSE)*100-$B$30 -> 399 | F22: =VLOOKUP(F39,'input aan NS afgerond op centen'!$A$7:$C$41,3,FALSE)*100-$B$30 -> 437 | G22: =VLOOKUP(G39,'input aan NS afgerond op centen'!$A$7:$C$41,3,FALSE)*100-$B$30 -> 534 | H22: =VLOOKUP(H39,'input aan NS afgerond op centen'!$A$7:$C$41,3,FALSE)*100-$B$30 -> 650 | I22: =VLOOKUP(I39,'input aan NS afgerond op centen'!$A$7:$C$41,3,FALSE)*100-$B$30 -> 688
A23: =C20 -> Hoevelaken | B23: =C21 -> 54675 | D23: =VLOOKUP(D40,'input aan NS afgerond op centen'!$A$7:$C$41,3,FALSE)*100-$B$30 -> 225 | E23: =VLOOKUP(E40,'input aan NS afgerond op centen'!$A$7:$C$41,3,FALSE)*100-$B$30 -> 283 | F23: =VLOOKUP(F40,'input aan NS afgerond op centen'!$A$7:$C$41,3,FALSE)*100-$B$30 -> 321 | G23: =VLOOKUP(G40,'input aan NS afgerond op centen'!$A$7:$C$41,3,FALSE)*100-$B$30 -> 418 | H23: =VLOOKUP(H40,'input aan NS afgerond op centen'!$A$7:$C$41,3,FALSE)*100-$B$30 -> 534 | I23: =VLOOKUP(I40,'input aan NS afgerond op centen'!$A$7:$C$41,3,FALSE)*100-$B$30 -> 572
A24: Barneveld Noord | B24: 46203 | E24: =VLOOKUP(E41,'input aan NS afgerond op centen'!$A$7:$C$41,3,FALSE)*100-$B$30 -> 186 | F24: =VLOOKUP(F41,'input aan NS afgerond op centen'!$A$7:$C$41,3,FALSE)*100-$B$30 -> 186 | G24: =VLOOKUP(G41,'input aan NS afgerond op centen'!$A$7:$C$41,3,FALSE)*100-$B$30 -> 225 | H24: =VLOOKUP(H41,'input aan NS afgerond op centen'!$A$7:$C$41,3,FALSE)*100-$B$30 -> 341 | I24: =VLOOKUP(I41,'input aan NS afgerond op centen'!$A$7:$C$41,3,FALSE)*100-$B$30 -> 379
A25: Barneveld Centrum | B25: 46205 | F25: =VLOOKUP(F42,'input aan NS afgerond op centen'!$A$7:$C$41,3,FALSE)*100-$B$30 -> 186 | G25: =VLOOKUP(G42,'input aan NS afgerond op centen'!$A$7:$C$41,3,FALSE)*100-$B$30 -> 186 | H25: =VLOOKUP(H42,'input aan NS afgerond op centen'!$A$7:$C$41,3,FALSE)*100-$B$30 -> 283 | I25: =VLOOKUP(I42,'input aan NS afgerond op centen'!$A$7:$C$41,3,FALSE)*100-$B$30 -> 321
A26: Barneveld Zuid | F26: =VLOOKUP(F43,'input aan NS afgerond op centen'!$A$7:$C$41,3,FALSE)*100-$B$30 -> 186 | G26: =VLOOKUP(G43,'input aan NS afgerond op centen'!$A$7:$C$41,3,FALSE)*100-$B$30 -> 186 | H26: =VLOOKUP(H43,'input aan NS afgerond op centen'!$A$7:$C$41,3,FALSE)*100-$B$30 -> 244 | I26: =VLOOKUP(I43,'input aan NS afgerond op centen'!$A$7:$C$41,3,FALSE)*100-$B$30 -> 283
A27: Lunteren | B27: 46200 | H27: =VLOOKUP(H44,'input aan NS afgerond op centen'!$A$7:$C$41,3,FALSE)*100-$B$30 -> 186 | I27: =VLOOKUP(I44,'input aan NS afgerond op centen'!$A$7:$C$41,3,FALSE)*100-$B$30 -> 186
A28: Ede Centrum | B28: 46196 | I28: =VLOOKUP(I45,'input aan NS afgerond op centen'!$A$7:$C$41,3,FALSE)*100-$B$30 -> 186
A30: Opstaptarief: | B30: 99 | C30: DIT WORDT BIJ BOVENSTAANDE TARIEVEN OPGETELD, BEHALVE NÁ OVERSTAP VANAF NS OP VALLEILIJN
A35: Gebaseerd op deze tariefeenheden (zelfde als voor ERET papier en TrajectVrij)
A36: Van | C36: Naar
A37: Station | C37: Hoevelaken | D37: Barneveld Noord | E37: Barneveld Centrum | F37: Barneveld Zuid | G37: Lunteren | H37: Ede Centrum | I37: Ede-Wageningen
B38: Code | C38: 54675 | D38: 46203 | E38: 46205 | G38: 46200 | H38: 46196 | I38: 46198
A39: Amerfoort | B39: 46208 | C39: 6 | D39: 16 | E39: 19 | F39: =E39+tariefeenheden!$C$8 -> 21 | G39: =F39+tariefeenheden!$C$9 -> 26 | H39: 32 | I39: 34
A40: Hoevelaken | B40: 54675 | D40: 10 | E40: 13 | F40: =E40+tariefeenheden!$C$8 -> 15 | G40: =F40+tariefeenheden!$C$9 -> 20 | H40: 26 | I40: 28
A41: Barneveld Noord | B41: 46203 | E41: 3 | F41: =E41+tariefeenheden!$C$8 -> 5 | G41: =F41+tariefeenheden!$C$9 -> 10 | H41: 16 | I41: 18
A42: Barneveld Centrum | B42: 46205 | F42: =E42+tariefeenheden!$C$8 -> 2 | G42: =F42+tariefeenheden!$C$9 -> 7 | H42: 13 | I42: 15
A43: Barneveld Zuid | G43: =F43+tariefeenheden!$C$9 -> 5 | H43: =G43+6 -> 11 | I43: =H43+2 -> 13
A44: Lunteren | B44: 46200 | H44: 6 | I44: 8
A45: Ede Centrum | B45: 46196 | I45: 2
A49: Check output
A50: tarieven resulterend uit de opgave in OV-chipsysteem VOOR 2E KLASSE BINNEN VALLEILIJN:
A52: Van | C52: Naar
A53: Station | C53: Hoevelaken (490) | D53: =A57 -> Barneveld Noord | E53: =A58 -> Barneveld Centrum | F53: Barneveld Zuid | G53: =A60 -> Lunteren | H53: =A61 -> Ede Centrum | I53: Ede-Wageningen
B54: Code | C54: 54675 | D54: 46203 | E54: 46205 | G54: 46200 | H54: 46196 | I54: 46198
A55: Amerfoort | B55: 46208 | C55: =C22+$B$30 -> 285 | D55: =D22+$B$30 -> 440 | E55: =E22+$B$30 -> 498 | F55: =F22+$B$30 -> 536 | G55: =G22+$B$30 -> 633 | H55: =H22+$B$30 -> 749 | I55: =I22+$B$30 -> 787
A56: Hoevelaken | B56: 54675 | D56: =D23+$B$30 -> 324 | E56: =E23+$B$30 -> 382 | F56: =F23+$B$30 -> 420 | G56: =G23+$B$30 -> 517 | H56: =H23+$B$30 -> 633 | I56: =I23+$B$30 -> 671
A57: Barneveld Noord | B57: 46203 | E57: =E24+$B$30 -> 285 | F57: =F24+$B$30 -> 285 | G57: =G24+$B$30 -> 324 | H57: =H24+$B$30 -> 440 | I57: =I24+$B$30 -> 478
A58: Barneveld Centrum | B58: 46205 | F58: =F25+$B$30 -> 285 | G58: =G25+$B$30 -> 285 | H58: =H25+$B$30 -> 382 | I58: =I25+$B$30 -> 420
A59: Barneveld Zuid | G59: =G26+$B$30 -> 285 | H59: =H26+$B$30 -> 343 | I59: =I26+$B$30 -> 382
A60: Lunteren | B60: 46200 | H60: =H27+$B$30 -> 285 | I60: =I27+$B$30 -> 285
...

Sheet tabel EOD 1jan21
A1: CONNEXXION - VALLEILIJN
A2: Tarief LAK voor EOD | C2: 44197 | D2: Compleet
K3: L1 fare tabel for ROR SWT-products on Valleilijn
A4: Waardes in te regelen in de EOD, per klasse en kortings%, exclusief opstaptarief.
C6: full fare | E6: 20% reduction | G6: 40% reduction | K6: product 524 | M6: product 541
C7: 2nd class | D7: 1st class | E7: 2nd class | F7: 1st class | G7: 2nd class | H7: 1st class | K7: delta between | M7: identical to | N7: identical to
B8: opstaptarief | C8: 99 | D8: =ROUND($C$8*D9,0) -> 168 | E8: =ROUND($C$8*E9,0) -> 79 | F8: =ROUND($C$8*F9,0) -> 135 | G8: =ROUND($C$8*G9,0) -> 59 | H8: =ROUND($C$8*H9,0) -> 101 | K8: 1st and 2nd full fare | M8: full fare 2nd | N8: full fare 1st
B9: rekenfactor 2e klas x … | C9: 1 | D9: =1.7 -> 1.7 | E9: 0.8 | F9: =0.8*1.7 -> 1.36 | G9: =C9*0.6 -> 0.6 | H9: =1.7*0.6 -> 1.02 | K9: 0.7 | M9: 1 | N9: 1
C11: full fare | E11: 20% reduction | G11: 40% reduction | K11: delta fare | M11: full fare | N11: full fare
A12: from tariff unit | B12: till tariff unit | C12: 2nd class | D12: 1st class | E12: 2nd class | F12: 1st class | G12: 2nd class | H12: 1e klas | K12: 1st class | M12: 2nd class | N12: 1st class
A13: 0 | B13: 8 | C13: ='input aan NS afgerond op centen'!C15*100-C$8 -> 186 | D13: ='input aan NS afgerond op centen'!B15*100-D$8 -> 317 | E13: ='input aan NS afgerond op centen'!I15*100-E$8 -> 149 | F13: ='input aan NS afgerond op centen'!H15*100-F$8 -> 253 | G13: ='input aan NS afgerond op centen'!G15*100-G$8 -> 112 | H13: ='input aan NS afgerond op centen'!F15*100-H$8 -> 190 | I13: Amersfoort | K13: =C13*$K$9 -> 130.2 | M13: =C13 -> 186 | N13: =D13 -> 317
A14: 9 | B14: =A14 -> 9 | C14: ='input aan NS afgerond op centen'!C16*100-C$8 -> 205 | D14: ='input aan NS afgerond op centen'!B16*100-D$8 -> 350 | E14: ='input aan NS afgerond op centen'!I16*100-E$8 -> 164 | F14: ='input aan NS afgerond op centen'!H16*100-F$8 -> 279 | G14: ='input aan NS afgerond op centen'!G16*100-G$8 -> 123 | H14: ='input aan NS afgerond op centen'!F16*100-H$8 -> 210 | I14: Amersfoort - Hoevelaken | K14: =C14*$K$9 -> 143.5 | M14: =C14 -> 205 | N14: =D14 -> 350
A15: 10 | B15: =A15 -> 10 | C15: ='input aan NS afgerond op centen'!C17*100-C$8 -> 225 | D15: ='input aan NS afgerond op centen'!B17*100-D$8 -> 382 | E15: ='input aan NS afgerond op centen'!I17*100-E$8 -> 180 | F15: ='input aan NS afgerond op centen'!H17*100-F$8 -> 305 | G15: ='input aan NS afgerond op centen'!G17*100-G$8 -> 135 | H15: ='input aan NS afgerond op centen'!F17*100-H$8 -> 229 | K15: =C15*$K$9 -> 157.5 | M15: =C15 -> 225 | N15: =D15 -> 382
A16: 11 | B16: =A16 -> 11 | C16: ='input aan NS afgerond op centen'!C18*100-C$8 -> 244 | D16: ='input aan NS afgerond op centen'!B18*100-D$8 -> 415 | E16: ='input aan NS afgerond op centen'!I18*100-E$8 -> 195 | F16: ='input aan NS afgerond op centen'!H18*100-F$8 -> 331 | G16: ='input aan NS afgerond op centen'!G18*100-G$8 -> 147 | H16: ='input aan NS afgerond op centen'!F18*100-H$8 -> 249 | K16: =C16*$K$9 -> 170.8 | M16: =C16 -> 244 | N16: =D16 -> 415
A17: 12 | B17: =A17 -> 12 | C17: ='input aan NS afgerond op centen'!C19*100-C$8 -> 263 | D17: ='input aan NS afgerond op centen'!B19*100-D$8 -> 448 | E17: ='input aan NS afgerond op centen'!I19*100-E$8 -> 211 | F17: ='input aan NS afgerond op centen'!H19*100-F$8 -> 358 | G17: ='input aan NS afgerond op centen'!G19*100-G$8 -> 158 | H17: ='input aan NS afgerond op centen'!F19*100-H$8 -> 269 | K17: =C17*$K$9 -> 184.1 | M17: =C17 -> 263 | N17: =D17 -> 448
A18: 13 | B18: =A18 -> 13 | C18: ='input aan NS afgerond op centen'!C20*100-C$8 -> 283 | D18: ='input aan NS afgerond op centen'!B20*100-D$8 -> 481 | E18: ='input aan NS afgerond op centen'!I20*100-E$8 -> 227 | F18: ='input aan NS afgerond op centen'!H20*100-F$8 -> 384 | G18: ='input aan NS afgerond op centen'!G20*100-G$8 -> 170 | H18: ='input aan NS afgerond op centen'!F20*100-H$8 -> 288 | K18: =C18*$K$9 -> 198.1 | M18: =C18 -> 283 | N18: =D18 -> 481
A19: 14 | B19: =A19 -> 14 | C19: ='input aan NS afgerond op centen'!C21*100-C$8 -> 302 | D19: ='input aan NS afgerond op centen'!B21*100-D$8 -> 514 | E19: ='input aan NS afgerond op centen'!I21*100-E$8 -> 242 | F19: ='input aan NS afgerond op centen'!H21*100-F$8 -> 411 | G19: ='input aan NS afgerond op centen'!G21*100-G$8 -> 182 | H19: ='input aan NS afgerond op centen'!F21*100-H$8 -> 308 | K19: =C19*$K$9 -> 211.4 | M19: =C19 -> 302 | N19: =D19 -> 514
A20: 15 | B20: =A20 -> 15 | C20: ='input aan NS afgerond op centen'!C22*100-C$8 -> 321 | D20: ='input aan NS afgerond op centen'!B22*100-D$8 -> 546 | E20: ='input aan NS afgerond op centen'!I22*100-E$8 -> 257 | F20: ='input aan NS afgerond op centen'!H22*100-F$8 -> 436 | G20: ='input aan NS afgerond op centen'!G22*100-G$8 -> 193 | H20: ='input aan NS afgerond op centen'!F22*100-H$8 -> 327 | K20: =C20*$K$9 -> 224.7 | M20: =C20 -> 321 | N20: =D20 -> 546
A21: 16 | B21: =A21 -> 16 | C21: ='input aan NS afgerond op centen'!C23*100-C$8 -> 341 | D21: ='input aan NS afgerond op centen'!B23*100-D$8 -> 579 | E21: ='input aan NS afgerond op centen'!I23*100-E$8 -> 273 | F21: ='input aan NS afgerond op centen'!H23*100-F$8 -> 463 | G21: ='input aan NS afgerond op centen'!G23*100-G$8 -> 205 | H21: ='input aan NS afgerond op centen'!F23*100-H$8 -> 347 | K21: =C21*$K$9 -> 238.7 | M21: =C21 -> 341 | N21: =D21 -> 579
A22: 17 | B22: =A22 -> 17 | C22: ='input aan NS afgerond op centen'!C24*100-C$8 -> 360 | D22: ='input aan NS afgerond op centen'!B24*100-D$8 -> 612 | E22: ='input aan NS afgerond op centen'!I24*100-E$8 -> 288 | F22: ='input aan NS afgerond op centen'!H24*100-F$8 -> 489 | G22: ='input aan NS afgerond op centen'!G24*100-G$8 -> 216 | H22: ='input aan NS afgerond op centen'!F24*100-H$8 -> 367 | K22: =C22*$K$9 -> 252 | M22: =C22 -> 360 | N22: =D22 -> 612
A23: 18 | B23: =A23 -> 18 | C23: ='input aan NS afgerond op centen'!C25*100-C$8 -> 379 | D23: ='input aan NS afgerond op centen'!B25*100-D$8 -> 645 | E23: ='input aan NS afgerond op centen'!I25*100-E$8 -> 303 | F23: ='input aan NS afgerond op centen'!H25*100-F$8 -> 515 | G23: ='input aan NS afgerond op centen'!G25*100-G$8 -> 228 | H23: ='input aan NS afgerond op centen'!F25*100-H$8 -> 387 | K23: =C23*$K$9 -> 265.3 | M23: =C23 -> 379 | N23: =D23 -> 645
A24: 19 | B24: =A24 -> 19 | C24: ='input aan NS afgerond op centen'!C26*100-C$8 -> 399 | D24: ='input aan NS afgerond op centen'!B26*100-D$8 -> 678 | E24: ='input aan NS afgerond op centen'!I26*100-E$8 -> 319 | F24: ='input aan NS afgerond op centen'!H26*100-F$8 -> 542 | G24: ='input aan NS afgerond op centen'!G26*100-G$8 -> 240 | H24: ='input aan NS afgerond op centen'!F26*100-H$8 -> 407 | I24: Amersfoort - Barneveld Centrum | K24: =C24*$K$9 -> 279.3 | M24: =C24 -> 399 | N24: =D24 -> 678
A25: 20 | B25: =A25 -> 20 | C25: ='input aan NS afgerond op centen'!C27*100-C$8 -> 418 | D25: ='input aan NS afgerond op centen'!B27*100-D$8 -> 711 | E25: ='input aan NS afgerond op centen'!I27*100-E$8 -> 335 | F25: ='input aan NS afgerond op centen'!H27*100-F$8 -> 568 | G25: ='input aan NS afgerond op centen'!G27*100-G$8 -> 251 | H25: ='input aan NS afgerond op centen'!F27*100-H$8 -> 426 | K25: =C25*$K$9 -> 292.6 | M25: =C25 -> 418 | N25: =D25 -> 711
A26: 21 | B26: =A26 -> 21 | C26: ='input aan NS afgerond op centen'!C28*100-C$8 -> 437 | D26: ='input aan NS afgerond op centen'!B28*100-D$8 -> 743 | E26: ='input aan NS afgerond op centen'!I28*100-E$8 -> 350 | F26: ='input aan NS afgerond op centen'!H28*100-F$8 -> 594 | G26: ='input aan NS afgerond op centen'!G28*100-G$8 -> 263 | H26: ='input aan NS afgerond op centen'!F28*100-H$8 -> 446 | K26: =C26*$K$9 -> 305.9 | M26: =C26 -> 437 | N26: =D26 -> 743
A27: 22 | B27: =A27 -> 22 | C27: ='input aan NS afgerond op centen'!C29*100-C$8 -> 456 | D27: ='input aan NS afgerond op centen'!B29*100-D$8 -> 776 | E27: ='input aan NS afgerond op centen'!I29*100-E$8 -> 365 | F27: ='input aan NS afgerond op centen'!H29*100-F$8 -> 620 | G27: ='input aan NS afgerond op centen'!G29*100-G$8 -> 274 | H27: ='input aan NS afgerond op centen'!F29*100-H$8 -> 465 | K27: =C27*$K$9 -> 319.2 | M27: =C27 -> 456 | N27: =D27 -> 776
A28: 23 | B28: =A28 -> 23 | C28: ='input aan NS afgerond op centen'!C30*100-C$8 -> 476 | D28: ='input aan NS afgerond op centen'!B30*100-D$8 -> 809 | E28: ='input aan NS afgerond op centen'!I30*100-E$8 -> 381 | F28: ='input aan NS afgerond op centen'!H30*100-F$8 -> 647 | G28: ='input aan NS afgerond op centen'!G30*100-G$8 -> 286 | H28: ='input aan NS afgerond op centen'!F30*100-H$8 -> 485 | K28: =C28*$K$9 -> 333.2 | M28: =C28 -> 476 | N28: =D28 -> 809
A29: 24 | B29: =A29 -> 24 | C29: ='input aan NS afgerond op centen'!C31*100-C$8 -> 495 | D29: ='input aan NS afgerond op centen'!B31*100-D$8 -> 842 | E29: ='input aan NS afgerond op centen'!I31*100-E$8 -> 396 | F29: ='input aan NS afgerond op centen'!H31*100-F$8 -> 673 | G29: ='input aan NS afgerond op centen'!G31*100-G$8 -> 297 | H29: ='input aan NS afgerond op centen'!F31*100-H$8 -> 505 | K29: =C29*$K$9 -> 346.5 | M29: =C29 -> 495 | N29: =D29 -> 842
A30: 25 | B30: =A30 -> 25 | C30: ='input aan NS afgerond op centen'!C32*100-C$8 -> 514 | D30: ='input aan NS afgerond op centen'!B32*100-D$8 -> 875 | E30: ='input aan NS afgerond op centen'!I32*100-E$8 -> 411 | F30: ='input aan NS afgerond op centen'!H32*100-F$8 -> 699 | G30: ='input aan NS afgerond op centen'!G32*100-G$8 -> 309 | H30: ='input aan NS afgerond op centen'!F32*100-H$8 -> 525 | K30: =C30*$K$9 -> 359.8 | M30: =C30 -> 514 | N30: =D30 -> 875
A31: 26 | B31: =A31 -> 26 | C31: ='input aan NS afgerond op centen'!C33*100-C$8 -> 534 | D31: ='input aan NS afgerond op centen'!B33*100-D$8 -> 908 | E31: ='input aan NS afgerond op centen'!I33*100-E$8 -> 427 | F31: ='input aan NS afgerond op centen'!H33*100-F$8 -> 726 | G31: ='input aan NS afgerond op centen'!G33*100-G$8 -> 321 | H31: ='input aan NS afgerond op centen'!F33*100-H$8 -> 545 | K31: =C31*$K$9 -> 373.8 | M31: =C31 -> 534 | N31: =D31 -> 908
A32: 27 | B32: =A32 -> 27 | C32: ='input aan NS afgerond op centen'!C34*100-C$8 -> 553 | D32: ='input aan NS afgerond op centen'!B34*100-D$8 -> 940 | E32: ='input aan NS afgerond op centen'!I34*100-E$8 -> 443 | F32: ='input aan NS afgerond op centen'!H34*100-F$8 -> 751 | G32: ='input aan NS afgerond op centen'!G34*100-G$8 -> 332 | H32: ='input aan NS afgerond op centen'!F34*100-H$8 -> 564 | K32: =C32*$K$9 -> 387.1 | M32: =C32 -> 553 | N32: =D32 -> 940
A33: 28 | B33: =A33 -> 28 | C33: ='input aan NS afgerond op centen'!C35*100-C$8 -> 572 | D33: ='input aan NS afgerond op centen'!B35*100-D$8 -> 973 | E33: ='input aan NS afgerond op centen'!I35*100-E$8 -> 458 | F33: ='input aan NS afgerond op centen'!H35*100-F$8 -> 778 | G33: ='input aan NS afgerond op centen'!G35*100-G$8 -> 344 | H33: ='input aan NS afgerond op centen'!F35*100-H$8 -> 584 | K33: =C33*$K$9 -> 400.4 | M33: =C33 -> 572 | N33: =D33 -> 973
A34: 29 | B34: =A34 -> 29 | C34: ='input aan NS afgerond op centen'!C36*100-C$8 -> 592 | D34: ='input aan NS afgerond op centen'!B36*100-D$8 -> 1006 | E34: ='input aan NS afgerond op centen'!I36*100-E$8 -> 474 | F34: ='input aan NS afgerond op centen'!H36*100-F$8 -> 804 | G34: ='input aan NS afgerond op centen'!G36*100-G$8 -> 356 | H34: ='input aan NS afgerond op centen'!F36*100-H$8 -> 603 | K34: =C34*$K$9 -> 414.4 | M34: =C34 -> 592 | N34: =D34 -> 1006
A35: 30 | B35: =A35 -> 30 | C35: ='input aan NS afgerond op centen'!C37*100-C$8 -> 611 | D35: ='input aan NS afgerond op centen'!B37*100-D$8 -> 1039 | E35: ='input aan NS afgerond op centen'!I37*100-E$8 -> 489 | F35: ='input aan NS afgerond op centen'!H37*100-F$8 -> 831 | G35: ='input aan NS afgerond op centen'!G37*100-G$8 -> 367 | H35: ='input aan NS afgerond op centen'!F37*100-H$8 -> 623 | K35: =C35*$K$9 -> 427.7 | M35: =C35 -> 611 | N35: =D35 -> 1039
A36: 31 | B36: =A36 -> 31 | C36: ='input aan NS afgerond op centen'!C38*100-C$8 -> 630 | D36: ='input aan NS afgerond op centen'!B38*100-D$8 -> 1072 | E36: ='input aan NS afgerond op centen'!I38*100-E$8 -> 504 | F36: ='input aan NS afgerond op centen'!H38*100-F$8 -> 857 | G36: ='input aan NS afgerond op centen'!G38*100-G$8 -> 378 | H36: ='input aan NS afgerond op centen'!F38*100-H$8 -> 643 | K36: =C36*$K$9 -> 441 | M36: =C36 -> 630 | N36: =D36 -> 1072
... A254: 249 | B254: =A254 -> 249 | C254: ='input aan NS afgerond op centen'!C256*100-C$8 -> 2973 | D254: ='input aan NS afgerond op centen'!B256*100-D$8 -> 5054 | E254: ='input aan NS afgerond op centen'!I256*100-E$8 -> 2379 | F254: ='input aan NS afgerond op centen'!H256*100-F$8 -> 4043 | G254: ='input aan NS afgerond op centen'!G256*100-G$8 -> 1784 | H254: ='input aan NS afgerond op centen'!F256*100-H$8 -> 3032 | K254: =C254*$K$9 -> 2081.1 | M254: =C254 -> 2973 | N254: =D254 -> 5054
A255: 250 | B255: 999 | C255: ='input aan NS afgerond op centen'!C257*100-C$8 -> 2976 | D255: ='input aan NS afgerond op centen'!B257*100-D$8 -> 5059 | E255: ='input aan NS afgerond op centen'!I257*100-E$8 -> 2381 | F255: ='input aan NS afgerond op centen'!H257*100-F$8 -> 4047 | G255: ='input aan NS afgerond op centen'!G257*100-G$8 -> 1786 | H255: ='input aan NS afgerond op centen'!F257*100-H$8 -> 3035 | K255: =C255*$K$9 -> 2083.2 | M255: =C255 -> 2976 | N255: =D255 -> 5059
