Workbook

Sheet tariefeenheden
A1: Connexxion Valleilijn - Tariefeenheden t.b.v. ERET, Traject Vrij en chipkaart
A2: Geldig vanaf 1-1-2015
A4: stationsnaam | B4: stationsnaam | C4: te
A5: Amersfoort | B5: Hoevelaken | C5: 6
A6: =B5 -> Hoevelaken | B6: Barneveld Noord | C6: 10
A7: =B6 -> Barneveld Noord | B7: Barneveld Centrum | C7: 3
A8: =B7 -> Barneveld Centrum | B8: Barneveld Zuid | C8: 2
A9: Barneveld Zuid | B9: Lunteren | C9: =7-C8 -> 5 | D9: samen 7
A10: =B9 -> Lunteren | B10: Ede Centrum | C10: 6
A11: =B10 -> Ede Centrum | B11: Ede-Wageningen | C11: 2
C12: =SUM(C5:C11) -> 34

Sheet degressie en km-tarief
A1: Valleilijn berekening vol tarief 2e klas | D1: ingangsdatum | E1: 44562
A2: minimumprijs | C2: 2.9024
A3: km-tarief vanaf 9km | C3: 0.1966
A5: Tarief-eenheden | B5: degressiefactor | C5: tarief 2e klasse vol | D5: 2021
A6: 0 | B6: 1 | C6: =$C$2 -> 2.9024 | D6: 2.8511
A7: 1 | B7: 1 | C7: =$C$2 -> 2.9024 | D7: 2.8511
A8: 2 | B8: 1 | C8: =$C$2 -> 2.9024 | D8: 2.8511
A9: 3 | B9: 1 | C9: =$C$2 -> 2.9024 | D9: 2.8511
A10: 4 | B10: 1 | C10: =$C$2 -> 2.9024 | D10: 2.8511
A11: 5 | B11: 1 | C11: =$C$2 -> 2.9024 | D11: 2.8511
A12: 6 | B12: 1 | C12: =$C$2 -> 2.9024 | D12: 2.8511
A13: 7 | B13: 1 | C13: =$C$2 -> 2.9024 | D13: 2.8511
A14: 8 | B14: 1 | C14: =$C$2 -> 2.9024 | D14: 2.8511
A15: 9 | B15: 1 | C15: =C14+$C$3*B15 -> 3.099 | D15: 3.0442
A16: 10 | B16: 1 | C16: =C15+$C$3*B16 -> 3.2956 | D16: 3.2373
A17: 11 | B17: 1 | C17: =C16+$C$3*B17 -> 3.4922 | D17: 3.4304
A18: 12 | B18: 1 | C18: =C17+$C$3*B18 -> 3.6888 | D18: 3.6235
A19: 13 | B19: 1 | C19: =C18+$C$3*B19 -> 3.8854 | D19: 3.8166
A20: 14 | B20: 1 | C20: =C19+$C$3*B20 -> 4.082 | D20: 4.0097
A21: 15 | B21: 1 | C21: =C20+$C$3*B21 -> 4.2786 | D21: 4.2028
A22: 16 | B22: 1 | C22: =C21+$C$3*B22 -> 4.4752 | D22: 4.3959
A23: 17 | B23: 1 | C23: =C22+$C$3*B23 -> 4.6718 | D23: 4.589
A24: 18 | B24: 1 | C24: =C23+$C$3*B24 -> 4.8684 | D24: 4.7821
A25: 19 | B25: 1 | C25: =C24+$C$3*B25 -> 5.065 | D25: 4.9752
A26: 20 | B26: 1 | C26: =C25+$C$3*B26 -> 5.2616 | D26: 5.1683
... A257: 999 | B257: 0 | C257: =C256+$C$3*B257 -> 31.304022 | D257: 30.747098

Sheet rekentabel
A1: Ingangsdatum | C1: 44562 | J1: deze prijzen gelden alleen binnen 1 vervoerder (indicatief voor reisplanner) | R1: prijzen Traject Vrij geindexeerd CPI 2022 | W1: 0.018
A2: Tarief-gebied | C2: Connexxion - Valleilijn
A3: Codering | B3: 1 | C3: 1 | D3: 1 | E3: 1 | F3: 20 | G3: 20 | H3: 60 | I3: 60 | J3: 2 | K3: 2 | L3: 2 | M3: 2 | N3: 10 | O3: 10 | P3: 61 | Q3: 61 | R3: 37 | S3: 37 | T3: 34 | U3: 34 | V3: 36 | W3: 36 | X3: 53 | Y3: 53 | Z3: 54 | AA3: 54 | AC3: 37 | AD3: 37 | AE3: 34 | AF3: 34 | AG3: 36 | AH3: 36
A4: Prijstabel | B4: 12001 | C4: 12001 | D4: 12001 | E4: 12001 | F4: 12020 | G4: 12020 | H4: 12060 | I4: 12060 | J4: 12002 | K4: 12002 | L4: 12002 | M4: 12002 | N4: 12010 | O4: 12010 | P4: 12061 | Q4: 12061 | R4: 12037 | S4: 12037 | T4: 12034 | U4: 12034 | V4: 12036 | W4: 12036 | X4: 5327 | Y4: 5327 | Z4: 5328 | AA4: 5328 | AC4: 12037 | AD4: 12037 | AE4: 12034 | AF4: 12034 | AG4: 12036 | AH4: 12036
A5: Tarief-eenheden | B5: enkel reis 1e klas vol | C5: enkele reis 2e klas vol | D5: enkele reis 1e klas 50% | E5: enkele reis 2e klas 50% | F5: enkele reis 1e klas 40% | G5: enkele reis 2e klas 40% | H5: enkele reis 1e klas 20% | I5: enkele reis 2e klas 20% | J5: retour 1e klas vol | K5: retour 2e klas vol | L5: retour 1e klas 50% | M5: retour 2e klas 50% | N5: retour 1e klas 40% | O5: retour 2e klas 40% | P5: retour 1e klas 20% | Q5: retour 2e klas 20% | R5: TV zakelijk 1e klas | S5: TV zakelijk 2e klas | T5: TV doorlopend 1e klas | U5: TV doorlopend 2e klas | V5: TV maand 1e klas | W5: TV maand 2e klas | X5: Prepaid Maand 1e klas | Y5: Prepaid Maand 2e klas | Z5: Prepaid 3 maands 1e klas | AA5: Prepaid 3 maands 2e klas | AC5: TV zakelijk 1e klas | AD5: TV zakelijk 2e klas | AE5: TV doorlopend 1e klas | AF5: TV doorlopend 2e klas | AG5: TV maand 1e klas | AH5: TV maand 2e klas
A6: 0 | B6: =C6*1.7 -> 4.93408 | C6: ='degressie en km-tarief'!C6 -> 2.9024 | F6: =ROUND(B6,2)*0.6 -> 2.958 | G6: =ROUND(C6,2)*0.6 -> 1.74 | H6: =ROUND(B6,2)*0.8 -> 3.944 | I6: =ROUND(C6,2)*0.8 -> 2.32 | J6: =2*ROUND(B6,2) -> 9.86 | K6: =2*ROUND(C6,2) -> 5.8 | N6: =2*ROUND(F6,2) -> 5.92 | O6: =2*ROUND(G6,2) -> 3.48 | P6: =2*ROUND(H6,2) -> 7.88 | Q6: =2*ROUND(I6,2) -> 4.64 | R6: =ROUND(AC6*(1+$W$1),0) -> 1254 | S6: =ROUND(AD6*(1+$W$1),0) -> 733 | T6: =ROUND(AE6*(1+$W$1),0) -> 104 | U6: =ROUND(AF6*(1+$W$1),0) -> 62 | V6: =ROUND(AG6*(1+$W$1),0) -> 131 | W6: =ROUND(AH6*(1+$W$1),0) -> 77 | X6: =(T6+2.1)*1.2-2.1 -> 125.22 | Y6: =(U6+2.1)*1.2-2.1 -> 74.82 | Z6: =T6*3 -> 312 | AA6: =U6*3 -> 186 | AC6: 1232 | AD6: 720 | AE6: 102 | AF6: 61 | AG6: 129 | AH6: 76 | AJ6: =R6/AC6 -> 1.0178571 | AK6: =S6/AD6 -> 1.0180556 | AL6: =T6/AE6 -> 1.0196078 | AM6: =U6/AF6 -> 1.0163934 | AN6: =V6/AG6 -> 1.0155039 | AO6: =W6/AH6 -> 1.0131579
A7: 1 | B7: =C7*1.7 -> 4.93408 | C7: ='degressie en km-tarief'!C7 -> 2.9024 | F7: =ROUND(B7,2)*0.6 -> 2.958 | G7: =ROUND(C7,2)*0.6 -> 1.74 | H7: =ROUND(B7,2)*0.8 -> 3.944 | I7: =ROUND(C7,2)*0.8 -> 2.32 | J7: =2*ROUND(B7,2) -> 9.86 | K7: =2*ROUND(C7,2) -> 5.8 | N7: =2*ROUND(F7,2) -> 5.92 | O7: =2*ROUND(G7,2) -> 3.48 | P7: =2*ROUND(H7,2) -> 7.88 | Q7: =2*ROUND(I7,2) -> 4.64 | R7: =ROUND(AC7*(1+$W$1),0) -> 1254 | S7: =ROUND(AD7*(1+$W$1),0) -> 733 | T7: =ROUND(AE7*(1+$W$1),0) -> 104 | U7: =ROUND(AF7*(1+$W$1),0) -> 62 | V7: =ROUND(AG7*(1+$W$1),0) -> 131 | W7: =ROUND(AH7*(1+$W$1),0) -> 77 | X7: =(T7+2.1)*1.2-2.1 -> 125.22 | Y7: =(U7+2.1)*1.2-2.1 -> 74.82 | Z7: =T7*3 -> 312 | AA7: =U7*3 -> 186 | AC7: 1232 | AD7: 720 | AE7: 102 | AF7: 61 | AG7: 129 | AH7: 76 | AJ7: =R7/AC7 -> 1.0178571 | AK7: =S7/AD7 -> 1.0180556 | AL7: =T7/AE7 -> 1.0196078 | AM7: =U7/AF7 -> 1.0163934 | AN7: =V7/AG7 -> 1.0155039 | AO7: =W7/AH7 -> 1.0131579
A8: 2 | B8: =C8*1.7 -> 4.93408 | C8: ='degressie en km-tarief'!C8 -> 2.9024 | F8: =ROUND(B8,2)*0.6 -> 2.958 | G8: =ROUND(C8,2)*0.6 -> 1.74 | H8: =ROUND(B8,2)*0.8 -> 3.944 | I8: =ROUND(C8,2)*0.8 -> 2.32 | J8: =2*ROUND(B8,2) -> 9.86 | K8: =2*ROUND(C8,2) -> 5.8 | N8: =2*ROUND(F8,2) -> 5.92 | O8: =2*ROUND(G8,2) -> 3.48 | P8: =2*ROUND(H8,2) -> 7.88 | Q8: =2*ROUND(I8,2) -> 4.64 | R8: =ROUND(AC8*(1+$W$1),0) -> 1254 | S8: =ROUND(AD8*(1+$W$1),0) -> 733 | T8: =ROUND(AE8*(1+$W$1),0) -> 104 | U8: =ROUND(AF8*(1+$W$1),0) -> 62 | V8: =ROUND(AG8*(1+$W$1),0) -> 131 | W8: =ROUND(AH8*(1+$W$1),0) -> 77 | X8: =(T8+2.1)*1.2-2.1 -> 125.22 | Y8: =(U8+2.1)*1.2-2.1 -> 74.82 | Z8: =T8*3 -> 312 | AA8: =U8*3 -> 186 | AC8: 1232 | AD8: 720 | AE8: 102 | AF8: 61 | AG8: 129 | AH8: 76 | AJ8: =R8/AC8 -> 1.0178571 | AK8: =S8/AD8 -> 1.0180556 | AL8: =T8/AE8 -> 1.0196078 | AM8: =U8/AF8 -> 1.0163934 | AN8: =V8/AG8 -> 1.0155039 | AO8: =W8/AH8 -> 1.0131579
A9: 3 | B9: =C9*1.7 -> 4.93408 | C9: ='degressie en km-tarief'!C9 -> 2.9024 | F9: =ROUND(B9,2)*0.6 -> 2.958 | G9: =ROUND(C9,2)*0.6 -> 1.74 | H9: =ROUND(B9,2)*0.8 -> 3.944 | I9: =ROUND(C9,2)*0.8 -> 2.32 | J9: =2*ROUND(B9,2) -> 9.86 | K9: =2*ROUND(C9,2) -> 5.8 | N9: =2*ROUND(F9,2) -> 5.92 | O9: =2*ROUND(G9,2) -> 3.48 | P9: =2*ROUND(H9,2) -> 7.88 | Q9: =2*ROUND(I9,2) -> 4.64 | R9: =ROUND(AC9*(1+$W$1),0) -> 1254 | S9: =ROUND(AD9*(1+$W$1),0) -> 733 | T9: =ROUND(AE9*(1+$W$1),0) -> 104 | U9: =ROUND(AF9*(1+$W$1),0) -> 62 | V9: =ROUND(AG9*(1+$W$1),0) -> 131 | W9: =ROUND(AH9*(1+$W$1),0) -> 77 | X9: =(T9+2.1)*1.2-2.1 -> 125.22 | Y9: =(U9+2.1)*1.2-2.1 -> 74.82 | Z9: =T9*3 -> 312 | AA9: =U9*3 -> 186 | AC9: 1232 | AD9: 720 | AE9: 102 | AF9: 61 | AG9: 129 | AH9: 76 | AJ9: =R9/AC9 -> 1.0178571 | AK9: =S9/AD9 -> 1.0180556 | AL9: =T9/AE9 -> 1.0196078 | AM9: =U9/AF9 -> 1.0163934 | AN9: =V9/AG9 -> 1.0155039 | AO9: =W9/AH9 -> 1.0131579
A10: 4 | B10: =C10*1.7 -> 4.93408 | C10: ='degressie en km-tarief'!C10 -> 2.9024 | F10: =ROUND(B10,2)*0.6 -> 2.958 | G10: =ROUND(C10,2)*0.6 -> 1.74 | H10: =ROUND(B10,2)*0.8 -> 3.944 | I10: =ROUND(C10,2)*0.8 -> 2.32 | J10: =2*ROUND(B10,2) -> 9.86 | K10: =2*ROUND(C10,2) -> 5.8 | N10: =2*ROUND(F10,2) -> 5.92 | O10: =2*ROUND(G10,2) -> 3.48 | P10: =2*ROUND(H10,2) -> 7.88 | Q10: =2*ROUND(I10,2) -> 4.64 | R10: =ROUND(AC10*(1+$W$1),0) -> 1254 | S10: =ROUND(AD10*(1+$W$1),0) -> 733 | T10: =ROUND(AE10*(1+$W$1),0) -> 104 | U10: =ROUND(AF10*(1+$W$1),0) -> 62 | V10: =ROUND(AG10*(1+$W$1),0) -> 131 | W10: =ROUND(AH10*(1+$W$1),0) -> 77 | X10: =(T10+2.1)*1.2-2.1 -> 125.22 | Y10: =(U10+2.1)*1.2-2.1 -> 74.82 | Z10: =T10*3 -> 312 | AA10: =U10*3 -> 186 | AC10: 1232 | AD10: 720 | AE10: 102 | AF10: 61 | AG10: 129 | AH10: 76 | AJ10: =R10/AC10 -> 1.0178571 | AK10: =S10/AD10 -> 1.0180556 | AL10: =T10/AE10 -> 1.0196078 | AM10: =U10/AF10 -> 1.0163934 | AN10: =V10/AG10 -> 1.0155039 | AO10: =W10/AH10 -> 1.0131579
A11: 5 | B11: =C11*1.7 -> 4.93408 | C11: ='degressie en km-tarief'!C11 -> 2.9024 | F11: =ROUND(B11,2)*0.6 -> 2.958 | G11: =ROUND(C11,2)*0.6 -> 1.74 | H11: =ROUND(B11,2)*0.8 -> 3.944 | I11: =ROUND(C11,2)*0.8 -> 2.32 | J11: =2*ROUND(B11,2) -> 9.86 | K11: =2*ROUND(C11,2) -> 5.8 | N11: =2*ROUND(F11,2) -> 5.92 | O11: =2*ROUND(G11,2) -> 3.48 | P11: =2*ROUND(H11,2) -> 7.88 | Q11: =2*ROUND(I11,2) -> 4.64 | R11: =ROUND(AC11*(1+$W$1),0) -> 1254 | S11: =ROUND(AD11*(1+$W$1),0) -> 733 | T11: =ROUND(AE11*(1+$W$1),0) -> 104 | U11: =ROUND(AF11*(1+$W$1),0) -> 62 | V11: =ROUND(AG11*(1+$W$1),0) -> 131 | W11: =ROUND(AH11*(1+$W$1),0) -> 77 | X11: =(T11+2.1)*1.2-2.1 -> 125.22 | Y11: =(U11+2.1)*1.2-2.1 -> 74.82 | Z11: =T11*3 -> 312 | AA11: =U11*3 -> 186 | AC11: 1232 | AD11: 720 | AE11: 102 | AF11: 61 | AG11: 129 | AH11: 76 | AJ11: =R11/AC11 -> 1.0178571 | AK11: =S11/AD11 -> 1.0180556 | AL11: =T11/AE11 -> 1.0196078 | AM11: =U11/AF11 -> 1.0163934 | AN11: =V11/AG11 -> 1.0155039 | AO11: =W11/AH11 -> 1.0131579
A12: 6 | B12: =C12*1.7 -> 4.93408 | C12: ='degressie en km-tarief'!C12 -> 2.9024 | F12: =ROUND(B12,2)*0.6 -> 2.958 | G12: =ROUND(C12,2)*0.6 -> 1.74 | H12: =ROUND(B12,2)*0.8 -> 3.944 | I12: =ROUND(C12,2)*0.8 -> 2.32 | J12: =2*ROUND(B12,2) -> 9.86 | K12: =2*ROUND(C12,2) -> 5.8 | N12: =2*ROUND(F12,2) -> 5.92 | O12: =2*ROUND(G12,2) -> 3.48 | P12: =2*ROUND(H12,2) -> 7.88 | Q12: =2*ROUND(I12,2) -> 4.64 | R12: =ROUND(AC12*(1+$W$1),0) -> 1254 | S12: =ROUND(AD12*(1+$W$1),0) -> 733 | T12: =ROUND(AE12*(1+$W$1),0) -> 104 | U12: =ROUND(AF12*(1+$W$1),0) -> 62 | V12: =ROUND(AG12*(1+$W$1),0) -> 131 | W12: =ROUND(AH12*(1+$W$1),0) -> 77 | X12: =(T12+2.1)*1.2-2.1 -> 125.22 | Y12: =(U12+2.1)*1.2-2.1 -> 74.82 | Z12: =T12*3 -> 312 | AA12: =U12*3 -> 186 | AC12: 1232 | AD12: 720 | AE12: 102 | AF12: 61 | AG12: 129 | AH12: 76 | AJ12: =R12/AC12 -> 1.0178571 | AK12: =S12/AD12 -> 1.0180556 | AL12: =T12/AE12 -> 1.0196078 | AM12: =U12/AF12 -> 1.0163934 | AN12: =V12/AG12 -> 1.0155039 | AO12: =W12/AH12 -> 1.0131579
A13: 7 | B13: =C13*1.7 -> 4.93408 | C13: ='degressie en km-tarief'!C13 -> 2.9024 | F13: =ROUND(B13,2)*0.6 -> 2.958 | G13: =ROUND(C13,2)*0.6 -> 1.74 | H13: =ROUND(B13,2)*0.8 -> 3.944 | I13: =ROUND(C13,2)*0.8 -> 2.32 | J13: =2*ROUND(B13,2) -> 9.86 | K13: =2*ROUND(C13,2) -> 5.8 | N13: =2*ROUND(F13,2) -> 5.92 | O13: =2*ROUND(G13,2) -> 3.48 | P13: =2*ROUND(H13,2) -> 7.88 | Q13: =2*ROUND(I13,2) -> 4.64 | R13: =ROUND(AC13*(1+$W$1),0) -> 1254 | S13: =ROUND(AD13*(1+$W$1),0) -> 733 | T13: =ROUND(AE13*(1+$W$1),0) -> 104 | U13: =ROUND(AF13*(1+$W$1),0) -> 62 | V13: =ROUND(AG13*(1+$W$1),0) -> 131 | W13: =ROUND(AH13*(1+$W$1),0) -> 77 | X13: =(T13+2.1)*1.2-2.1 -> 125.22 | Y13: =(U13+2.1)*1.2-2.1 -> 74.82 | Z13: =T13*3 -> 312 | AA13: =U13*3 -> 186 | AC13: 1232 | AD13: 720 | AE13: 102 | AF13: 61 | AG13: 129 | AH13: 76 | AJ13: =R13/AC13 -> 1.0178571 | AK13: =S13/AD13 -> 1.0180556 | AL13: =T13/AE13 -> 1.0196078 | AM13: =U13/AF13 -> 1.0163934 | AN13: =V13/AG13 -> 1.0155039 | AO13: =W13/AH13 -> 1.0131579
A14: 8 | B14: =C14*1.7 -> 4.93408 | C14: ='degressie en km-tarief'!C14 -> 2.9024 | F14: =ROUND(B14,2)*0.6 -> 2.958 | G14: =ROUND(C14,2)*0.6 -> 1.74 | H14: =ROUND(B14,2)*0.8 -> 3.944 | I14: =ROUND(C14,2)*0.8 -> 2.32 | J14: =2*ROUND(B14,2) -> 9.86 | K14: =2*ROUND(C14,2) -> 5.8 | N14: =2*ROUND(F14,2) -> 5.92 | O14: =2*ROUND(G14,2) -> 3.48 | P14: =2*ROUND(H14,2) -> 7.88 | Q14: =2*ROUND(I14,2) -> 4.64 | R14: =ROUND(AC14*(1+$W$1),0) -> 1254 | S14: =ROUND(AD14*(1+$W$1),0) -> 733 | T14: =ROUND(AE14*(1+$W$1),0) -> 104 | U14: =ROUND(AF14*(1+$W$1),0) -> 62 | V14: =ROUND(AG14*(1+$W$1),0) -> 131 | W14: =ROUND(AH14*(1+$W$1),0) -> 77 | X14: =(T14+2.1)*1.2-2.1 -> 125.22 | Y14: =(U14+2.1)*1.2-2.1 -> 74.82 | Z14: =T14*3 -> 312 | AA14: =U14*3 -> 186 | AC14: 1232 | AD14: 720 | AE14: 102 | AF14: 61 | AG14: 129 | AH14: 76 | AJ14: =R14/AC14 -> 1.0178571 | AK14: =S14/AD14 -> 1.0180556 | AL14: =T14/AE14 -> 1.0196078 | AM14: =U14/AF14 -> 1.0163934 | AN14: =V14/AG14 -> 1.0155039 | AO14: =W14/AH14 -> 1.0131579
A15: 9 | B15: =C15*1.7 -> 5.2683 | C15: ='degressie en km-tarief'!C15 -> 3.099 | F15: =ROUND(B15,2)*0.6 -> 3.162 | G15: =ROUND(C15,2)*0.6 -> 1.86 | H15: =ROUND(B15,2)*0.8 -> 4.216 | I15: =ROUND(C15,2)*0.8 -> 2.48 | J15: =2*ROUND(B15,2) -> 10.54 | K15: =2*ROUND(C15,2) -> 6.2 | N15: =2*ROUND(F15,2) -> 6.32 | O15: =2*ROUND(G15,2) -> 3.72 | P15: =2*ROUND(H15,2) -> 8.44 | Q15: =2*ROUND(I15,2) -> 4.96 | R15: =ROUND(AC15*(1+$W$1),0) -> 1368 | S15: =ROUND(AD15*(1+$W$1),0) -> 803 | T15: =ROUND(AE15*(1+$W$1),0) -> 115 | U15: =ROUND(AF15*(1+$W$1),0) -> 67 | V15: =ROUND(AG15*(1+$W$1),0) -> 143 | W15: =ROUND(AH15*(1+$W$1),0) -> 82 | X15: =(T15+2.1)*1.2-2.1 -> 138.42 | Y15: =(U15+2.1)*1.2-2.1 -> 80.82 | Z15: =T15*3 -> 345 | AA15: =U15*3 -> 201 | AC15: 1344 | AD15: 789 | AE15: 113 | AF15: 66 | AG15: 140 | AH15: 81 | AJ15: =R15/AC15 -> 1.0178571 | AK15: =S15/AD15 -> 1.017744 | AL15: =T15/AE15 -> 1.0176991 | AM15: =U15/AF15 -> 1.0151515 | AN15: =V15/AG15 -> 1.0214286 | AO15: =W15/AH15 -> 1.0123457
A16: 10 | B16: =C16*1.7 -> 5.60252 | C16: ='degressie en km-tarief'!C16 -> 3.2956 | F16: =ROUND(B16,2)*0.6 -> 3.36 | G16: =ROUND(C16,2)*0.6 -> 1.98 | H16: =ROUND(B16,2)*0.8 -> 4.48 | I16: =ROUND(C16,2)*0.8 -> 2.64 | J16: =2*ROUND(B16,2) -> 11.2 | K16: =2*ROUND(C16,2) -> 6.6 | N16: =2*ROUND(F16,2) -> 6.72 | O16: =2*ROUND(G16,2) -> 3.96 | P16: =2*ROUND(H16,2) -> 8.96 | Q16: =2*ROUND(I16,2) -> 5.28 | R16: =ROUND(AC16*(1+$W$1),0) -> 1466 | S16: =ROUND(AD16*(1+$W$1),0) -> 859 | T16: =ROUND(AE16*(1+$W$1),0) -> 123 | U16: =ROUND(AF16*(1+$W$1),0) -> 72 | V16: =ROUND(AG16*(1+$W$1),0) -> 152 | W16: =ROUND(AH16*(1+$W$1),0) -> 90 | X16: =(T16+2.1)*1.2-2.1 -> 148.02 | Y16: =(U16+2.1)*1.2-2.1 -> 86.82 | Z16: =T16*3 -> 369 | AA16: =U16*3 -> 216 | AC16: 1440 | AD16: 844 | AE16: 121 | AF16: 71 | AG16: 149 | AH16: 88 | AJ16: =R16/AC16 -> 1.0180556 | AK16: =S16/AD16 -> 1.0177725 | AL16: =T16/AE16 -> 1.0165289 | AM16: =U16/AF16 -> 1.0140845 | AN16: =V16/AG16 -> 1.0201342 | AO16: =W16/AH16 -> 1.0227273
A17: 11 | B17: =C17*1.7 -> 5.93674 | C17: ='degressie en km-tarief'!C17 -> 3.4922 | F17: =ROUND(B17,2)*0.6 -> 3.564 | G17: =ROUND(C17,2)*0.6 -> 2.094 | H17: =ROUND(B17,2)*0.8 -> 4.752 | I17: =ROUND(C17,2)*0.8 -> 2.792 | J17: =2*ROUND(B17,2) -> 11.88 | K17: =2*ROUND(C17,2) -> 6.98 | N17: =2*ROUND(F17,2) -> 7.12 | O17: =2*ROUND(G17,2) -> 4.18 | P17: =2*ROUND(H17,2) -> 9.5 | Q17: =2*ROUND(I17,2) -> 5.58 | R17: =ROUND(AC17*(1+$W$1),0) -> 1580 | S17: =ROUND(AD17*(1+$W$1),0) -> 930 | T17: =ROUND(AE17*(1+$W$1),0) -> 131 | U17: =ROUND(AF17*(1+$W$1),0) -> 77 | V17: =ROUND(AG17*(1+$W$1),0) -> 164 | W17: =ROUND(AH17*(1+$W$1),0) -> 96 | X17: =(T17+2.1)*1.2-2.1 -> 157.62 | Y17: =(U17+2.1)*1.2-2.1 -> 92.82 | Z17: =T17*3 -> 393 | AA17: =U17*3 -> 231 | AC17: 1552 | AD17: 914 | AE17: 129 | AF17: 76 | AG17: 161 | AH17: 94 | AJ17: =R17/AC17 -> 1.0180412 | AK17: =S17/AD17 -> 1.0175055 | AL17: =T17/AE17 -> 1.0155039 | AM17: =U17/AF17 -> 1.0131579 | AN17: =V17/AG17 -> 1.0186335 | AO17: =W17/AH17 -> 1.0212766
... A96: 90 | B96: =C96*1.7 -> 31.625558 | C96: ='degressie en km-tarief'!C96 -> 18.603269 | F96: =ROUND(B96,2)*0.6 -> 18.978 | G96: =ROUND(C96,2)*0.6 -> 11.16 | H96: =ROUND(B96,2)*0.8 -> 25.304 | I96: =ROUND(C96,2)*0.8 -> 14.88 | J96: =2*ROUND(B96,2) -> 63.26 | K96: =2*ROUND(C96,2) -> 37.2 | N96: =2*ROUND(F96,2) -> 37.96 | O96: =2*ROUND(G96,2) -> 22.32 | P96: =2*ROUND(H96,2) -> 50.6 | Q96: =2*ROUND(I96,2) -> 29.76 | R96: =ROUND(AC96*(1+$W$1),0) -> 7751 | S96: =ROUND(AD96*(1+$W$1),0) -> 4617 | T96: =ROUND(AE96*(1+$W$1),0) -> 645 | U96: =ROUND(AF96*(1+$W$1),0) -> 386 | V96: =ROUND(AG96*(1+$W$1),0) -> 811 | W96: =ROUND(AH96*(1+$W$1),0) -> 473 | X96: =(T96+2.1)*1.2-2.1 -> 774.42 | Y96: =(U96+2.1)*1.2-2.1 -> 463.62 | Z96: =T96*3 -> 1935 | AA96: =U96*3 -> 1158 | AC96: 7614 | AD96: 4535 | AE96: 634 | AF96: 379 | AG96: 797 | AH96: 465 | AJ96: =R96/AC96 -> 1.0179932 | AK96: =S96/AD96 -> 1.0180816 | AL96: =T96/AE96 -> 1.0173502 | AM96: =U96/AF96 -> 1.0184697 | AN96: =V96/AG96 -> 1.0175659 | AO96: =W96/AH96 -> 1.0172043
A97: 91 | B97: =C97*1.7 -> 31.916396 | C97: ='degressie en km-tarief'!C97 -> 18.774351 | F97: =ROUND(B97,2)*0.6 -> 19.152 | G97: =ROUND(C97,2)*0.6 -> 11.262 | H97: =ROUND(B97,2)*0.8 -> 25.536 | I97: =ROUND(C97,2)*0.8 -> 15.016 | J97: =2*ROUND(B97,2) -> 63.84 | K97: =2*ROUND(C97,2) -> 37.54 | N97: =2*ROUND(F97,2) -> 38.3 | O97: =2*ROUND(G97,2) -> 22.52 | P97: =2*ROUND(H97,2) -> 51.08 | Q97: =2*ROUND(I97,2) -> 30.04 | AJ97: =R97/AC97 -> #DIV/0! | AK97: =S97/AD97 -> #DIV/0! | AL97: =T97/AE97 -> #DIV/0! | AM97: =U97/AF97 -> #DIV/0! | AN97: =V97/AG97 -> #DIV/0! | AO97: =W97/AH97 -> #DIV/0!
A98: 92 | B98: =C98*1.7 -> 32.207234 | C98: ='degressie en km-tarief'!C98 -> 18.945432 | F98: =ROUND(B98,2)*0.6 -> 19.326 | G98: =ROUND(C98,2)*0.6 -> 11.37 | H98: =ROUND(B98,2)*0.8 -> 25.768 | I98: =ROUND(C98,2)*0.8 -> 15.16 | J98: =2*ROUND(B98,2) -> 64.42 | K98: =2*ROUND(C98,2) -> 37.9 | N98: =2*ROUND(F98,2) -> 38.66 | O98: =2*ROUND(G98,2) -> 22.74 | P98: =2*ROUND(H98,2) -> 51.54 | Q98: =2*ROUND(I98,2) -> 30.32 | AJ98: =R98/AC98 -> #DIV/0! | AK98: =S98/AD98 -> #DIV/0! | AL98: =T98/AE98 -> #DIV/0! | AM98: =U98/AF98 -> #DIV/0! | AN98: =V98/AG98 -> #DIV/0! | AO98: =W98/AH98 -> #DIV/0!
A99: 93 | B99: =C99*1.7 -> 32.498072 | C99: ='degressie en km-tarief'!C99 -> 19.116513 | F99: =ROUND(B99,2)*0.6 -> 19.5 | G99: =ROUND(C99,2)*0.6 -> 11.472 | H99: =ROUND(B99,2)*0.8 -> 26 | I99: =ROUND(C99,2)*0.8 -> 15.296 | J99: =2*ROUND(B99,2) -> 65 | K99: =2*ROUND(C99,2) -> 38.24 | N99: =2*ROUND(F99,2) -> 39 | O99: =2*ROUND(G99,2) -> 22.94 | P99: =2*ROUND(H99,2) -> 52 | Q99: =2*ROUND(I99,2) -> 30.6 | AJ99: =R99/AC99 -> #DIV/0! | AK99: =S99/AD99 -> #DIV/0! | AL99: =T99/AE99 -> #DIV/0! | AM99: =U99/AF99 -> #DIV/0! | AN99: =V99/AG99 -> #DIV/0! | AO99: =W99/AH99 -> #DIV/0!
A100: 94 | B100: =C100*1.7 -> 32.788911 | C100: ='degressie en km-tarief'!C100 -> 19.287594 | F100: =ROUND(B100,2)*0.6 -> 19.674 | G100: =ROUND(C100,2)*0.6 -> 11.574 | H100: =ROUND(B100,2)*0.8 -> 26.232 | I100: =ROUND(C100,2)*0.8 -> 15.432 | J100: =2*ROUND(B100,2) -> 65.58 | K100: =2*ROUND(C100,2) -> 38.58 | N100: =2*ROUND(F100,2) -> 39.34 | O100: =2*ROUND(G100,2) -> 23.14 | P100: =2*ROUND(H100,2) -> 52.46 | Q100: =2*ROUND(I100,2) -> 30.86 | AJ100: =R100/AC100 -> #DIV/0! | AK100: =S100/AD100 -> #DIV/0! | AL100: =T100/AE100 -> #DIV/0! | AM100: =U100/AF100 -> #DIV/0! | AN100: =V100/AG100 -> #DIV/0! | AO100: =W100/AH100 -> #DIV/0!
A101: 95 | B101: =C101*1.7 -> 33.079749 | C101: ='degressie en km-tarief'!C101 -> 19.458676 | F101: =ROUND(B101,2)*0.6 -> 19.848 | G101: =ROUND(C101,2)*0.6 -> 11.676 | H101: =ROUND(B101,2)*0.8 -> 26.464 | I101: =ROUND(C101,2)*0.8 -> 15.568 | J101: =2*ROUND(B101,2) -> 66.16 | K101: =2*ROUND(C101,2) -> 38.92 | N101: =2*ROUND(F101,2) -> 39.7 | O101: =2*ROUND(G101,2) -> 23.36 | P101: =2*ROUND(H101,2) -> 52.92 | Q101: =2*ROUND(I101,2) -> 31.14 | AJ101: =R101/AC101 -> #DIV/0! | AK101: =S101/AD101 -> #DIV/0! | AL101: =T101/AE101 -> #DIV/0! | AM101: =U101/AF101 -> #DIV/0! | AN101: =V101/AG101 -> #DIV/0! | AO101: =W101/AH101 -> #DIV/0!
A102: 96 | B102: =C102*1.7 -> 33.370587 | C102: ='degressie en km-tarief'!C102 -> 19.629757 | F102: =ROUND(B102,2)*0.6 -> 20.022 | G102: =ROUND(C102,2)*0.6 -> 11.778 | H102: =ROUND(B102,2)*0.8 -> 26.696 | I102: =ROUND(C102,2)*0.8 -> 15.704 | J102: =2*ROUND(B102,2) -> 66.74 | K102: =2*ROUND(C102,2) -> 39.26 | N102: =2*ROUND(F102,2) -> 40.04 | O102: =2*ROUND(G102,2) -> 23.56 | P102: =2*ROUND(H102,2) -> 53.4 | Q102: =2*ROUND(I102,2) -> 31.4 | AJ102: =R102/AC102 -> #DIV/0! | AK102: =S102/AD102 -> #DIV/0! | AL102: =T102/AE102 -> #DIV/0! | AM102: =U102/AF102 -> #DIV/0! | AN102: =V102/AG102 -> #DIV/0! | AO102: =W102/AH102 -> #DIV/0!
A103: 97 | B103: =C103*1.7 -> 33.661425 | C103: ='degressie en km-tarief'!C103 -> 19.800838 | F103: =ROUND(B103,2)*0.6 -> 20.196 | G103: =ROUND(C103,2)*0.6 -> 11.88 | H103: =ROUND(B103,2)*0.8 -> 26.928 | I103: =ROUND(C103,2)*0.8 -> 15.84 | J103: =2*ROUND(B103,2) -> 67.32 | K103: =2*ROUND(C103,2) -> 39.6 | N103: =2*ROUND(F103,2) -> 40.4 | O103: =2*ROUND(G103,2) -> 23.76 | P103: =2*ROUND(H103,2) -> 53.86 | Q103: =2*ROUND(I103,2) -> 31.68 | AJ103: =R103/AC103 -> #DIV/0! | AK103: =S103/AD103 -> #DIV/0! | AL103: =T103/AE103 -> #DIV/0! | AM103: =U103/AF103 -> #DIV/0! | AN103: =V103/AG103 -> #DIV/0! | AO103: =W103/AH103 -> #DIV/0!
A104: 98 | B104: =C104*1.7 -> 33.952264 | C104: ='degressie en km-tarief'!C104 -> 19.97192 | F104: =ROUND(B104,2)*0.6 -> 20.37 | G104: =ROUND(C104,2)*0.6 -> 11.982 | H104: =ROUND(B104,2)*0.8 -> 27.16 | I104: =ROUND(C104,2)*0.8 -> 15.976 | J104: =2*ROUND(B104,2) -> 67.9 | K104: =2*ROUND(C104,2) -> 39.94 | N104: =2*ROUND(F104,2) -> 40.74 | O104: =2*ROUND(G104,2) -> 23.96 | P104: =2*ROUND(H104,2) -> 54.32 | Q104: =2*ROUND(I104,2) -> 31.96 | AJ104: =R104/AC104 -> #DIV/0! | AK104: =S104/AD104 -> #DIV/0! | AL104: =T104/AE104 -> #DIV/0! | AM104: =U104/AF104 -> #DIV/0! | AN104: =V104/AG104 -> #DIV/0! | AO104: =W104/AH104 -> #DIV/0!
A105: 99 | B105: =C105*1.7 -> 34.243102 | C105: ='degressie en km-tarief'!C105 -> 20.143001 | F105: =ROUND(B105,2)*0.6 -> 20.544 | G105: =ROUND(C105,2)*0.6 -> 12.084 | H105: =ROUND(B105,2)*0.8 -> 27.392 | I105: =ROUND(C105,2)*0.8 -> 16.112 | J105: =2*ROUND(B105,2) -> 68.48 | K105: =2*ROUND(C105,2) -> 40.28 | N105: =2*ROUND(F105,2) -> 41.08 | O105: =2*ROUND(G105,2) -> 24.16 | P105: =2*ROUND(H105,2) -> 54.78 | Q105: =2*ROUND(I105,2) -> 32.22 | AJ105: =R105/AC105 -> #DIV/0! | AK105: =S105/AD105 -> #DIV/0! | AL105: =T105/AE105 -> #DIV/0! | AM105: =U105/AF105 -> #DIV/0! | AN105: =V105/AG105 -> #DIV/0! | AO105: =W105/AH105 -> #DIV/0!
A106: 100 | B106: =C106*1.7 -> 34.53394 | C106: ='degressie en km-tarief'!C106 -> 20.314082 | F106: =ROUND(B106,2)*0.6 -> 20.718 | G106: =ROUND(C106,2)*0.6 -> 12.186 | H106: =ROUND(B106,2)*0.8 -> 27.624 | I106: =ROUND(C106,2)*0.8 -> 16.248 | J106: =2*ROUND(B106,2) -> 69.06 | K106: =2*ROUND(C106,2) -> 40.62 | N106: =2*ROUND(F106,2) -> 41.44 | O106: =2*ROUND(G106,2) -> 24.38 | P106: =2*ROUND(H106,2) -> 55.24 | Q106: =2*ROUND(I106,2) -> 32.5 | AJ106: =R106/AC106 -> #DIV/0! | AK106: =S106/AD106 -> #DIV/0! | AL106: =T106/AE106 -> #DIV/0! | AM106: =U106/AF106 -> #DIV/0! | AN106: =V106/AG106 -> #DIV/0! | AO106: =W106/AH106 -> #DIV/0!
A107: 101 | B107: =C107*1.7 -> 34.767894 | C107: ='degressie en km-tarief'!C107 -> 20.451702 | F107: =ROUND(B107,2)*0.6 -> 20.862 | G107: =ROUND(C107,2)*0.6 -> 12.27 | H107: =ROUND(B107,2)*0.8 -> 27.816 | I107: =ROUND(C107,2)*0.8 -> 16.36 | J107: =2*ROUND(B107,2) -> 69.54 | K107: =2*ROUND(C107,2) -> 40.9 | N107: =2*ROUND(F107,2) -> 41.72 | O107: =2*ROUND(G107,2) -> 24.54 | P107: =2*ROUND(H107,2) -> 55.64 | Q107: =2*ROUND(I107,2) -> 32.72 | AJ107: =R107/AC107 -> #DIV/0! | AK107: =S107/AD107 -> #DIV/0! | AL107: =T107/AE107 -> #DIV/0! | AM107: =U107/AF107 -> #DIV/0! | AN107: =V107/AG107 -> #DIV/0! | AO107: =W107/AH107 -> #DIV/0!
A108: 102 | B108: =C108*1.7 -> 35.001848 | C108: ='degressie en km-tarief'!C108 -> 20.589322 | F108: =ROUND(B108,2)*0.6 -> 21 | G108: =ROUND(C108,2)*0.6 -> 12.354 | H108: =ROUND(B108,2)*0.8 -> 28 | I108: =ROUND(C108,2)*0.8 -> 16.472 | J108: =2*ROUND(B108,2) -> 70 | K108: =2*ROUND(C108,2) -> 41.18 | N108: =2*ROUND(F108,2) -> 42 | O108: =2*ROUND(G108,2) -> 24.7 | P108: =2*ROUND(H108,2) -> 56 | Q108: =2*ROUND(I108,2) -> 32.94 | AJ108: =R108/AC108 -> #DIV/0! | AK108: =S108/AD108 -> #DIV/0! | AL108: =T108/AE108 -> #DIV/0! | AM108: =U108/AF108 -> #DIV/0! | AN108: =V108/AG108 -> #DIV/0! | AO108: =W108/AH108 -> #DIV/0!
... A256: 250 | B256: =C256*1.7 -> 53.216838 | C256: ='degressie en km-tarief'!C256 -> 31.304022 | F256: =ROUND(B256,2)*0.6 -> 31.932 | G256: =ROUND(C256,2)*0.6 -> 18.78 | H256: =ROUND(B256,2)*0.8 -> 42.576 | I256: =ROUND(C256,2)*0.8 -> 25.04 | J256: =2*ROUND(B256,2) -> 106.44 | K256: =2*ROUND(C256,2) -> 62.6 | N256: =2*ROUND(F256,2) -> 63.86 | O256: =2*ROUND(G256,2) -> 37.56 | P256: =2*ROUND(H256,2) -> 85.16 | Q256: =2*ROUND(I256,2) -> 50.08 | AJ256: =R256/AC256 -> #DIV/0! | AK256: =S256/AD256 -> #DIV/0! | AL256: =T256/AE256 -> #DIV/0! | AM256: =U256/AF256 -> #DIV/0! | AN256: =V256/AG256 -> #DIV/0! | AO256: =W256/AH256 -> #DIV/0!
A257: 999 | B257: =C257*1.7 -> 53.216838 | C257: ='degressie en km-tarief'!C257 -> 31.304022 | F257: =ROUND(B257,2)*0.6 -> 31.932 | G257: =ROUND(C257,2)*0.6 -> 18.78 | H257: =ROUND(B257,2)*0.8 -> 42.576 | I257: =ROUND(C257,2)*0.8 -> 25.04 | J257: =2*ROUND(B257,2) -> 106.44 | K257: =2*ROUND(C257,2) -> 62.6 | N257: =2*ROUND(F257,2) -> 63.86 | O257: =2*ROUND(G257,2) -> 37.56 | P257: =2*ROUND(H257,2) -> 85.16 | Q257: =2*ROUND(I257,2) -> 50.08 | R257: =ROUND(AC257*(1+$W$1),0) -> 7751 | S257: =ROUND(AD257*(1+$W$1),0) -> 4617 | T257: =ROUND(AE257*(1+$W$1),0) -> 645 | U257: =ROUND(AF257*(1+$W$1),0) -> 386 | V257: =ROUND(AG257*(1+$W$1),0) -> 811 | W257: =ROUND(AH257*(1+$W$1),0) -> 473 | X257: =(T257+2.1)*1.2-2.1 -> 774.42 | Y257: =(U257+2.1)*1.2-2.1 -> 463.62 | Z257: =T257*3 -> 1935 | AA257: =U257*3 -> 1158 | AC257: 7614 | AD257: 4535 | AE257: 634 | AF257: 379 | AG257: 797 | AH257: 465 | AJ257: =R257/AC257 -> 1.0179932 | AK257: =S257/AD257 -> 1.0180816 | AL257: =T257/AE257 -> 1.0173502 | AM257: =U257/AF257 -> 1.0184697 | AN257: =V257/AG257 -> 1.0175659 | AO257: =W257/AH257 -> 1.0172043

Sheet toelichting
A3: Tarief-gebied | B3: 7 | C3: Syntus | D3: Zutphen-Oldenzaal
A5: Product nummer | B5: Product naam | C5: vol | D5: 50% | E5: 40% | F5: 20% | G5: Opmerking
A6: 1 | B6: Enkele reis | C6: =rekentabel!$C$4 -> 12001 | D6: =rekentabel!$C$4 -> 12001 | E6: =rekentabel!$G$4 -> 12020
A7: 2 | B7: Dagretour | C7: =rekentabel!$K$4 -> 12002 | D7: =rekentabel!$K$4 -> 12002 | E7: =rekentabel!$O$4 -> 12010
A8: 23 | B8: Overgang 2-1 enkelereis | C8: =rekentabel!$C$4 -> 12001 | D8: =rekentabel!$C$4 -> 12001 | E8: =rekentabel!$G$4 -> 12020
A9: 24 | B9: Overgang 2-1 retour | C9: =rekentabel!$K$4 -> 12002 | D9: =rekentabel!$K$4 -> 12002 | E9: =rekentabel!$O$4 -> 12010
A10: 43 | B10: Maandtrajectabonnement | C10: 4 | G10: NS Prijzen voor MTK/JTK
A11: 301 | B11: Enkele reis met korting | C11: =rekentabel!$G$4 -> 12020 | G11: Is dit niet dubbel?
A12: 302 | B12: Dagretour met korting | C12: =rekentabel!$O$4 -> 12010 | G12: Is dit niet dubbel?
A13: 303 | B13: Overgang 2-1 enkele reis 40% | C13: =rekentabel!$G$4 -> 12020 | G13: Is dit niet dubbel?
A14: 304 | B14: Overgang 2-1 retour 40% | C14: =rekentabel!$O$4 -> 12010 | G14: Is dit niet dubbel?
A15: 326 | B15: Eindhoven Airport heenreis | C15: =rekentabel!$C$4 -> 12001 | D15: =rekentabel!$C$4 -> 12001 | E15: =rekentabel!$G$4 -> 12020
A16: 329 | B16: Eindhoven Airport terugreis | C16: =rekentabel!$K$4 -> 12002 | D16: =rekentabel!$K$4 -> 12002 | E16: =rekentabel!$O$4 -> 12010
A17: 1020 | B17: Jaartrajectkaart | C17: 13 | G17: 1020 Is JTK Betaling in 10 Termijnen Consumentenkanaal | M17: NS Prijzen voor MTK/JTK
A18: 1021 | B18: Jaartrajectkaart + 1 OV-zone | C18: 13 | G18: bestaat niet meer in 2014
A19: 1022 | B19: Jaartrajectkaart + 2 OV-zone | C19: 13 | G19: bestaat niet meer in 2014
A20: 1023 | B20: Jaartrajectkaart + 3 OV-zone | C20: 13 | G20: bestaat niet meer in 2014
A21: 1801 | B21: Enkele reis | C21: =rekentabel!$C$4 -> 12001 | D21: =rekentabel!$C$4 -> 12001 | E21: =rekentabel!$G$4 -> 12020
A22: 1802 | B22: Dagretour | C22: =rekentabel!$K$4 -> 12002 | D22: =rekentabel!$K$4 -> 12002 | E22: =rekentabel!$O$4 -> 12010
A23: 1833 | B23: Overgang 2-1 enkele reis | C23: =rekentabel!$C$4 -> 12001 | D23: =rekentabel!$C$4 -> 12001 | E23: =rekentabel!$G$4 -> 12020
A24: 1834 | B24: Overgang 2-1 retour | C24: =rekentabel!$K$4 -> 12002 | D24: =rekentabel!$K$4 -> 12002 | E24: =rekentabel!$O$4 -> 12010
A25: 3020 | B25: Jaartrajectkaart | C25: 33 | G25: 3020 Is JTK Betaling Ineens Consumentenkanaal | L25: NS Prijzen voor MTK/JTK
A26: 3021 | B26: Jaartrajectkaart + 1 OV-zone | C26: 33 | G26: bestaat niet meer in 2014
A27: 3022 | B27: Jaartrajectkaart + 2 OV-zone | C27: 33 | G27: bestaat niet meer in 2014
A28: 3023 | B28: Jaartrajectkaart + 3 OV-zone | C28: 33 | G28: bestaat niet meer in 2014
A29: 5113 | B29: Traject Vrij abonnement | C29: =rekentabel!S4 -> 12037 | G29: Traject Vrij, Zakelijk Kanaal, Betaling ineens
A30: 5142 | B30: Enkele reis | C30: =rekentabel!$C$4 -> 12001 | G30: weet niet wat dit is?
A31: 5143 | B31: Dagretour | C31: =rekentabel!$K$4 -> 12002 | G31: weet niet wat dit is?
A32: 5158 | B32: Jaartrajectkaart | C32: =rekentabel!U4 -> 12034 | G32: Traject Vrij Doorlopend, Consumentenkanaal, 12 maandelijkse termijnen
A33: 5159 | B33: Traject Vrij maand | C33: =rekentabel!W4 -> 12036 | G33: Traject Vrij Maand, Consumentenkanaal,
A34: 5900 | B34: Ritprijs reizen op saldo NS | C34: =rekentabel!$C$4 -> 12001 | E34: =rekentabel!$G$4 -> 12020 | F34: =rekentabel!$I$4 -> 12060 | G34: Voor de Saldo adviesmodule?
A35: 5901 | B35: Ritprijs reizen op saldo NS | C35: =rekentabel!$K$4 -> 12002 | E35: =rekentabel!$O$4 -> 12010 | F35: =rekentabel!$Q$4 -> 12061 | G35: Voor de Saldo adviesmodule?
A37: NB | B37: Tabel 61 Toegevoegd voor retour 20% korting | F37: NB dit product bestaat nog niet
B38: Code 5901 Bestaat nog niet= is enkele reis 2e klas voor de saldo adviesmodule

Sheet input aan NS afgerond op centen
A2: Tariefgebied | B2: 4 | C2: Valleilijn - Amersfoort Ede Wageningen | R2: Exclusief Kaarttoeslag
A3: Tariefgebied Code | B3: =2^B2 -> 16 | F3: ! Check of Prijzen doorgaand oplopend zijn | R3: Bedragen per jaar | T3: Bedragen per maand
A4: Codering | B4: 1 | C4: 1 | D4: 1 | E4: 1 | F4: 20 | G4: 20 | H4: 60 | I4: 60 | J4: 2 | K4: 2 | L4: 2 | M4: 2 | N4: 10 | O4: 10 | P4: 61 | Q4: 61 | R4: 37 | S4: 37 | T4: 34 | U4: 34 | V4: 36 | W4: 36 | X4: 53 | Y4: 53 | Z4: 54 | AA4: 54
A5: Prijstabel | B5: =$B$2*1000+B4 -> 4001 | C5: =$B$2*1000+C4 -> 4001 | D5: =$B$2*1000+D4 -> 4001 | E5: =$B$2*1000+E4 -> 4001 | F5: =$B$2*1000+F4 -> 4020 | G5: =$B$2*1000+G4 -> 4020 | H5: =$B$2*1000+H4 -> 4060 | I5: =$B$2*1000+I4 -> 4060 | ... W5: =$B$2*1000+W4 -> 4036 | X5: 5327 | Y5: 5327 | Z5: 5328 | AA5: 5328
A6: Tarief-eenheden | B6: enkel reis 1e klas vol | C6: enkele reis 2e klas vol | D6: enkele reis 1e klas 50% | E6: enkele reis 2e klas 50% | F6: enkele reis 1e klas 40% | G6: enkele reis 2e klas 40% | H6: enkele reis 1e klas 20% | I6: enkele reis 2e klas 20% | J6: retour 1e klas vol | K6: retour 2e klas vol | L6: retour 1e klas 50% | M6: retour 2e klas 50% | N6: retour 1e klas 40% | O6: retour 2e klas 40% | P6: retour 1e klas 20% | Q6: retour 2e klas 20% | R6: TV zakelijk 1e klas | S6: TV zakelijk 2e klas | T6: TV doorlopend 1e klas | U6: TV doorlopend 2e klas | V6: TV maand 1e klas | W6: TV maand 2e klas | X6: Prepaid Maand 1e klas | Y6: Prepaid Maand 2e klas | Z6: Prepaid 3 maands 1e klas | AA6: Prepaid 3 maands 2e klas
A7: 0 | B7: =ROUND(rekentabel!B6,2) -> 4.93 | C7: =ROUND(rekentabel!C6,2) -> 2.9 | F7: =ROUND(rekentabel!F6,2) -> 2.96 | G7: =ROUND(rekentabel!G6,2) -> 1.74 | H7: =ROUND(rekentabel!H6,2) -> 3.94 | I7: =ROUND(rekentabel!I6,2) -> 2.32 | J7: =ROUND(rekentabel!J6,2) -> 9.86 | K7: =ROUND(rekentabel!K6,2) -> 5.8 | N7: =ROUND(rekentabel!N6,2) -> 5.92 | O7: =ROUND(rekentabel!O6,2) -> 3.48 | P7: =ROUND(rekentabel!P6,2) -> 7.88 | Q7: =ROUND(rekentabel!Q6,2) -> 4.64 | R7: =ROUND(rekentabel!R6,2) -> 1254 | S7: =ROUND(rekentabel!S6,2) -> 733 | T7: =ROUND(rekentabel!T6,2) -> 104 | U7: =ROUND(rekentabel!U6,2) -> 62 | ... Y7: =ROUND(rekentabel!Y6,2) -> 74.82 | Z7: =T7*3 -> 312 | AA7: =U8*3 -> 186
A8: 1 | B8: =ROUND(rekentabel!B7,2) -> 4.93 | C8: =ROUND(rekentabel!C7,2) -> 2.9 | F8: =ROUND(rekentabel!F7,2) -> 2.96 | G8: =ROUND(rekentabel!G7,2) -> 1.74 | H8: =ROUND(rekentabel!H7,2) -> 3.94 | I8: =ROUND(rekentabel!I7,2) -> 2.32 | J8: =ROUND(rekentabel!J7,2) -> 9.86 | K8: =ROUND(rekentabel!K7,2) -> 5.8 | N8: =ROUND(rekentabel!N7,2) -> 5.92 | O8: =ROUND(rekentabel!O7,2) -> 3.48 | P8: =ROUND(rekentabel!P7,2) -> 7.88 | Q8: =ROUND(rekentabel!Q7,2) -> 4.64 | R8: =ROUND(rekentabel!R7,2) -> 1254 | S8: =ROUND(rekentabel!S7,2) -> 733 | T8: =ROUND(rekentabel!T7,2) -> 104 | U8: =ROUND(rekentabel!U7,2) -> 62 | ... AA8: =ROUND(rekentabel!AA7,2) -> 186
A9: 2 | B9: =ROUND(rekentabel!B8,2) -> 4.93 | C9: =ROUND(rekentabel!C8,2) -> 2.9 | F9: =ROUND(rekentabel!F8,2) -> 2.96 | G9: =ROUND(rekentabel!G8,2) -> 1.74 | H9: =ROUND(rekentabel!H8,2) -> 3.94 | I9: =ROUND(rekentabel!I8,2) -> 2.32 | J9: =ROUND(rekentabel!J8,2) -> 9.86 | K9: =ROUND(rekentabel!K8,2) -> 5.8 | N9: =ROUND(rekentabel!N8,2) -> 5.92 | O9: =ROUND(rekentabel!O8,2) -> 3.48 | P9: =ROUND(rekentabel!P8,2) -> 7.88 | Q9: =ROUND(rekentabel!Q8,2) -> 4.64 | R9: =ROUND(rekentabel!R8,2) -> 1254 | S9: =ROUND(rekentabel!S8,2) -> 733 | T9: =ROUND(rekentabel!T8,2) -> 104 | U9: =ROUND(rekentabel!U8,2) -> 62 | ... AA9: =ROUND(rekentabel!AA8,2) -> 186
A10: 3 | B10: =ROUND(rekentabel!B9,2) -> 4.93 | C10: =ROUND(rekentabel!C9,2) -> 2.9 | F10: =ROUND(rekentabel!F9,2) -> 2.96 | G10: =ROUND(rekentabel!G9,2) -> 1.74 | H10: =ROUND(rekentabel!H9,2) -> 3.94 | I10: =ROUND(rekentabel!I9,2) -> 2.32 | J10: =ROUND(rekentabel!J9,2) -> 9.86 | K10: =ROUND(rekentabel!K9,2) -> 5.8 | N10: =ROUND(rekentabel!N9,2) -> 5.92 | O10: =ROUND(rekentabel!O9,2) -> 3.48 | P10: =ROUND(rekentabel!P9,2) -> 7.88 | Q10: =ROUND(rekentabel!Q9,2) -> 4.64 | R10: =ROUND(rekentabel!R9,2) -> 1254 | S10: =ROUND(rekentabel!S9,2) -> 733 | T10: =ROUND(rekentabel!T9,2) -> 104 | U10: =ROUND(rekentabel!U9,2) -> 62 | ... AA10: =ROUND(rekentabel!AA9,2) -> 186
A11: 4 | B11: =ROUND(rekentabel!B10,2) -> 4.93 | C11: =ROUND(rekentabel!C10,2) -> 2.9 | F11: =ROUND(rekentabel!F10,2) -> 2.96 | G11: =ROUND(rekentabel!G10,2) -> 1.74 | H11: =ROUND(rekentabel!H10,2) -> 3.94 | I11: =ROUND(rekentabel!I10,2) -> 2.32 | J11: =ROUND(rekentabel!J10,2) -> 9.86 | K11: =ROUND(rekentabel!K10,2) -> 5.8 | N11: =ROUND(rekentabel!N10,2) -> 5.92 | O11: =ROUND(rekentabel!O10,2) -> 3.48 | P11: =ROUND(rekentabel!P10,2) -> 7.88 | Q11: =ROUND(rekentabel!Q10,2) -> 4.64 | R11: =ROUND(rekentabel!R10,2) -> 1254 | S11: =ROUND(rekentabel!S10,2) -> 733 | T11: =ROUND(rekentabel!T10,2) -> 104 | U11: =ROUND(rekentabel!U10,2) -> 62 | ... AA11: =ROUND(rekentabel!AA10,2) -> 186
A12: 5 | B12: =ROUND(rekentabel!B11,2) -> 4.93 | C12: =ROUND(rekentabel!C11,2) -> 2.9 | F12: =ROUND(rekentabel!F11,2) -> 2.96 | G12: =ROUND(rekentabel!G11,2) -> 1.74 | H12: =ROUND(rekentabel!H11,2) -> 3.94 | I12: =ROUND(rekentabel!I11,2) -> 2.32 | J12: =ROUND(rekentabel!J11,2) -> 9.86 | K12: =ROUND(rekentabel!K11,2) -> 5.8 | N12: =ROUND(rekentabel!N11,2) -> 5.92 | O12: =ROUND(rekentabel!O11,2) -> 3.48 | P12: =ROUND(rekentabel!P11,2) -> 7.88 | Q12: =ROUND(rekentabel!Q11,2) -> 4.64 | R12: =ROUND(rekentabel!R11,2) -> 1254 | S12: =ROUND(rekentabel!S11,2) -> 733 | T12: =ROUND(rekentabel!T11,2) -> 104 | U12: =ROUND(rekentabel!U11,2) -> 62 | ... AA12: =ROUND(rekentabel!AA11,2) -> 186
A13: 6 | B13: =ROUND(rekentabel!B12,2) -> 4.93 | C13: =ROUND(rekentabel!C12,2) -> 2.9 | F13: =ROUND(rekentabel!F12,2) -> 2.96 | G13: =ROUND(rekentabel!G12,2) -> 1.74 | H13: =ROUND(rekentabel!H12,2) -> 3.94 | I13: =ROUND(rekentabel!I12,2) -> 2.32 | J13: =ROUND(rekentabel!J12,2) -> 9.86 | K13: =ROUND(rekentabel!K12,2) -> 5.8 | N13: =ROUND(rekentabel!N12,2) -> 5.92 | O13: =ROUND(rekentabel!O12,2) -> 3.48 | P13: =ROUND(rekentabel!P12,2) -> 7.88 | Q13: =ROUND(rekentabel!Q12,2) -> 4.64 | R13: =ROUND(rekentabel!R12,2) -> 1254 | S13: =ROUND(rekentabel!S12,2) -> 733 | T13: =ROUND(rekentabel!T12,2) -> 104 | U13: =ROUND(rekentabel!U12,2) -> 62 | ... AA13: =ROUND(rekentabel!AA12,2) -> 186
A14: 7 | B14: =ROUND(rekentabel!B13,2) -> 4.93 | C14: =ROUND(rekentabel!C13,2) -> 2.9 | F14: =ROUND(rekentabel!F13,2) -> 2.96 | G14: =ROUND(rekentabel!G13,2) -> 1.74 | H14: =ROUND(rekentabel!H13,2) -> 3.94 | I14: =ROUND(rekentabel!I13,2) -> 2.32 | J14: =ROUND(rekentabel!J13,2) -> 9.86 | K14: =ROUND(rekentabel!K13,2) -> 5.8 | N14: =ROUND(rekentabel!N13,2) -> 5.92 | O14: =ROUND(rekentabel!O13,2) -> 3.48 | P14: =ROUND(rekentabel!P13,2) -> 7.88 | Q14: =ROUND(rekentabel!Q13,2) -> 4.64 | R14: =ROUND(rekentabel!R13,2) -> 1254 | S14: =ROUND(rekentabel!S13,2) -> 733 | T14: =ROUND(rekentabel!T13,2) -> 104 | U14: =ROUND(rekentabel!U13,2) -> 62 | ... AA14: =ROUND(rekentabel!AA13,2) -> 186
A15: 8 | B15: =ROUND(rekentabel!B14,2) -> 4.93 | C15: =ROUND(rekentabel!C14,2) -> 2.9 | F15: =ROUND(rekentabel!F14,2) -> 2.96 | G15: =ROUND(rekentabel!G14,2) -> 1.74 | H15: =ROUND(rekentabel!H14,2) -> 3.94 | I15: =ROUND(rekentabel!I14,2) -> 2.32 | J15: =ROUND(rekentabel!J14,2) -> 9.86 | K15: =ROUND(rekentabel!K14,2) -> 5.8 | N15: =ROUND(rekentabel!N14,2) -> 5.92 | O15: =ROUND(rekentabel!O14,2) -> 3.48 | P15: =ROUND(rekentabel!P14,2) -> 7.88 | Q15: =ROUND(rekentabel!Q14,2) -> 4.64 | R15: =ROUND(rekentabel!R14,2) -> 1254 | S15: =ROUND(rekentabel!S14,2) -> 733 | T15: =ROUND(rekentabel!T14,2) -> 104 | U15: =ROUND(rekentabel!U14,2) -> 62 | ... AA15: =ROUND(rekentabel!AA14,2) -> 186
A16: 9 | B16: =ROUND(rekentabel!B15,2) -> 5.27 | C16: =ROUND(rekentabel!C15,2) -> 3.1 | F16: =ROUND(rekentabel!F15,2) -> 3.16 | G16: =ROUND(rekentabel!G15,2) -> 1.86 | H16: =ROUND(rekentabel!H15,2) -> 4.22 | I16: =ROUND(rekentabel!I15,2) -> 2.48 | J16: =ROUND(rekentabel!J15,2) -> 10.54 | K16: =ROUND(rekentabel!K15,2) -> 6.2 | N16: =ROUND(rekentabel!N15,2) -> 6.32 | O16: =ROUND(rekentabel!O15,2) -> 3.72 | P16: =ROUND(rekentabel!P15,2) -> 8.44 | Q16: =ROUND(rekentabel!Q15,2) -> 4.96 | R16: =ROUND(rekentabel!R15,2) -> 1368 | S16: =ROUND(rekentabel!S15,2) -> 803 | T16: =ROUND(rekentabel!T15,2) -> 115 | U16: =ROUND(rekentabel!U15,2) -> 67 | ... AA16: =ROUND(rekentabel!AA15,2) -> 201
A17: 10 | B17: =ROUND(rekentabel!B16,2) -> 5.6 | C17: =ROUND(rekentabel!C16,2) -> 3.3 | F17: =ROUND(rekentabel!F16,2) -> 3.36 | G17: =ROUND(rekentabel!G16,2) -> 1.98 | H17: =ROUND(rekentabel!H16,2) -> 4.48 | I17: =ROUND(rekentabel!I16,2) -> 2.64 | J17: =ROUND(rekentabel!J16,2) -> 11.2 | K17: =ROUND(rekentabel!K16,2) -> 6.6 | N17: =ROUND(rekentabel!N16,2) -> 6.72 | O17: =ROUND(rekentabel!O16,2) -> 3.96 | P17: =ROUND(rekentabel!P16,2) -> 8.96 | Q17: =ROUND(rekentabel!Q16,2) -> 5.28 | R17: =ROUND(rekentabel!R16,2) -> 1466 | S17: =ROUND(rekentabel!S16,2) -> 859 | T17: =ROUND(rekentabel!T16,2) -> 123 | U17: =ROUND(rekentabel!U16,2) -> 72 | ... AA17: =ROUND(rekentabel!AA16,2) -> 216
A18: 11 | B18: =ROUND(rekentabel!B17,2) -> 5.94 | C18: =ROUND(rekentabel!C17,2) -> 3.49 | F18: =ROUND(rekentabel!F17,2) -> 3.56 | G18: =ROUND(rekentabel!G17,2) -> 2.09 | H18: =ROUND(rekentabel!H17,2) -> 4.75 | I18: =ROUND(rekentabel!I17,2) -> 2.79 | J18: =ROUND(rekentabel!J17,2) -> 11.88 | K18: =ROUND(rekentabel!K17,2) -> 6.98 | N18: =ROUND(rekentabel!N17,2) -> 7.12 | O18: =ROUND(rekentabel!O17,2) -> 4.18 | P18: =ROUND(rekentabel!P17,2) -> 9.5 | Q18: =ROUND(rekentabel!Q17,2) -> 5.58 | R18: =ROUND(rekentabel!R17,2) -> 1580 | S18: =ROUND(rekentabel!S17,2) -> 930 | T18: =ROUND(rekentabel!T17,2) -> 131 | U18: =ROUND(rekentabel!U17,2) -> 77 | ... AA18: =ROUND(rekentabel!AA17,2) -> 231
A19: 12 | B19: =ROUND(rekentabel!B18,2) -> 6.27 | C19: =ROUND(rekentabel!C18,2) -> 3.69 | F19: =ROUND(rekentabel!F18,2) -> 3.76 | G19: =ROUND(rekentabel!G18,2) -> 2.21 | H19: =ROUND(rekentabel!H18,2) -> 5.02 | I19: =ROUND(rekentabel!I18,2) -> 2.95 | J19: =ROUND(rekentabel!J18,2) -> 12.54 | K19: =ROUND(rekentabel!K18,2) -> 7.38 | N19: =ROUND(rekentabel!N18,2) -> 7.52 | O19: =ROUND(rekentabel!O18,2) -> 4.42 | P19: =ROUND(rekentabel!P18,2) -> 10.04 | Q19: =ROUND(rekentabel!Q18,2) -> 5.9 | R19: =ROUND(rekentabel!R18,2) -> 1651 | S19: =ROUND(rekentabel!S18,2) -> 973 | T19: =ROUND(rekentabel!T18,2) -> 138 | U19: =ROUND(rekentabel!U18,2) -> 80 | ... AA19: =ROUND(rekentabel!AA18,2) -> 240
... A258: 999 | B258: =ROUND(rekentabel!B257,2) -> 53.22 | C258: =ROUND(rekentabel!C257,2) -> 31.3 | F258: =ROUND(rekentabel!F257,2) -> 31.93 | G258: =ROUND(rekentabel!G257,2) -> 18.78 | H258: =ROUND(rekentabel!H257,2) -> 42.58 | I258: =ROUND(rekentabel!I257,2) -> 25.04 | J258: =ROUND(rekentabel!J257,2) -> 106.44 | K258: =ROUND(rekentabel!K257,2) -> 62.6 | N258: =ROUND(rekentabel!N257,2) -> 63.86 | O258: =ROUND(rekentabel!O257,2) -> 37.56 | P258: =ROUND(rekentabel!P257,2) -> 85.16 | Q258: =ROUND(rekentabel!Q257,2) -> 50.08 | R258: =ROUND(rekentabel!R257,2) -> 7751 | S258: =ROUND(rekentabel!S257,2) -> 4617 | T258: =ROUND(rekentabel!T257,2) -> 645 | U258: =ROUND(rekentabel!U257,2) -> 386 | ... AA258: =ROUND(rekentabel!AA257,2) -> 1158

Sheet point-to-point tbv ROR intern
A1: Dit is de point-to-point matrix zonder LAK
A5: Deze point-to-point moet actueel blijven want in gebruik voor L3 prijsberekening ROR 1.0,
A6: dus Cxx-only ROR zolang we nog op de Valleilijn zelf de EOD doen en mogleijk nog even ROR 1.0 voor NS zoalsng ROR 1.1. nog niet live is.
A10: Tarieven Valleilijn 2020
A14: Toelichting: | B14: Tarief tweede klas
B15: Tarief eerste klas = tarief tweede klas * 1,7
A17: Ingangsdatum: | B17: 44562
A19: Van | C19: Naar
A20: Station | C20: Hoevelaken | D20: =A24 -> Barneveld Noord | E20: =A25 -> Barneveld Centrum | F20: Barneveld Zuid | G20: =A27 -> Lunteren | H20: =A28 -> Ede Centrum | I20: Ede-Wageningen
B21: Code | C21: 54675 | D21: =B24 -> 46203 | E21: =B25 -> 46205 | G21: =B27 -> 46200 | H21: =B28 -> 46196 | I21: 46198
A22: Amerfoort | B22: 46208 | C22: =VLOOKUP(C39,'input aan NS afgerond op centen'!$A$7:$C$41,3,FALSE)*100-$B$30 -> #N/A | D22: =VLOOKUP(D39,'input aan NS afgerond op centen'!$A$7:$C$41,3,FALSE)*100-$B$30 -> #N/A | E22: =VLOOKUP(E39,'input aan NS afgerond op centen'!$A$7:$C$41,3,FALSE)*100-$B$30 -> #N/A | F22: =VLOOKUP(F39,'input aan NS afgerond op centen'!$A$7:$C$41,3,FALSE)*100-$B$30 -> #N/A | G22: =VLOOKUP(G39,'input aan NS afgerond op centen'!$A$7:$C$41,3,FALSE)*100-$B$30 -> #N/A | H22: =VLOOKUP(H39,'input aan NS afgerond op centen'!$A$7:$C$41,3,FALSE)*100-$B$30 -> #N/A | I22: =VLOOKUP(I39,'input aan NS afgerond op centen'!$A$7:$C$41,3,FALSE)*100-$B$30 -> #N/A
A23: =C20 -> Hoevelaken | B23: =C21 -> 54675 | D23: =VLOOKUP(D40,'input aan NS afgerond op centen'!$A$7:$C$41,3,FALSE)*100-$B$30 -> 189 | E23: =VLOOKUP(E40,'input aan NS afgerond op centen'!$A$7:$C$41,3,FALSE)*100-$B$30 -> 347 | F23: =VLOOKUP(F40,'input aan NS afgerond op centen'!$A$7:$C$41,3,FALSE)*100-$B$30 -> 406 | G23: =VLOOKUP(G40,'input aan NS afgerond op centen'!$A$7:$C$41,3,FALSE)*100-$B$30 -> 445 | H23: =VLOOKUP(H40,'input aan NS afgerond op centen'!$A$7:$C$41,3,FALSE)*100-$B$30 -> 543 | I23: =VLOOKUP(I40,'input aan NS afgerond op centen'!$A$7:$C$41,3,FALSE)*100-$B$30 -> 661
A24: Barneveld Noord | B24: 46203 | E24: =VLOOKUP(E41,'input aan NS afgerond op centen'!$A$7:$C$41,3,FALSE)*100-$B$30 -> 229 | F24: =VLOOKUP(F41,'input aan NS afgerond op centen'!$A$7:$C$41,3,FALSE)*100-$B$30 -> 288 | G24: =VLOOKUP(G41,'input aan NS afgerond op centen'!$A$7:$C$41,3,FALSE)*100-$B$30 -> 327 | H24: =VLOOKUP(H41,'input aan NS afgerond op centen'!$A$7:$C$41,3,FALSE)*100-$B$30 -> 425 | I24: =VLOOKUP(I41,'input aan NS afgerond op centen'!$A$7:$C$41,3,FALSE)*100-$B$30 -> 543
A25: Barneveld Centrum | B25: 46205 | F25: =VLOOKUP(F42,'input aan NS afgerond op centen'!$A$7:$C$41,3,FALSE)*100-$B$30 -> 189 | G25: =VLOOKUP(G42,'input aan NS afgerond op centen'!$A$7:$C$41,3,FALSE)*100-$B$30 -> 189 | H25: =VLOOKUP(H42,'input aan NS afgerond op centen'!$A$7:$C$41,3,FALSE)*100-$B$30 -> 229 | I25: =VLOOKUP(I42,'input aan NS afgerond op centen'!$A$7:$C$41,3,FALSE)*100-$B$30 -> 347
A26: Barneveld Zuid | F26: =VLOOKUP(F43,'input aan NS afgerond op centen'!$A$7:$C$41,3,FALSE)*100-$B$30 -> 189 | G26: =VLOOKUP(G43,'input aan NS afgerond op centen'!$A$7:$C$41,3,FALSE)*100-$B$30 -> 189 | H26: =VLOOKUP(H43,'input aan NS afgerond op centen'!$A$7:$C$41,3,FALSE)*100-$B$30 -> 189 | I26: =VLOOKUP(I43,'input aan NS afgerond op centen'!$A$7:$C$41,3,FALSE)*100-$B$30 -> 288
A27: Lunteren | B27: 46200 | H27: =VLOOKUP(H44,'input aan NS afgerond op centen'!$A$7:$C$41,3,FALSE)*100-$B$30 -> 189 | I27: =VLOOKUP(I44,'input aan NS afgerond op centen'!$A$7:$C$41,3,FALSE)*100-$B$30 -> 248
A28: Ede Centrum | B28: 46196 | I28: =VLOOKUP(I45,'input aan NS afgerond op centen'!$A$7:$C$41,3,FALSE)*100-$B$30 -> 189
A30: Opstaptarief: | B30: 101 | C30: DIT WORDT BIJ BOVENSTAANDE TARIEVEN OPGETELD, BEHALVE NÁ OVERSTAP VANAF NS OP VALLEILIJN
A35: Gebaseerd op deze tariefeenheden (zelfde als voor ERET papier en TrajectVrij)
A36: Van | D36: Naar
A37: Station | D37: Hoevelaken | E37: Barneveld Noord | F37: Barneveld Centrum | G37: Barneveld Zuid | H37: Lunteren | I37: Ede Centrum | J37: Ede-Wageningen
B38: Code | C38: StationID | D38: 54675 | E38: 46203 | F38: 46205 | H38: 46200 | I38: 46196 | J38: 46198
B39: StationID | C39: # | D39: 490 | E39: 92 | F39: 91 | G39: 115 | H39: 405 | I39: 201 | J39: 200
A40: Amerfoort | B40: 46208 | C40: 55 | D40: 6 | E40: 16 | F40: 19 | G40: =F40+tariefeenheden!$C$8 -> 21 | H40: =G40+tariefeenheden!$C$9 -> 26 | I40: 32 | J40: 34
A41: Hoevelaken | B41: 54675 | C41: 490 | E41: 10 | F41: 13 | G41: =F41+tariefeenheden!$C$8 -> 15 | H41: =G41+tariefeenheden!$C$9 -> 20 | I41: 26 | J41: 28
A42: Barneveld Noord | B42: 46203 | C42: 92 | F42: 3 | G42: =F42+tariefeenheden!$C$8 -> 5 | H42: =G42+tariefeenheden!$C$9 -> 10 | I42: 16 | J42: 18
A43: Barneveld Centrum | B43: 46205 | C43: 91 | G43: =F43+tariefeenheden!$C$8 -> 2 | H43: =G43+tariefeenheden!$C$9 -> 7 | I43: 13 | J43: 15
A44: Barneveld Zuid | C44: 115 | H44: =G44+tariefeenheden!$C$9 -> 5 | I44: =H44+6 -> 11 | J44: =I44+2 -> 13
A45: Lunteren | B45: 46200 | C45: 405 | I45: 6 | J45: 8
A46: Ede Centrum | B46: 46196 | C46: 201 | J46: 2
A49: Check output
A50: tarieven resulterend uit de opgave in OV-chipsysteem VOOR 2E KLASSE BINNEN VALLEILIJN:
A52: Van | C52: Naar
A53: Station | C53: Hoevelaken (490) | D53: =A57 -> Barneveld Noord | E53: =A58 -> Barneveld Centrum | F53: Barneveld Zuid | G53: =A60 -> Lunteren | H53: =A61 -> Ede Centrum | I53: Ede-Wageningen
B54: Code | C54: 54675 | D54: 46203 | E54: 46205 | G54: 46200 | H54: 46196 | I54: 46198
A55: Amerfoort | B55: 46208 | C55: =C22+$B$30 -> #N/A | D55: =D22+$B$30 -> #N/A | E55: =E22+$B$30 -> #N/A | F55: =F22+$B$30 -> #N/A | G55: =G22+$B$30 -> #N/A | H55: =H22+$B$30 -> #N/A | I55: =I22+$B$30 -> #N/A
A56: Hoevelaken | B56: 54675 | D56: =D23+$B$30 -> 290 | E56: =E23+$B$30 -> 448 | F56: =F23+$B$30 -> 507 | G56: =G23+$B$30 -> 546 | H56: =H23+$B$30 -> 644 | I56: =I23+$B$30 -> 762
A57: Barneveld Noord | B57: 46203 | E57: =E24+$B$30 -> 330 | F57: =F24+$B$30 -> 389 | G57: =G24+$B$30 -> 428 | H57: =H24+$B$30 -> 526 | I57: =I24+$B$30 -> 644
A58: Barneveld Centrum | B58: 46205 | F58: =F25+$B$30 -> 290 | G58: =G25+$B$30 -> 290 | H58: =H25+$B$30 -> 330 | I58: =I25+$B$30 -> 448
A59: Barneveld Zuid | G59: =G26+$B$30 -> 290 | H59: =H26+$B$30 -> 290 | I59: =I26+$B$30 -> 389
...

Sheet tabel EOD 1jan22
A1: CONNEXXION - VALLEILIJN
A2: Tarief LAK voor EOD | C2: 44562 | D2: Compleet
K3: L1 fare tabel for ROR SWT-products on Valleilijn
A4: Waardes in te regelen in de EOD, per klasse en kortings%, exclusief opstaptarief.
C6: full fare | E6: 20% reduction | G6: 40% reduction | K6: product 524 | M6: product 541
C7: 2nd class | D7: 1st class | E7: 2nd class | F7: 1st class | G7: 2nd class | H7: 1st class | K7: delta between | M7: identical to | N7: identical to
B8: opstaptarief | C8: 101 | D8: =ROUND($C$8*D9,0) -> 172 | E8: =ROUND($C$8*E9,0) -> 81 | F8: =ROUND($C$8*F9,0) -> 137 | G8: =ROUND($C$8*G9,0) -> 61 | H8: =ROUND($C$8*H9,0) -> 103 | K8: 1st and 2nd full fare | M8: full fare 2nd | N8: full fare 1st
B9: rekenfactor 2e klas x … | C9: 1 | D9: =1.7 -> 1.7 | E9: 0.8 | F9: =0.8*1.7 -> 1.36 | G9: =C9*0.6 -> 0.6 | H9: =1.7*0.6 -> 1.02 | K9: 0.7 | M9: 1 | N9: 1
C11: full fare | E11: 20% reduction | G11: 40% reduction | K11: delta fare | M11: full fare | N11: full fare
A12: from tariff unit | B12: till tariff unit | C12: 2nd class | D12: 1st class | E12: 2nd class | F12: 1st class | G12: 2nd class | H12: 1e klas | K12: 1st class | M12: 2nd class | N12: 1st class
A13: 0 | B13: 8 | C13: ='input aan NS afgerond op centen'!C15*100-C$8 -> 189 | D13: ='input aan NS afgerond op centen'!B15*100-D$8 -> 321 | E13: ='input aan NS afgerond op centen'!I15*100-E$8 -> 151 | F13: ='input aan NS afgerond op centen'!H15*100-F$8 -> 257 | G13: ='input aan NS afgerond op centen'!G15*100-G$8 -> 113 | H13: ='input aan NS afgerond op centen'!F15*100-H$8 -> 193 | I13: Amersfoort | K13: =C13*$K$9 -> 132.3 | M13: =C13 -> 189 | N13: =D13 -> 321
A14: 9 | B14: =A14 -> 9 | C14: ='input aan NS afgerond op centen'!C16*100-C$8 -> 209 | D14: ='input aan NS afgerond op centen'!B16*100-D$8 -> 355 | E14: ='input aan NS afgerond op centen'!I16*100-E$8 -> 167 | F14: ='input aan NS afgerond op centen'!H16*100-F$8 -> 285 | G14: ='input aan NS afgerond op centen'!G16*100-G$8 -> 125 | H14: ='input aan NS afgerond op centen'!F16*100-H$8 -> 213 | I14: Amersfoort - Hoevelaken | K14: =C14*$K$9 -> 146.3 | M14: =C14 -> 209 | N14: =D14 -> 355
A15: 10 | B15: =A15 -> 10 | C15: ='input aan NS afgerond op centen'!C17*100-C$8 -> 229 | D15: ='input aan NS afgerond op centen'!B17*100-D$8 -> 388 | E15: ='input aan NS afgerond op centen'!I17*100-E$8 -> 183 | F15: ='input aan NS afgerond op centen'!H17*100-F$8 -> 311 | G15: ='input aan NS afgerond op centen'!G17*100-G$8 -> 137 | H15: ='input aan NS afgerond op centen'!F17*100-H$8 -> 233 | K15: =C15*$K$9 -> 160.3 | M15: =C15 -> 229 | N15: =D15 -> 388
A16: 11 | B16: =A16 -> 11 | C16: ='input aan NS afgerond op centen'!C18*100-C$8 -> 248 | D16: ='input aan NS afgerond op centen'!B18*100-D$8 -> 422 | E16: ='input aan NS afgerond op centen'!I18*100-E$8 -> 198 | F16: ='input aan NS afgerond op centen'!H18*100-F$8 -> 338 | G16: ='input aan NS afgerond op centen'!G18*100-G$8 -> 148 | H16: ='input aan NS afgerond op centen'!F18*100-H$8 -> 253 | K16: =C16*$K$9 -> 173.6 | M16: =C16 -> 248 | N16: =D16 -> 422
A17: 12 | B17: =A17 -> 12 | C17: ='input aan NS afgerond op centen'!C19*100-C$8 -> 268 | D17: ='input aan NS afgerond op centen'!B19*100-D$8 -> 455 | E17: ='input aan NS afgerond op centen'!I19*100-E$8 -> 214 | F17: ='input aan NS afgerond op centen'!H19*100-F$8 -> 365 | G17: ='input aan NS afgerond op centen'!G19*100-G$8 -> 160 | H17: ='input aan NS afgerond op centen'!F19*100-H$8 -> 273 | K17: =C17*$K$9 -> 187.6 | M17: =C17 -> 268 | N17: =D17 -> 455
A18: 13 | B18: =A18 -> 13 | C18: ='input aan NS afgerond op centen'!C20*100-C$8 -> 288 | D18: ='input aan NS afgerond op centen'!B20*100-D$8 -> 489 | E18: ='input aan NS afgerond op centen'!I20*100-E$8 -> 230 | F18: ='input aan NS afgerond op centen'!H20*100-F$8 -> 392 | G18: ='input aan NS afgerond op centen'!G20*100-G$8 -> 172 | H18: ='input aan NS afgerond op centen'!F20*100-H$8 -> 294 | K18: =C18*$K$9 -> 201.6 | M18: =C18 -> 288 | N18: =D18 -> 489
A19: 14 | B19: =A19 -> 14 | C19: ='input aan NS afgerond op centen'!C21*100-C$8 -> 307 | D19: ='input aan NS afgerond op centen'!B21*100-D$8 -> 522 | E19: ='input aan NS afgerond op centen'!I21*100-E$8 -> 245 | F19: ='input aan NS afgerond op centen'!H21*100-F$8 -> 418 | G19: ='input aan NS afgerond op centen'!G21*100-G$8 -> 184 | H19: ='input aan NS afgerond op centen'!F21*100-H$8 -> 313 | K19: =C19*$K$9 -> 214.9 | M19: =C19 -> 307 | N19: =D19 -> 522
A20: 15 | B20: =A20 -> 15 | C20: ='input aan NS afgerond op centen'!C22*100-C$8 -> 327 | D20: ='input aan NS afgerond op centen'!B22*100-D$8 -> 555 | E20: ='input aan NS afgerond op centen'!I22*100-E$8 -> 261 | F20: ='input aan NS afgerond op centen'!H22*100-F$8 -> 445 | G20: ='input aan NS afgerond op centen'!G22*100-G$8 -> 196 | H20: ='input aan NS afgerond op centen'!F22*100-H$8 -> 333 | K20: =C20*$K$9 -> 228.9 | M20: =C20 -> 327 | N20: =D20 -> 555
A21: 16 | B21: =A21 -> 16 | C21: ='input aan NS afgerond op centen'!C23*100-C$8 -> 347 | D21: ='input aan NS afgerond op centen'!B23*100-D$8 -> 589 | E21: ='input aan NS afgerond op centen'!I23*100-E$8 -> 277 | F21: ='input aan NS afgerond op centen'!H23*100-F$8 -> 472 | G21: ='input aan NS afgerond op centen'!G23*100-G$8 -> 208 | H21: ='input aan NS afgerond op centen'!F23*100-H$8 -> 354 | K21: =C21*$K$9 -> 242.9 | M21: =C21 -> 347 | N21: =D21 -> 589
A22: 17 | B22: =A22 -> 17 | C22: ='input aan NS afgerond op centen'!C24*100-C$8 -> 366 | D22: ='input aan NS afgerond op centen'!B24*100-D$8 -> 622 | E22: ='input aan NS afgerond op centen'!I24*100-E$8 -> 293 | F22: ='input aan NS afgerond op centen'!H24*100-F$8 -> 498 | G22: ='input aan NS afgerond op centen'!G24*100-G$8 -> 219 | H22: ='input aan NS afgerond op centen'!F24*100-H$8 -> 373 | K22: =C22*$K$9 -> 256.2 | M22: =C22 -> 366 | N22: =D22 -> 622
A23: 18 | B23: =A23 -> 18 | C23: ='input aan NS afgerond op centen'!C25*100-C$8 -> 386 | D23: ='input aan NS afgerond op centen'!B25*100-D$8 -> 656 | E23: ='input aan NS afgerond op centen'!I25*100-E$8 -> 309 | F23: ='input aan NS afgerond op centen'!H25*100-F$8 -> 525 | G23: ='input aan NS afgerond op centen'!G25*100-G$8 -> 231 | H23: ='input aan NS afgerond op centen'!F25*100-H$8 -> 394 | K23: =C23*$K$9 -> 270.2 | M23: =C23 -> 386 | N23: =D23 -> 656
A24: 19 | B24: =A24 -> 19 | C24: ='input aan NS afgerond op centen'!C26*100-C$8 -> 406 | D24: ='input aan NS afgerond op centen'!B26*100-D$8 -> 689 | E24: ='input aan NS afgerond op centen'!I26*100-E$8 -> 325 | F24: ='input aan NS afgerond op centen'!H26*100-F$8 -> 552 | G24: ='input aan NS afgerond op centen'!G26*100-G$8 -> 243 | H24: ='input aan NS afgerond op centen'!F26*100-H$8 -> 414 | I24: Amersfoort - Barneveld Centrum | K24: =C24*$K$9 -> 284.2 | M24: =C24 -> 406 | N24: =D24 -> 689
A25: 20 | B25: =A25 -> 20 | C25: ='input aan NS afgerond op centen'!C27*100-C$8 -> 425 | D25: ='input aan NS afgerond op centen'!B27*100-D$8 -> 722 | E25: ='input aan NS afgerond op centen'!I27*100-E$8 -> 340 | F25: ='input aan NS afgerond op centen'!H27*100-F$8 -> 578 | G25: ='input aan NS afgerond op centen'!G27*100-G$8 -> 255 | H25: ='input aan NS afgerond op centen'!F27*100-H$8 -> 433 | K25: =C25*$K$9 -> 297.5 | M25: =C25 -> 425 | N25: =D25 -> 722
A26: 21 | B26: =A26 -> 21 | C26: ='input aan NS afgerond op centen'!C28*100-C$8 -> 445 | D26: ='input aan NS afgerond op centen'!B28*100-D$8 -> 756 | E26: ='input aan NS afgerond op centen'!I28*100-E$8 -> 356 | F26: ='input aan NS afgerond op centen'!H28*100-F$8 -> 605 | G26: ='input aan NS afgerond op centen'!G28*100-G$8 -> 267 | H26: ='input aan NS afgerond op centen'!F28*100-H$8 -> 454 | K26: =C26*$K$9 -> 311.5 | M26: =C26 -> 445 | N26: =D26 -> 756
A27: 22 | B27: =A27 -> 22 | C27: ='input aan NS afgerond op centen'!C29*100-C$8 -> 464 | D27: ='input aan NS afgerond op centen'!B29*100-D$8 -> 789 | E27: ='input aan NS afgerond op centen'!I29*100-E$8 -> 371 | F27: ='input aan NS afgerond op centen'!H29*100-F$8 -> 632 | G27: ='input aan NS afgerond op centen'!G29*100-G$8 -> 278 | H27: ='input aan NS afgerond op centen'!F29*100-H$8 -> 474 | K27: =C27*$K$9 -> 324.8 | M27: =C27 -> 464 | N27: =D27 -> 789
A28: 23 | B28: =A28 -> 23 | C28: ='input aan NS afgerond op centen'!C30*100-C$8 -> 484 | D28: ='input aan NS afgerond op centen'!B30*100-D$8 -> 823 | E28: ='input aan NS afgerond op centen'!I30*100-E$8 -> 387 | F28: ='input aan NS afgerond op centen'!H30*100-F$8 -> 659 | G28: ='input aan NS afgerond op centen'!G30*100-G$8 -> 290 | H28: ='input aan NS afgerond op centen'!F30*100-H$8 -> 494 | K28: =C28*$K$9 -> 338.8 | M28: =C28 -> 484 | N28: =D28 -> 823
A29: 24 | B29: =A29 -> 24 | C29: ='input aan NS afgerond op centen'!C31*100-C$8 -> 504 | D29: ='input aan NS afgerond op centen'!B31*100-D$8 -> 856 | E29: ='input aan NS afgerond op centen'!I31*100-E$8 -> 403 | F29: ='input aan NS afgerond op centen'!H31*100-F$8 -> 685 | G29: ='input aan NS afgerond op centen'!G31*100-G$8 -> 302 | H29: ='input aan NS afgerond op centen'!F31*100-H$8 -> 514 | K29: =C29*$K$9 -> 352.8 | M29: =C29 -> 504 | N29: =D29 -> 856
A30: 25 | B30: =A30 -> 25 | C30: ='input aan NS afgerond op centen'!C32*100-C$8 -> 523 | D30: ='input aan NS afgerond op centen'!B32*100-D$8 -> 890 | E30: ='input aan NS afgerond op centen'!I32*100-E$8 -> 418 | F30: ='input aan NS afgerond op centen'!H32*100-F$8 -> 713 | G30: ='input aan NS afgerond op centen'!G32*100-G$8 -> 313 | H30: ='input aan NS afgerond op centen'!F32*100-H$8 -> 534 | K30: =C30*$K$9 -> 366.1 | M30: =C30 -> 523 | N30: =D30 -> 890
A31: 26 | B31: =A31 -> 26 | C31: ='input aan NS afgerond op centen'!C33*100-C$8 -> 543 | D31: ='input aan NS afgerond op centen'!B33*100-D$8 -> 923 | E31: ='input aan NS afgerond op centen'!I33*100-E$8 -> 434 | F31: ='input aan NS afgerond op centen'!H33*100-F$8 -> 739 | G31: ='input aan NS afgerond op centen'!G33*100-G$8 -> 325 | H31: ='input aan NS afgerond op centen'!F33*100-H$8 -> 554 | K31: =C31*$K$9 -> 380.1 | M31: =C31 -> 543 | N31: =D31 -> 923
A32: 27 | B32: =A32 -> 27 | C32: ='input aan NS afgerond op centen'!C34*100-C$8 -> 563 | D32: ='input aan NS afgerond op centen'!B34*100-D$8 -> 956 | E32: ='input aan NS afgerond op centen'!I34*100-E$8 -> 450 | F32: ='input aan NS afgerond op centen'!H34*100-F$8 -> 765 | G32: ='input aan NS afgerond op centen'!G34*100-G$8 -> 337 | H32: ='input aan NS afgerond op centen'!F34*100-H$8 -> 574 | K32: =C32*$K$9 -> 394.1 | M32: =C32 -> 563 | N32: =D32 -> 956
A33: 28 | B33: =A33 -> 28 | C33: ='input aan NS afgerond op centen'!C35*100-C$8 -> 582 | D33: ='input aan NS afgerond op centen'!B35*100-D$8 -> 990 | E33: ='input aan NS afgerond op centen'!I35*100-E$8 -> 465 | F33: ='input aan NS afgerond op centen'!H35*100-F$8 -> 793 | G33: ='input aan NS afgerond op centen'!G35*100-G$8 -> 349 | H33: ='input aan NS afgerond op centen'!F35*100-H$8 -> 594 | K33: =C33*$K$9 -> 407.4 | M33: =C33 -> 582 | N33: =D33 -> 990
A34: 29 | B34: =A34 -> 29 | C34: ='input aan NS afgerond op centen'!C36*100-C$8 -> 602 | D34: ='input aan NS afgerond op centen'!B36*100-D$8 -> 1023 | E34: ='input aan NS afgerond op centen'!I36*100-E$8 -> 481 | F34: ='input aan NS afgerond op centen'!H36*100-F$8 -> 819 | G34: ='input aan NS afgerond op centen'!G36*100-G$8 -> 361 | H34: ='input aan NS afgerond op centen'!F36*100-H$8 -> 614 | K34: =C34*$K$9 -> 421.4 | M34: =C34 -> 602 | N34: =D34 -> 1023
A35: 30 | B35: =A35 -> 30 | C35: ='input aan NS afgerond op centen'!C37*100-C$8 -> 622 | D35: ='input aan NS afgerond op centen'!B37*100-D$8 -> 1057 | E35: ='input aan NS afgerond op centen'!I37*100-E$8 -> 497 | F35: ='input aan NS afgerond op centen'!H37*100-F$8 -> 846 | G35: ='input aan NS afgerond op centen'!G37*100-G$8 -> 373 | H35: ='input aan NS afgerond op centen'!F37*100-H$8 -> 634 | K35: =C35*$K$9 -> 435.4 | M35: =C35 -> 622 | N35: =D35 -> 1057
A36: 31 | B36: =A36 -> 31 | C36: ='input aan NS afgerond op centen'!C38*100-C$8 -> 641 | D36: ='input aan NS afgerond op centen'!B38*100-D$8 -> 1090 | E36: ='input aan NS afgerond op centen'!I38*100-E$8 -> 513 | F36: ='input aan NS afgerond op centen'!H38*100-F$8 -> 873 | G36: ='input aan NS afgerond op centen'!G38*100-G$8 -> 384 | H36: ='input aan NS afgerond op centen'!F38*100-H$8 -> 654 | K36: =C36*$K$9 -> 448.7 | M36: =C36 -> 641 | N36: =D36 -> 1090
... A254: 249 | B254: =A254 -> 249 | C254: ='input aan NS afgerond op centen'!C256*100-C$8 -> 3026 | D254: ='input aan NS afgerond op centen'!B256*100-D$8 -> 5145 | E254: ='input aan NS afgerond op centen'!I256*100-E$8 -> 2421 | F254: ='input aan NS afgerond op centen'!H256*100-F$8 -> 4117 | G254: ='input aan NS afgerond op centen'!G256*100-G$8 -> 1815 | H254: ='input aan NS afgerond op centen'!F256*100-H$8 -> 3087 | K254: =C254*$K$9 -> 2118.2 | M254: =C254 -> 3026 | N254: =D254 -> 5145
