Workbook

Sheet LOG
A1: LOG
A5: datum | B5: wie | C5: versie | D5: wat
A6: 2014 | B6: PaulE | D6: aanmaak rekenblad
A7: ..
A8: 2022 | B8: MartijnC | D8: overdracht aan Paul E a.i.
A9: 44838 | B9: PaulE | D9: tarieven 2023 invoeren op aangeven HdG
A10: 44839 | B10: PaulE | C10: v2 | D10: rekenblad aangepast want NS nieuwe structuur aanlevering: Slechts 3 (basis)prijstabellen met vol tarief 2e klas, trajectVrij 2e klas en traject Vrij 1e klas + aparte tabel met de kortingsfactoren gelinkt aan die 3 tabellen. Alle tarieven kunnen dus van de 3 basis prijstabellen worden afgeleid. Wijziging i.v. aanlevering aan GBO Translink.
A11: 44839 | B11: PaulE | C11: v2 | D11: Factor 1e klas ERET aangepast van 1,7 naar 1,67 (1067 promille) overeenkomstig NS parameter. Dit omdat Gelderland aangeeft dat we dezelfde prijzen (prijsmethode) als NS moeten volgen.
A12: 44839 | B12: PaulE | C12: v2 | D12: ter controle opgestuurd naar NS
A13: 44850 | B13: NS/Mark van Alphen | C13: v2 | D13: NS gebruikt andere codes voor de prijstabellen: 500, 510 en 511 zijn gewijzigd in 4500, 4510 en 4511. (4 is tariefgebied Valleilijn). Verzoek controle door CXX.
A14: 44851 | B14: PaulE | C14: v3 | D14: codes overgenomen in tabellen. Extra aanpassing: ook in tabbald factoren moet er een "4" voor de code staan.
A15: 44851 | B15: PaulE | C15: v3 | D15: testsheet toegevoegd. Dit kan tijdens test bij NS worden afgevinkt.
A16: 44851 | B16: PaulE | C16: v3 | D16: ter validatie naar HdG

Sheet tariefeenheden
A1: Connexxion Valleilijn - Tariefeenheden t.b.v. ERET, Traject Vrij en chipkaart
A2: Geldig vanaf 1-1-2023
A4: stationsnaam | B4: stationsnaam | C4: te
A5: Amersfoort | B5: Hoevelaken | C5: 6
A6: =B5 -> Hoevelaken | B6: Barneveld Noord | C6: 10
A7: =B6 -> Barneveld Noord | B7: Barneveld Centrum | C7: 3
A8: =B7 -> Barneveld Centrum | B8: Barneveld Zuid | C8: 2
A9: Barneveld Zuid | B9: Lunteren | C9: =7-C8 -> 5 | D9: samen 7
A10: =B9 -> Lunteren | B10: Ede Centrum | C10: 6
A11: =B10 -> Ede Centrum | B11: Ede-Wageningen | C11: 2
C12: =SUM(C5:C11) -> 34

Sheet degressie en km-tarief
A1: Valleilijn berekening vol tarief 2e klas | E1: ingangsdatum | F1: 44927
A2: minimumprijs | C2: 2.9842 | H2: let op dat je in tabblad 'rekentabel' de Trajectabonnementen apart indexeert via cel V1.
A3: km-tarief vanaf 9km | C3: 0.2021
A5: Tarief-eenheden | B5: degressiefactor | C5: tarief 2e klasse vol | D5: 2022 | E5: tov 2022
A6: 0 | B6: 1 | C6: =$C$2 -> 2.9842 | D6: 2.9024 | E6: =C6/D6-1 -> 0.028183572
A7: 1 | B7: 1 | C7: =$C$2 -> 2.9842 | D7: 2.9024 | E7: =C7/D7-1 -> 0.028183572
A8: 2 | B8: 1 | C8: =$C$2 -> 2.9842 | D8: 2.9024 | E8: =C8/D8-1 -> 0.028183572
A9: 3 | B9: 1 | C9: =$C$2 -> 2.9842 | D9: 2.9024 | E9: =C9/D9-1 -> 0.028183572
A10: 4 | B10: 1 | C10: =$C$2 -> 2.9842 | D10: 2.9024 | E10: =C10/D10-1 -> 0.028183572
A11: 5 | B11: 1 | C11: =$C$2 -> 2.9842 | D11: 2.9024 | E11: =C11/D11-1 -> 0.028183572
A12: 6 | B12: 1 | C12: =$C$2 -> 2.9842 | D12: 2.9024 | E12: =C12/D12-1 -> 0.028183572
A13: 7 | B13: 1 | C13: =$C$2 -> 2.9842 | D13: 2.9024 | E13: =C13/D13-1 -> 0.028183572
A14: 8 | B14: 1 | C14: =$C$2 -> 2.9842 | D14: 2.9024 | E14: =C14/D14-1 -> 0.028183572
A15: 9 | B15: 1 | C15: =C14+$C$3*B15 -> 3.1863 | D15: 3.099 | E15: =C15/D15-1 -> 0.028170378
A16: 10 | B16: 1 | C16: =C15+$C$3*B16 -> 3.3884 | D16: 3.2956 | E16: =C16/D16-1 -> 0.028158757
A17: 11 | B17: 1 | C17: =C16+$C$3*B17 -> 3.5905 | D17: 3.4922 | E17: =C17/D17-1 -> 0.028148445
A18: 12 | B18: 1 | C18: =C17+$C$3*B18 -> 3.7926 | D18: 3.6888 | E18: =C18/D18-1 -> 0.028139232
A19: 13 | B19: 1 | C19: =C18+$C$3*B19 -> 3.9947 | D19: 3.8854 | E19: =C19/D19-1 -> 0.028130952
A20: 14 | B20: 1 | C20: =C19+$C$3*B20 -> 4.1968 | D20: 4.082 | E20: =C20/D20-1 -> 0.028123469
A21: 15 | B21: 1 | C21: =C20+$C$3*B21 -> 4.3989 | D21: 4.2786 | E21: =C21/D21-1 -> 0.028116674
A22: 16 | B22: 1 | C22: =C21+$C$3*B22 -> 4.601 | D22: 4.4752 | E22: =C22/D22-1 -> 0.028110476
A23: 17 | B23: 1 | C23: =C22+$C$3*B23 -> 4.8031 | D23: 4.6718 | E23: =C23/D23-1 -> 0.028104799
A24: 18 | B24: 1 | C24: =C23+$C$3*B24 -> 5.0052 | D24: 4.8684 | E24: =C24/D24-1 -> 0.028099581
A25: 19 | B25: 1 | C25: =C24+$C$3*B25 -> 5.2073 | D25: 5.065 | E25: =C25/D25-1 -> 0.028094768
A26: 20 | B26: 1 | C26: =C25+$C$3*B26 -> 5.4094 | D26: 5.2616 | E26: =C26/D26-1 -> 0.028090315
... A257: 999 | B257: 0 | C257: =C256+$C$3*B257 -> 32.180374 | D257: 31.304022 | E257: =C257/D257-1 -> 0.027994869

Sheet rekentabel
A1: Ingangsdatum | C1: 44927 | J1: deze prijzen gelden alleen binnen 1 vervoerder (indicatief voor reisplanner) | R1: prijzen Traject Vrij geindexeerd CPI 2023 | V1: 0.0282 | AA1: prijzen 2022
A2: Tarief-gebied | C2: Connexxion - Valleilijn | J2: =ROUND(J5,2)*C7/1000 -> 0.009967228 | K2: =ROUND(K5,2)*C7/1000 -> 0.0059684
A3: Codering | B3: 1 | C3: 1 | D3: 1 | E3: 1 | F3: 20 | G3: 20 | H3: 60 | I3: 60 | J3: 2 | K3: 2 | L3: 2 | M3: 2 | N3: 10 | O3: 10 | P3: 61 | Q3: 61 | R3: 37 | S3: 37 | T3: 34 | U3: 34 | W3: =W7/#REF! -> #REF! | AA3: 37 | AB3: 37 | AC3: 34 | AD3: 34 | AE3: 36 | AF3: 36
A4: Prijstabel | B4: 500 | C4: 500 | D4: 500 | E4: 500 | F4: 500 | G4: 500 | H4: 500 | I4: 500 | J4: 500 | K4: 500 | L4: 500 | M4: 500 | N4: 500 | O4: 500 | P4: 500 | Q4: 500 | R4: 511 | S4: 510 | T4: 511 | U4: 510 | V4: 511 | W4: 510 | X4: 511 | Y4: 510 | AA4: 511 | AB4: 510 | AC4: 511 | AD4: 510 | AE4: 511 | AF4: 510
A5: tarieffactor | B5: ='factoren tbv NS'!$C$3/1000 -> 1.67 | C5: ='factoren tbv NS'!$C$2/1000 -> 1 | D5: ='factoren tbv NS'!$C$5/1000 -> 0.835 | E5: ='factoren tbv NS'!$C$4/1000 -> 0.5 | F5: ='factoren tbv NS'!$C$7/1000 -> 1.002 | G5: ='factoren tbv NS'!$C$6/1000 -> 0.6 | H5: ='factoren tbv NS'!$C$9/1000 -> 1.336 | I5: ='factoren tbv NS'!$C$8/1000 -> 0.8 | J5: ='factoren tbv NS'!$C$11/1000 -> 3.34 | K5: ='factoren tbv NS'!$C$10/1000 -> 2 | L5: ='factoren tbv NS'!$C$13/1000 -> 1.67 | M5: ='factoren tbv NS'!$C$12/1000 -> 1 | N5: ='factoren tbv NS'!$C$15/1000 -> 2.004 | O5: ='factoren tbv NS'!$C$14/1000 -> 1.2 | P5: ='factoren tbv NS'!$C$17/1000 -> 2.672 | Q5: ='factoren tbv NS'!$C$16/1000 -> 1.6 | R5: ='factoren tbv NS'!$C$21/1000 -> 12 | S5: ='factoren tbv NS'!$C$20/1000 -> 12 | T5: 1 | U5: 1 | V5: ='factoren tbv NS'!$C$23/1000 -> 1.2 | W5: ='factoren tbv NS'!$C$22/1000 -> 1.2 | X5: ='factoren tbv NS'!$C$25/1000 -> 3 | Y5: ='factoren tbv NS'!$C$24/1000 -> 3 | AA5: 12 | AB5: 12 | AC5: 1 | AD5: 1 | AE5: 1.2 | AF5: 1.2
A6: Tarief-eenheden | B6: enkel reis 1e klas vol | C6: enkele reis 2e klas vol | D6: enkele reis 1e klas 50% | E6: enkele reis 2e klas 50% | F6: enkele reis 1e klas 40% | G6: enkele reis 2e klas 40% | H6: enkele reis 1e klas 20% | I6: enkele reis 2e klas 20% | J6: retour 1e klas vol | K6: retour 2e klas vol | L6: retour 1e klas 50% | M6: retour 2e klas 50% | N6: retour 1e klas 40% | O6: retour 2e klas 40% | P6: retour 1e klas 20% | Q6: retour 2e klas 20% | R6: TV zakelijk 1e klas | S6: TV zakelijk 2e klas | T6: TV maand 1e klas | U6: TV maand 2e klas | V6: Prepaid Maand 1e klas | W6: Prepaid Maand 2e klas | X6: Prepaid 3 maands 1e klas | Y6: Prepaid 3 maands 2e klas | AA6: TV zakelijk 1e klas | AB6: TV zakelijk 2e klas | AC6: TV doorlopend 1e klas | AD6: TV doorlopend 2e klas | AE6: TV maand 1e klas | AF6: TV maand 2e klas
A7: 0 | B7: =ROUND(C7,2)*$B$5 -> 4.9766 | C7: ='degressie en km-tarief'!C6 -> 2.9842 | F7: =$F$5*C7 -> 2.9901684 | G7: =$G$5*C7 -> 1.79052 | H7: =$H$5*C7 -> 3.9868912 | I7: =$I$5*C7 -> 2.38736 | J7: =2*ROUND(B7,2) -> 9.96 | K7: =2*ROUND(C7,2) -> 5.96 | N7: =2*ROUND(F7,2) -> 5.98 | O7: =2*ROUND(G7,2) -> 3.58 | P7: =2*ROUND(H7,2) -> 7.98 | Q7: =2*ROUND(I7,2) -> 4.78 | R7: =S7*'factoren tbv NS'!$C$19/1000 -> 754 | S7: =ROUND(AB7*(1+$V$1),0) -> 754 | T7: =ROUND(AC7*(1+$V$1),0) -> 107 | U7: =ROUND(AD7*(1+$V$1),0) -> 64 | V7: =$V$5*T7 -> 128.4 | W7: =$V$5*U7 -> 76.8 | X7: =T7*$X$5 -> 321 | Y7: =$Y$5*U7 -> 192 | AA7: 1254 | AB7: 733 | AC7: 104 | AD7: 62 | AE7: 131 | AF7: 77 | AH7: =R7/AA7 -> 0.60127592 | AI7: =S7/AB7 -> 1.0286494 | AJ7: =T7/AC7 -> 1.0288462 | AK7: =U7/AD7 -> 1.0322581 | AL7: =#REF!/AE7 -> #REF! | AM7: =#REF!/AF7 -> #REF!
A8: 1 | B8: =ROUND(C8,2)*$B$5 -> 4.9766 | C8: ='degressie en km-tarief'!C7 -> 2.9842 | F8: =$F$5*C8 -> 2.9901684 | G8: =$G$5*C8 -> 1.79052 | H8: =$H$5*C8 -> 3.9868912 | I8: =$I$5*C8 -> 2.38736 | J8: =2*ROUND(B8,2) -> 9.96 | K8: =2*ROUND(C8,2) -> 5.96 | N8: =2*ROUND(F8,2) -> 5.98 | O8: =2*ROUND(G8,2) -> 3.58 | P8: =2*ROUND(H8,2) -> 7.98 | Q8: =2*ROUND(I8,2) -> 4.78 | R8: =S8*'factoren tbv NS'!$C$19/1000 -> 754 | S8: =ROUND(AB8*(1+$V$1),0) -> 754 | T8: =ROUND(AC8*(1+$V$1),0) -> 107 | U8: =ROUND(AD8*(1+$V$1),0) -> 64 | V8: =$V$5*T8 -> 128.4 | W8: =$V$5*U8 -> 76.8 | X8: =T8*$X$5 -> 321 | Y8: =$Y$5*U8 -> 192 | AA8: 1254 | AB8: 733 | AC8: 104 | AD8: 62 | AE8: 131 | AF8: 77 | AH8: =R8/AA8 -> 0.60127592 | AI8: =S8/AB8 -> 1.0286494 | AJ8: =T8/AC8 -> 1.0288462 | AK8: =U8/AD8 -> 1.0322581 | AL8: =#REF!/AE8 -> #REF! | AM8: =#REF!/AF8 -> #REF!
A9: 2 | B9: =ROUND(C9,2)*$B$5 -> 4.9766 | C9: ='degressie en km-tarief'!C8 -> 2.9842 | F9: =$F$5*C9 -> 2.9901684 | G9: =$G$5*C9 -> 1.79052 | H9: =$H$5*C9 -> 3.9868912 | I9: =$I$5*C9 -> 2.38736 | J9: =2*ROUND(B9,2) -> 9.96 | K9: =2*ROUND(C9,2) -> 5.96 | N9: =2*ROUND(F9,2) -> 5.98 | O9: =2*ROUND(G9,2) -> 3.58 | P9: =2*ROUND(H9,2) -> 7.98 | Q9: =2*ROUND(I9,2) -> 4.78 | R9: =S9*'factoren tbv NS'!$C$19/1000 -> 754 | S9: =ROUND(AB9*(1+$V$1),0) -> 754 | T9: =ROUND(AC9*(1+$V$1),0) -> 107 | U9: =ROUND(AD9*(1+$V$1),0) -> 64 | V9: =$V$5*T9 -> 128.4 | W9: =$V$5*U9 -> 76.8 | X9: =T9*$X$5 -> 321 | Y9: =$Y$5*U9 -> 192 | AA9: 1254 | AB9: 733 | AC9: 104 | AD9: 62 | AE9: 131 | AF9: 77 | AH9: =R9/AA9 -> 0.60127592 | AI9: =S9/AB9 -> 1.0286494 | AJ9: =T9/AC9 -> 1.0288462 | AK9: =U9/AD9 -> 1.0322581 | AL9: =#REF!/AE9 -> #REF! | AM9: =#REF!/AF9 -> #REF!
A10: 3 | B10: =ROUND(C10,2)*$B$5 -> 4.9766 | C10: ='degressie en km-tarief'!C9 -> 2.9842 | F10: =$F$5*C10 -> 2.9901684 | G10: =$G$5*C10 -> 1.79052 | H10: =$H$5*C10 -> 3.9868912 | I10: =$I$5*C10 -> 2.38736 | J10: =2*ROUND(B10,2) -> 9.96 | K10: =2*ROUND(C10,2) -> 5.96 | N10: =2*ROUND(F10,2) -> 5.98 | O10: =2*ROUND(G10,2) -> 3.58 | P10: =2*ROUND(H10,2) -> 7.98 | Q10: =2*ROUND(I10,2) -> 4.78 | R10: =S10*'factoren tbv NS'!$C$19/1000 -> 754 | S10: =ROUND(AB10*(1+$V$1),0) -> 754 | T10: =ROUND(AC10*(1+$V$1),0) -> 107 | U10: =ROUND(AD10*(1+$V$1),0) -> 64 | V10: =$V$5*T10 -> 128.4 | W10: =$V$5*U10 -> 76.8 | X10: =T10*$X$5 -> 321 | Y10: =$Y$5*U10 -> 192 | AA10: 1254 | AB10: 733 | AC10: 104 | AD10: 62 | AE10: 131 | AF10: 77 | AH10: =R10/AA10 -> 0.60127592 | AI10: =S10/AB10 -> 1.0286494 | AJ10: =T10/AC10 -> 1.0288462 | AK10: =U10/AD10 -> 1.0322581 | AL10: =#REF!/AE10 -> #REF! | AM10: =#REF!/AF10 -> #REF!
A11: 4 | B11: =ROUND(C11,2)*$B$5 -> 4.9766 | C11: ='degressie en km-tarief'!C10 -> 2.9842 | F11: =$F$5*C11 -> 2.9901684 | G11: =$G$5*C11 -> 1.79052 | H11: =$H$5*C11 -> 3.9868912 | I11: =$I$5*C11 -> 2.38736 | J11: =2*ROUND(B11,2) -> 9.96 | K11: =2*ROUND(C11,2) -> 5.96 | N11: =2*ROUND(F11,2) -> 5.98 | O11: =2*ROUND(G11,2) -> 3.58 | P11: =2*ROUND(H11,2) -> 7.98 | Q11: =2*ROUND(I11,2) -> 4.78 | R11: =S11*'factoren tbv NS'!$C$19/1000 -> 754 | S11: =ROUND(AB11*(1+$V$1),0) -> 754 | T11: =ROUND(AC11*(1+$V$1),0) -> 107 | U11: =ROUND(AD11*(1+$V$1),0) -> 64 | V11: =$V$5*T11 -> 128.4 | W11: =$V$5*U11 -> 76.8 | X11: =T11*$X$5 -> 321 | Y11: =$Y$5*U11 -> 192 | AA11: 1254 | AB11: 733 | AC11: 104 | AD11: 62 | AE11: 131 | AF11: 77 | AH11: =R11/AA11 -> 0.60127592 | AI11: =S11/AB11 -> 1.0286494 | AJ11: =T11/AC11 -> 1.0288462 | AK11: =U11/AD11 -> 1.0322581 | AL11: =#REF!/AE11 -> #REF! | AM11: =#REF!/AF11 -> #REF!
A12: 5 | B12: =ROUND(C12,2)*$B$5 -> 4.9766 | C12: ='degressie en km-tarief'!C11 -> 2.9842 | F12: =$F$5*C12 -> 2.9901684 | G12: =$G$5*C12 -> 1.79052 | H12: =$H$5*C12 -> 3.9868912 | I12: =$I$5*C12 -> 2.38736 | J12: =2*ROUND(B12,2) -> 9.96 | K12: =2*ROUND(C12,2) -> 5.96 | N12: =2*ROUND(F12,2) -> 5.98 | O12: =2*ROUND(G12,2) -> 3.58 | P12: =2*ROUND(H12,2) -> 7.98 | Q12: =2*ROUND(I12,2) -> 4.78 | R12: =S12*'factoren tbv NS'!$C$19/1000 -> 754 | S12: =ROUND(AB12*(1+$V$1),0) -> 754 | T12: =ROUND(AC12*(1+$V$1),0) -> 107 | U12: =ROUND(AD12*(1+$V$1),0) -> 64 | V12: =$V$5*T12 -> 128.4 | W12: =$V$5*U12 -> 76.8 | X12: =T12*$X$5 -> 321 | Y12: =$Y$5*U12 -> 192 | AA12: 1254 | AB12: 733 | AC12: 104 | AD12: 62 | AE12: 131 | AF12: 77 | AH12: =R12/AA12 -> 0.60127592 | AI12: =S12/AB12 -> 1.0286494 | AJ12: =T12/AC12 -> 1.0288462 | AK12: =U12/AD12 -> 1.0322581 | AL12: =#REF!/AE12 -> #REF! | AM12: =#REF!/AF12 -> #REF!
A13: 6 | B13: =ROUND(C13,2)*$B$5 -> 4.9766 | C13: ='degressie en km-tarief'!C12 -> 2.9842 | F13: =$F$5*C13 -> 2.9901684 | G13: =$G$5*C13 -> 1.79052 | H13: =$H$5*C13 -> 3.9868912 | I13: =$I$5*C13 -> 2.38736 | J13: =2*ROUND(B13,2) -> 9.96 | K13: =2*ROUND(C13,2) -> 5.96 | N13: =2*ROUND(F13,2) -> 5.98 | O13: =2*ROUND(G13,2) -> 3.58 | P13: =2*ROUND(H13,2) -> 7.98 | Q13: =2*ROUND(I13,2) -> 4.78 | R13: =S13*'factoren tbv NS'!$C$19/1000 -> 754 | S13: =ROUND(AB13*(1+$V$1),0) -> 754 | T13: =ROUND(AC13*(1+$V$1),0) -> 107 | U13: =ROUND(AD13*(1+$V$1),0) -> 64 | V13: =$V$5*T13 -> 128.4 | W13: =$V$5*U13 -> 76.8 | X13: =T13*$X$5 -> 321 | Y13: =$Y$5*U13 -> 192 | AA13: 1254 | AB13: 733 | AC13: 104 | AD13: 62 | AE13: 131 | AF13: 77 | AH13: =R13/AA13 -> 0.60127592 | AI13: =S13/AB13 -> 1.0286494 | AJ13: =T13/AC13 -> 1.0288462 | AK13: =U13/AD13 -> 1.0322581 | AL13: =#REF!/AE13 -> #REF! | AM13: =#REF!/AF13 -> #REF!
A14: 7 | B14: =ROUND(C14,2)*$B$5 -> 4.9766 | C14: ='degressie en km-tarief'!C13 -> 2.9842 | F14: =$F$5*C14 -> 2.9901684 | G14: =$G$5*C14 -> 1.79052 | H14: =$H$5*C14 -> 3.9868912 | I14: =$I$5*C14 -> 2.38736 | J14: =2*ROUND(B14,2) -> 9.96 | K14: =2*ROUND(C14,2) -> 5.96 | N14: =2*ROUND(F14,2) -> 5.98 | O14: =2*ROUND(G14,2) -> 3.58 | P14: =2*ROUND(H14,2) -> 7.98 | Q14: =2*ROUND(I14,2) -> 4.78 | R14: =S14*'factoren tbv NS'!$C$19/1000 -> 754 | S14: =ROUND(AB14*(1+$V$1),0) -> 754 | T14: =ROUND(AC14*(1+$V$1),0) -> 107 | U14: =ROUND(AD14*(1+$V$1),0) -> 64 | V14: =$V$5*T14 -> 128.4 | W14: =$V$5*U14 -> 76.8 | X14: =T14*$X$5 -> 321 | Y14: =$Y$5*U14 -> 192 | AA14: 1254 | AB14: 733 | AC14: 104 | AD14: 62 | AE14: 131 | AF14: 77 | AH14: =R14/AA14 -> 0.60127592 | AI14: =S14/AB14 -> 1.0286494 | AJ14: =T14/AC14 -> 1.0288462 | AK14: =U14/AD14 -> 1.0322581 | AL14: =#REF!/AE14 -> #REF! | AM14: =#REF!/AF14 -> #REF!
A15: 8 | B15: =ROUND(C15,2)*$B$5 -> 4.9766 | C15: ='degressie en km-tarief'!C14 -> 2.9842 | F15: =$F$5*C15 -> 2.9901684 | G15: =$G$5*C15 -> 1.79052 | H15: =$H$5*C15 -> 3.9868912 | I15: =$I$5*C15 -> 2.38736 | J15: =2*ROUND(B15,2) -> 9.96 | K15: =2*ROUND(C15,2) -> 5.96 | N15: =2*ROUND(F15,2) -> 5.98 | O15: =2*ROUND(G15,2) -> 3.58 | P15: =2*ROUND(H15,2) -> 7.98 | Q15: =2*ROUND(I15,2) -> 4.78 | R15: =S15*'factoren tbv NS'!$C$19/1000 -> 754 | S15: =ROUND(AB15*(1+$V$1),0) -> 754 | T15: =ROUND(AC15*(1+$V$1),0) -> 107 | U15: =ROUND(AD15*(1+$V$1),0) -> 64 | V15: =$V$5*T15 -> 128.4 | W15: =$V$5*U15 -> 76.8 | X15: =T15*$X$5 -> 321 | Y15: =$Y$5*U15 -> 192 | AA15: 1254 | AB15: 733 | AC15: 104 | AD15: 62 | AE15: 131 | AF15: 77 | AH15: =R15/AA15 -> 0.60127592 | AI15: =S15/AB15 -> 1.0286494 | AJ15: =T15/AC15 -> 1.0288462 | AK15: =U15/AD15 -> 1.0322581 | AL15: =#REF!/AE15 -> #REF! | AM15: =#REF!/AF15 -> #REF!
A16: 9 | B16: =ROUND(C16,2)*$B$5 -> 5.3273 | C16: ='degressie en km-tarief'!C15 -> 3.1863 | F16: =$F$5*C16 -> 3.1926726 | G16: =$G$5*C16 -> 1.91178 | H16: =$H$5*C16 -> 4.2568968 | I16: =$I$5*C16 -> 2.54904 | J16: =2*ROUND(B16,2) -> 10.66 | K16: =2*ROUND(C16,2) -> 6.38 | N16: =2*ROUND(F16,2) -> 6.38 | O16: =2*ROUND(G16,2) -> 3.82 | P16: =2*ROUND(H16,2) -> 8.52 | Q16: =2*ROUND(I16,2) -> 5.1 | R16: =S16*'factoren tbv NS'!$C$19/1000 -> 826 | S16: =ROUND(AB16*(1+$V$1),0) -> 826 | T16: =ROUND(AC16*(1+$V$1),0) -> 118 | U16: =ROUND(AD16*(1+$V$1),0) -> 69 | V16: =$V$5*T16 -> 141.6 | W16: =$V$5*U16 -> 82.8 | X16: =T16*$X$5 -> 354 | Y16: =$Y$5*U16 -> 207 | AA16: 1368 | AB16: 803 | AC16: 115 | AD16: 67 | AE16: 143 | AF16: 82 | AH16: =R16/AA16 -> 0.60380117 | AI16: =S16/AB16 -> 1.0286426 | AJ16: =T16/AC16 -> 1.026087 | AK16: =U16/AD16 -> 1.0298507 | AL16: =#REF!/AE16 -> #REF! | AM16: =#REF!/AF16 -> #REF!
A17: 10 | B17: =ROUND(C17,2)*$B$5 -> 5.6613 | C17: ='degressie en km-tarief'!C16 -> 3.3884 | F17: =$F$5*C17 -> 3.3951768 | G17: =$G$5*C17 -> 2.03304 | H17: =$H$5*C17 -> 4.5269024 | I17: =$I$5*C17 -> 2.71072 | J17: =2*ROUND(B17,2) -> 11.32 | K17: =2*ROUND(C17,2) -> 6.78 | N17: =2*ROUND(F17,2) -> 6.8 | O17: =2*ROUND(G17,2) -> 4.06 | P17: =2*ROUND(H17,2) -> 9.06 | Q17: =2*ROUND(I17,2) -> 5.42 | R17: =S17*'factoren tbv NS'!$C$19/1000 -> 883 | S17: =ROUND(AB17*(1+$V$1),0) -> 883 | T17: =ROUND(AC17*(1+$V$1),0) -> 126 | U17: =ROUND(AD17*(1+$V$1),0) -> 74 | V17: =$V$5*T17 -> 151.2 | W17: =$V$5*U17 -> 88.8 | X17: =T17*$X$5 -> 378 | Y17: =$Y$5*U17 -> 222 | AA17: 1466 | AB17: 859 | AC17: 123 | AD17: 72 | AE17: 152 | AF17: 90 | AH17: =R17/AA17 -> 0.60231924 | AI17: =S17/AB17 -> 1.0279395 | AJ17: =T17/AC17 -> 1.0243902 | AK17: =U17/AD17 -> 1.0277778 | AL17: =#REF!/AE17 -> #REF! | AM17: =#REF!/AF17 -> #REF!
A18: 11 | B18: =ROUND(C18,2)*$B$5 -> 5.9953 | C18: ='degressie en km-tarief'!C17 -> 3.5905 | F18: =$F$5*C18 -> 3.597681 | G18: =$G$5*C18 -> 2.1543 | H18: =$H$5*C18 -> 4.796908 | I18: =$I$5*C18 -> 2.8724 | J18: =2*ROUND(B18,2) -> 12 | K18: =2*ROUND(C18,2) -> 7.18 | N18: =2*ROUND(F18,2) -> 7.2 | O18: =2*ROUND(G18,2) -> 4.3 | P18: =2*ROUND(H18,2) -> 9.6 | Q18: =2*ROUND(I18,2) -> 5.74 | R18: =S18*'factoren tbv NS'!$C$19/1000 -> 956 | S18: =ROUND(AB18*(1+$V$1),0) -> 956 | T18: =ROUND(AC18*(1+$V$1),0) -> 135 | U18: =ROUND(AD18*(1+$V$1),0) -> 79 | V18: =$V$5*T18 -> 162 | W18: =$V$5*U18 -> 94.8 | X18: =T18*$X$5 -> 405 | Y18: =$Y$5*U18 -> 237 | AA18: 1580 | AB18: 930 | AC18: 131 | AD18: 77 | AE18: 164 | AF18: 96 | AH18: =R18/AA18 -> 0.60506329 | AI18: =S18/AB18 -> 1.027957 | AJ18: =T18/AC18 -> 1.0305344 | AK18: =U18/AD18 -> 1.025974 | AL18: =#REF!/AE18 -> #REF! | AM18: =#REF!/AF18 -> #REF!
... A97: 90 | B97: =ROUND(C97,2)*$B$5 -> 31.9304 | C97: ='degressie en km-tarief'!C96 -> 19.12431 | F97: =$F$5*C97 -> 19.162559 | G97: =$G$5*C97 -> 11.474586 | H97: =$H$5*C97 -> 25.550078 | I97: =$I$5*C97 -> 15.299448 | J97: =2*ROUND(B97,2) -> 63.86 | K97: =2*ROUND(C97,2) -> 38.24 | N97: =2*ROUND(F97,2) -> 38.32 | O97: =2*ROUND(G97,2) -> 22.94 | P97: =2*ROUND(H97,2) -> 51.1 | Q97: =2*ROUND(I97,2) -> 30.6 | R97: =S97*'factoren tbv NS'!$C$19/1000 -> 4747 | S97: =ROUND(AB97*(1+$V$1),0) -> 4747 | T97: =ROUND(AC97*(1+$V$1),0) -> 663 | U97: =ROUND(AD97*(1+$V$1),0) -> 397 | V97: =$V$5*T97 -> 795.6 | W97: =$V$5*U97 -> 476.4 | X97: =T97*$X$5 -> 1989 | Y97: =$Y$5*U97 -> 1191 | AA97: 7751 | AB97: 4617 | AC97: 645 | AD97: 386 | AE97: 811 | AF97: 473 | AH97: =R97/AA97 -> 0.6124371 | AI97: =S97/AB97 -> 1.0281568 | AJ97: =T97/AC97 -> 1.027907 | AK97: =U97/AD97 -> 1.0284974 | AL97: =#REF!/AE97 -> #REF! | AM97: =#REF!/AF97 -> #REF!
A98: 91 | B98: =ROUND(C98,2)*$B$5 -> 32.231 | C98: ='degressie en km-tarief'!C97 -> 19.300178 | F98: =$F$5*C98 -> 19.338778 | G98: =$G$5*C98 -> 11.580107 | H98: =$H$5*C98 -> 25.785037 | I98: =$I$5*C98 -> 15.440142 | J98: =2*ROUND(B98,2) -> 64.46 | K98: =2*ROUND(C98,2) -> 38.6 | N98: =2*ROUND(F98,2) -> 38.68 | O98: =2*ROUND(G98,2) -> 23.16 | P98: =2*ROUND(H98,2) -> 51.58 | Q98: =2*ROUND(I98,2) -> 30.88 | AH98: =R98/AA98 -> #DIV/0! | AI98: =S98/AB98 -> #DIV/0! | AJ98: =T98/AC98 -> #DIV/0! | AK98: =U98/AD98 -> #DIV/0! | AL98: =#REF!/AE98 -> #REF! | AM98: =#REF!/AF98 -> #REF!
A99: 92 | B99: =ROUND(C99,2)*$B$5 -> 32.5316 | C99: ='degressie en km-tarief'!C98 -> 19.476045 | F99: =$F$5*C99 -> 19.514997 | G99: =$G$5*C99 -> 11.685627 | H99: =$H$5*C99 -> 26.019996 | I99: =$I$5*C99 -> 15.580836 | J99: =2*ROUND(B99,2) -> 65.06 | K99: =2*ROUND(C99,2) -> 38.96 | N99: =2*ROUND(F99,2) -> 39.02 | O99: =2*ROUND(G99,2) -> 23.38 | P99: =2*ROUND(H99,2) -> 52.04 | Q99: =2*ROUND(I99,2) -> 31.16 | AH99: =R99/AA99 -> #DIV/0! | AI99: =S99/AB99 -> #DIV/0! | AJ99: =T99/AC99 -> #DIV/0! | AK99: =U99/AD99 -> #DIV/0! | AL99: =#REF!/AE99 -> #REF! | AM99: =#REF!/AF99 -> #REF!
A100: 93 | B100: =ROUND(C100,2)*$B$5 -> 32.8155 | C100: ='degressie en km-tarief'!C99 -> 19.651912 | F100: =$F$5*C100 -> 19.691216 | G100: =$G$5*C100 -> 11.791147 | H100: =$H$5*C100 -> 26.254955 | I100: =$I$5*C100 -> 15.72153 | J100: =2*ROUND(B100,2) -> 65.64 | K100: =2*ROUND(C100,2) -> 39.3 | N100: =2*ROUND(F100,2) -> 39.38 | O100: =2*ROUND(G100,2) -> 23.58 | P100: =2*ROUND(H100,2) -> 52.5 | Q100: =2*ROUND(I100,2) -> 31.44 | AH100: =R100/AA100 -> #DIV/0! | AI100: =S100/AB100 -> #DIV/0! | AJ100: =T100/AC100 -> #DIV/0! | AK100: =U100/AD100 -> #DIV/0! | AL100: =#REF!/AE100 -> #REF! | AM100: =#REF!/AF100 -> #REF!
A101: 94 | B101: =ROUND(C101,2)*$B$5 -> 33.1161 | C101: ='degressie en km-tarief'!C100 -> 19.82778 | F101: =$F$5*C101 -> 19.867435 | G101: =$G$5*C101 -> 11.896668 | H101: =$H$5*C101 -> 26.489914 | I101: =$I$5*C101 -> 15.862224 | J101: =2*ROUND(B101,2) -> 66.24 | K101: =2*ROUND(C101,2) -> 39.66 | N101: =2*ROUND(F101,2) -> 39.74 | O101: =2*ROUND(G101,2) -> 23.8 | P101: =2*ROUND(H101,2) -> 52.98 | Q101: =2*ROUND(I101,2) -> 31.72 | AH101: =R101/AA101 -> #DIV/0! | AI101: =S101/AB101 -> #DIV/0! | AJ101: =T101/AC101 -> #DIV/0! | AK101: =U101/AD101 -> #DIV/0! | AL101: =#REF!/AE101 -> #REF! | AM101: =#REF!/AF101 -> #REF!
A102: 95 | B102: =ROUND(C102,2)*$B$5 -> 33.4 | C102: ='degressie en km-tarief'!C101 -> 20.003647 | F102: =$F$5*C102 -> 20.043655 | G102: =$G$5*C102 -> 12.002188 | H102: =$H$5*C102 -> 26.724873 | I102: =$I$5*C102 -> 16.002918 | J102: =2*ROUND(B102,2) -> 66.8 | K102: =2*ROUND(C102,2) -> 40 | N102: =2*ROUND(F102,2) -> 40.08 | O102: =2*ROUND(G102,2) -> 24 | P102: =2*ROUND(H102,2) -> 53.44 | Q102: =2*ROUND(I102,2) -> 32 | AH102: =R102/AA102 -> #DIV/0! | AI102: =S102/AB102 -> #DIV/0! | AJ102: =T102/AC102 -> #DIV/0! | AK102: =U102/AD102 -> #DIV/0! | AL102: =#REF!/AE102 -> #REF! | AM102: =#REF!/AF102 -> #REF!
A103: 96 | B103: =ROUND(C103,2)*$B$5 -> 33.7006 | C103: ='degressie en km-tarief'!C102 -> 20.179515 | F103: =$F$5*C103 -> 20.219874 | G103: =$G$5*C103 -> 12.107709 | H103: =$H$5*C103 -> 26.959832 | I103: =$I$5*C103 -> 16.143612 | J103: =2*ROUND(B103,2) -> 67.4 | K103: =2*ROUND(C103,2) -> 40.36 | N103: =2*ROUND(F103,2) -> 40.44 | O103: =2*ROUND(G103,2) -> 24.22 | P103: =2*ROUND(H103,2) -> 53.92 | Q103: =2*ROUND(I103,2) -> 32.28 | AH103: =R103/AA103 -> #DIV/0! | AI103: =S103/AB103 -> #DIV/0! | AJ103: =T103/AC103 -> #DIV/0! | AK103: =U103/AD103 -> #DIV/0! | AL103: =#REF!/AE103 -> #REF! | AM103: =#REF!/AF103 -> #REF!
A104: 97 | B104: =ROUND(C104,2)*$B$5 -> 34.0012 | C104: ='degressie en km-tarief'!C103 -> 20.355382 | F104: =$F$5*C104 -> 20.396093 | G104: =$G$5*C104 -> 12.213229 | H104: =$H$5*C104 -> 27.194791 | I104: =$I$5*C104 -> 16.284306 | J104: =2*ROUND(B104,2) -> 68 | K104: =2*ROUND(C104,2) -> 40.72 | N104: =2*ROUND(F104,2) -> 40.8 | O104: =2*ROUND(G104,2) -> 24.42 | P104: =2*ROUND(H104,2) -> 54.38 | Q104: =2*ROUND(I104,2) -> 32.56 | AH104: =R104/AA104 -> #DIV/0! | AI104: =S104/AB104 -> #DIV/0! | AJ104: =T104/AC104 -> #DIV/0! | AK104: =U104/AD104 -> #DIV/0! | AL104: =#REF!/AE104 -> #REF! | AM104: =#REF!/AF104 -> #REF!
A105: 98 | B105: =ROUND(C105,2)*$B$5 -> 34.2851 | C105: ='degressie en km-tarief'!C104 -> 20.53125 | F105: =$F$5*C105 -> 20.572312 | G105: =$G$5*C105 -> 12.31875 | H105: =$H$5*C105 -> 27.429749 | I105: =$I$5*C105 -> 16.425 | J105: =2*ROUND(B105,2) -> 68.58 | K105: =2*ROUND(C105,2) -> 41.06 | N105: =2*ROUND(F105,2) -> 41.14 | O105: =2*ROUND(G105,2) -> 24.64 | P105: =2*ROUND(H105,2) -> 54.86 | Q105: =2*ROUND(I105,2) -> 32.84 | AH105: =R105/AA105 -> #DIV/0! | AI105: =S105/AB105 -> #DIV/0! | AJ105: =T105/AC105 -> #DIV/0! | AK105: =U105/AD105 -> #DIV/0! | AL105: =#REF!/AE105 -> #REF! | AM105: =#REF!/AF105 -> #REF!
A106: 99 | B106: =ROUND(C106,2)*$B$5 -> 34.5857 | C106: ='degressie en km-tarief'!C105 -> 20.707117 | F106: =$F$5*C106 -> 20.748531 | G106: =$G$5*C106 -> 12.42427 | H106: =$H$5*C106 -> 27.664708 | I106: =$I$5*C106 -> 16.565694 | J106: =2*ROUND(B106,2) -> 69.18 | K106: =2*ROUND(C106,2) -> 41.42 | N106: =2*ROUND(F106,2) -> 41.5 | O106: =2*ROUND(G106,2) -> 24.84 | P106: =2*ROUND(H106,2) -> 55.32 | Q106: =2*ROUND(I106,2) -> 33.14 | AH106: =R106/AA106 -> #DIV/0! | AI106: =S106/AB106 -> #DIV/0! | AJ106: =T106/AC106 -> #DIV/0! | AK106: =U106/AD106 -> #DIV/0! | AL106: =#REF!/AE106 -> #REF! | AM106: =#REF!/AF106 -> #REF!
A107: 100 | B107: =ROUND(C107,2)*$B$5 -> 34.8696 | C107: ='degressie en km-tarief'!C106 -> 20.882984 | F107: =$F$5*C107 -> 20.92475 | G107: =$G$5*C107 -> 12.529791 | H107: =$H$5*C107 -> 27.899667 | I107: =$I$5*C107 -> 16.706388 | J107: =2*ROUND(B107,2) -> 69.74 | K107: =2*ROUND(C107,2) -> 41.76 | N107: =2*ROUND(F107,2) -> 41.84 | O107: =2*ROUND(G107,2) -> 25.06 | P107: =2*ROUND(H107,2) -> 55.8 | Q107: =2*ROUND(I107,2) -> 33.42 | AH107: =R107/AA107 -> #DIV/0! | AI107: =S107/AB107 -> #DIV/0! | AJ107: =T107/AC107 -> #DIV/0! | AK107: =U107/AD107 -> #DIV/0! | AL107: =#REF!/AE107 -> #REF! | AM107: =#REF!/AF107 -> #REF!
A108: 101 | B108: =ROUND(C108,2)*$B$5 -> 35.1034 | C108: ='degressie en km-tarief'!C107 -> 21.024454 | F108: =$F$5*C108 -> 21.066503 | G108: =$G$5*C108 -> 12.614673 | H108: =$H$5*C108 -> 28.088671 | I108: =$I$5*C108 -> 16.819564 | J108: =2*ROUND(B108,2) -> 70.2 | K108: =2*ROUND(C108,2) -> 42.04 | N108: =2*ROUND(F108,2) -> 42.14 | O108: =2*ROUND(G108,2) -> 25.22 | P108: =2*ROUND(H108,2) -> 56.18 | Q108: =2*ROUND(I108,2) -> 33.64 | AH108: =R108/AA108 -> #DIV/0! | AI108: =S108/AB108 -> #DIV/0! | AJ108: =T108/AC108 -> #DIV/0! | AK108: =U108/AD108 -> #DIV/0! | AL108: =#REF!/AE108 -> #REF! | AM108: =#REF!/AF108 -> #REF!
A109: 102 | B109: =ROUND(C109,2)*$B$5 -> 35.3539 | C109: ='degressie en km-tarief'!C108 -> 21.165924 | F109: =$F$5*C109 -> 21.208256 | G109: =$G$5*C109 -> 12.699555 | H109: =$H$5*C109 -> 28.277675 | I109: =$I$5*C109 -> 16.93274 | J109: =2*ROUND(B109,2) -> 70.7 | K109: =2*ROUND(C109,2) -> 42.34 | N109: =2*ROUND(F109,2) -> 42.42 | O109: =2*ROUND(G109,2) -> 25.4 | P109: =2*ROUND(H109,2) -> 56.56 | Q109: =2*ROUND(I109,2) -> 33.86 | AH109: =R109/AA109 -> #DIV/0! | AI109: =S109/AB109 -> #DIV/0! | AJ109: =T109/AC109 -> #DIV/0! | AK109: =U109/AD109 -> #DIV/0! | AL109: =#REF!/AE109 -> #REF! | AM109: =#REF!/AF109 -> #REF!
... A257: 250 | B257: =ROUND(C257,2)*$B$5 -> 53.7406 | C257: ='degressie en km-tarief'!C256 -> 32.180374 | F257: =$F$5*C257 -> 32.244735 | G257: =$G$5*C257 -> 19.308225 | H257: =$H$5*C257 -> 42.99298 | I257: =$I$5*C257 -> 25.7443 | J257: =2*ROUND(B257,2) -> 107.48 | K257: =2*ROUND(C257,2) -> 64.36 | N257: =2*ROUND(F257,2) -> 64.48 | O257: =2*ROUND(G257,2) -> 38.62 | P257: =2*ROUND(H257,2) -> 85.98 | Q257: =2*ROUND(I257,2) -> 51.48 | AH257: =R257/AA257 -> #DIV/0! | AI257: =S257/AB257 -> #DIV/0! | AJ257: =T257/AC257 -> #DIV/0! | AK257: =U257/AD257 -> #DIV/0! | AL257: =#REF!/AE257 -> #REF! | AM257: =#REF!/AF257 -> #REF!
A258: 999 | B258: =ROUND(C258,2)*$B$5 -> 53.7406 | C258: ='degressie en km-tarief'!C257 -> 32.180374 | F258: =$F$5*C258 -> 32.244735 | G258: =$G$5*C258 -> 19.308225 | H258: =$H$5*C258 -> 42.99298 | I258: =$I$5*C258 -> 25.7443 | J258: =2*ROUND(B258,2) -> 107.48 | K258: =2*ROUND(C258,2) -> 64.36 | N258: =2*ROUND(F258,2) -> 64.48 | O258: =2*ROUND(G258,2) -> 38.62 | P258: =2*ROUND(H258,2) -> 85.98 | Q258: =2*ROUND(I258,2) -> 51.48 | R258: =ROUND(AA258*(1+$V$1),0) -> 7970 | S258: =ROUND(AB258*(1+$V$1),0) -> 4747 | T258: =ROUND(AC258*(1+$V$1),0) -> 663 | U258: =ROUND(AD258*(1+$V$1),0) -> 397 | V258: =(T258+2.1)*1.2-2.1 -> 796.02 | W258: =(U258+2.1)*1.2-2.1 -> 476.82 | X258: =T258*3 -> 1989 | Y258: =U258*3 -> 1191 | AA258: 7751 | AB258: 4617 | AC258: 645 | AD258: 386 | AE258: 811 | AF258: 473 | AH258: =R258/AA258 -> 1.0282544 | AI258: =S258/AB258 -> 1.0281568 | AJ258: =T258/AC258 -> 1.027907 | AK258: =U258/AD258 -> 1.0284974 | AL258: =#REF!/AE258 -> #REF! | AM258: =#REF!/AF258 -> #REF!
B260: =B258/$C$258*1000 -> 1669.9806 | C260: =C258/$C$258*1000 -> 1000 | F260: =F258/$C$258*1000 -> 1002 | G260: =G258/$C$258*1000 -> 600 | H260: =H258/$C$258*1000 -> 1336 | I260: =I258/$C$258*1000 -> 800 | J260: =J258/$C$258*1000 -> 3339.9239 | K260: =K258/$C$258*1000 -> 1999.9767 | N260: =N258/$C$258*1000 -> 2003.7057 | O260: =O258/$C$258*1000 -> 1200.1103 | P260: =P258/$C$258*1000 -> 2671.8148 | Q260: =Q258/$C$258*1000 -> 1599.7328

Sheet Prijstabellen
A1: Tariefgebied | B1: Connexxion - Valleilijn
A2: Tariefgebiedcode | B2: 4
A3: Prijstabel | B3: 4500 | C3: 4510 | D3: 4511
A4: Klasse | B4: 2 | C4: 2 | D4: 1
A5: Tariefeenheden | B5: Enkele reis | C5: Traject Vrij maand | D5: Traject Vrij maand
A6: 0 | B6: =ROUND(rekentabel!C7,2) -> 2.98 | C6: =rekentabel!U7 -> 64 | D6: =rekentabel!T7 -> 107
A7: 1 | B7: =ROUND(rekentabel!C8,2) -> 2.98 | C7: =rekentabel!U8 -> 64 | D7: =rekentabel!T8 -> 107
A8: 2 | B8: =ROUND(rekentabel!C9,2) -> 2.98 | C8: =rekentabel!U9 -> 64 | D8: =rekentabel!T9 -> 107
A9: 3 | B9: =ROUND(rekentabel!C10,2) -> 2.98 | C9: =rekentabel!U10 -> 64 | D9: =rekentabel!T10 -> 107
A10: 4 | B10: =ROUND(rekentabel!C11,2) -> 2.98 | C10: =rekentabel!U11 -> 64 | D10: =rekentabel!T11 -> 107
A11: 5 | B11: =ROUND(rekentabel!C12,2) -> 2.98 | C11: =rekentabel!U12 -> 64 | D11: =rekentabel!T12 -> 107
A12: 6 | B12: =ROUND(rekentabel!C13,2) -> 2.98 | C12: =rekentabel!U13 -> 64 | D12: =rekentabel!T13 -> 107
A13: 7 | B13: =ROUND(rekentabel!C14,2) -> 2.98 | C13: =rekentabel!U14 -> 64 | D13: =rekentabel!T14 -> 107
A14: 8 | B14: =ROUND(rekentabel!C15,2) -> 2.98 | C14: =rekentabel!U15 -> 64 | D14: =rekentabel!T15 -> 107
A15: 9 | B15: =ROUND(rekentabel!C16,2) -> 3.19 | C15: =rekentabel!U16 -> 69 | D15: =rekentabel!T16 -> 118
A16: 10 | B16: =ROUND(rekentabel!C17,2) -> 3.39 | C16: =rekentabel!U17 -> 74 | D16: =rekentabel!T17 -> 126
A17: 11 | B17: =ROUND(rekentabel!C18,2) -> 3.59 | C17: =rekentabel!U18 -> 79 | D17: =rekentabel!T18 -> 135
... A96: 90 | B96: =ROUND(rekentabel!C97,2) -> 19.12 | C96: =rekentabel!U97 -> 397 | D96: =rekentabel!T97 -> 663
A97: 91 | B97: =ROUND(rekentabel!C98,2) -> 19.3
A98: 92 | B98: =ROUND(rekentabel!C99,2) -> 19.48
A99: 93 | B99: =ROUND(rekentabel!C100,2) -> 19.65
A100: 94 | B100: =ROUND(rekentabel!C101,2) -> 19.83
A101: 95 | B101: =ROUND(rekentabel!C102,2) -> 20
A102: 96 | B102: =ROUND(rekentabel!C103,2) -> 20.18
A103: 97 | B103: =ROUND(rekentabel!C104,2) -> 20.36
A104: 98 | B104: =ROUND(rekentabel!C105,2) -> 20.53
A105: 99 | B105: =ROUND(rekentabel!C106,2) -> 20.71
A106: 100 | B106: =ROUND(rekentabel!C107,2) -> 20.88
A107: 101 | B107: =ROUND(rekentabel!C108,2) -> 21.02
A108: 102 | B108: =ROUND(rekentabel!C109,2) -> 21.17
... A257: 999 | B257: =ROUND(rekentabel!C258,2) -> 32.18

Sheet factoren tbv NS
A1: naam productgroep | B1: prijstabel | C1: tarieffactor (promille) | D1: afronding (centen)
A2: enkele reis 2e klas vol | B2: 4500 | C2: 1000 | D2: 1
A3: enkele reis 1e klas vol | B3: 4500 | C3: =1.67*C2 -> 1670 | D3: 1 | E3: 1e klasse factor 1,67 net als NS
A4: enkele reis 2e klas 50% | B4: 4500 | C4: 500 | D4: 1
A5: enkele reis 1e klas 50% | B5: 4500 | C5: =1.67*C4 -> 835 | D5: 1 | E5: 1e klasse factor 1,67 net als NS
A6: enkele reis 2e klas 40% | B6: 4500 | C6: 600 | D6: 1
A7: enkele reis 1e klas 40% | B7: 4500 | C7: =1.67*C6 -> 1002 | D7: 1 | E7: 1e klasse factor 1,67 net als NS
A8: enkele reis 2e klas 20% | B8: 4500 | C8: 800 | D8: 1
A9: enkele reis 1e klas 20% | B9: 4500 | C9: =1.67*C8 -> 1336 | D9: 1 | E9: 1e klasse factor 1,67 net als NS
A10: retour 2e klas vol | B10: 4500 | C10: 2000 | D10: 1
A11: retour 1e klas vol | B11: 4500 | C11: =1.67*C10 -> 3340 | D11: 1 | E11: 1e klasse factor 1,67 net als NS
A12: retour 2e klas 50% | B12: 4500 | C12: 1000 | D12: 1
A13: retour 1e klas 50% | B13: 4500 | C13: =1.67*C12 -> 1670 | D13: 1 | E13: 1e klasse factor 1,67 net als NS
A14: retour 2e klas 40% | B14: 4500 | C14: 1200 | D14: 1
A15: retour 1e klas 40% | B15: 4500 | C15: =1.67*C14 -> 2004 | D15: 1 | E15: 1e klasse factor 1,67 net als NS
A16: retour 2e klas 20% | B16: 4500 | C16: 1600 | D16: 1
A17: retour 1e klas 20% | B17: 4500 | C17: =1.67*C16 -> 2672 | D17: 1 | E17: 1e klasse factor 1,67 net als NS
A18: Traject Vrij 2e klas maand | B18: 4510 | C18: 1000 | D18: 1
A19: Traject Vrij 1e klas maand | B19: 4511 | C19: =C18 -> 1000 | D19: 1 | E19: 1e klas is al opgenomen in prijstabel 4511 / daar is de factor 1e klasse ergens tussen 1,67 en 1,7 afhankelijk van welke afstandsklasse
A20: Traject Vrij 2e klas jaar | B20: 4510 | C20: 12000 | D20: 1
A21: Traject Vrij 1e klas jaar | B21: 4511 | C21: 12000 | D21: 1 | E21: 1e klas is al opgenomen in prijstabel 4511 / daar is de factor 1e klasse ergens tussen 1,67 en 1,7 afhankelijk van welke afstandsklasse
A22: Prepaid 2e klas maand | B22: 4510 | C22: 1200 | D22: 1
A23: Prepaid 1e klas maand | B23: 4511 | C23: 1200 | D23: 1
A24: Prepaid 2e klas 3 maanden | B24: 4510 | C24: 3000 | D24: 1
A25: Prepaid 1e klas 3 maanden | B25: 4511 | C25: 3000 | D25: 1

Sheet point-to-point tbv ROR intern
A1: Dit is de point-to-point matrix zonder LAK
A5: Deze point-to-point moet actueel blijven want in gebruik voor L3 prijsberekening ROR 1.0,
A6: dus Cxx-only ROR zolang we nog op de Valleilijn zelf de EOD doen en mogleijk nog even ROR 1.0 voor NS zoalsng ROR 1.1. nog niet live is.
A10: Tarieven Valleilijn
A14: Toelichting: | B14: Tarief tweede klas
B15: Tarief eerste klas = tarief tweede klas * 1,7
A17: Ingangsdatum: | B17: 44197
A19: Van | D19: Naar
A20: Station | D20: Hoevelaken | E20: =A24 -> Barneveld Noord | F20: =A25 -> Barneveld Centrum | G20: Barneveld Zuid | H20: =A27 -> Lunteren | I20: =A28 -> Ede Centrum | J20: Ede-Wageningen
B21: Code | D21: 54675 | E21: =B24 -> 46203 | F21: =B25 -> 46205 | H21: =B27 -> 46200 | I21: =B28 -> 46196 | J21: 46198
A22: Amerfoort | B22: 46208 | D22: =VLOOKUP(D40,Prijstabellen!$A$6:$B$257,2,FALSE)*100-$B$30 -> 190 | E22: =VLOOKUP(E40,Prijstabellen!$A$6:$B$257,2,FALSE)*100-$B$30 -> 352 | F22: =VLOOKUP(F40,Prijstabellen!$A$6:$B$257,2,FALSE)*100-$B$30 -> 413 | G22: =VLOOKUP(G40,Prijstabellen!$A$6:$B$257,2,FALSE)*100-$B$30 -> 453 | H22: =VLOOKUP(H40,Prijstabellen!$A$6:$B$257,2,FALSE)*100-$B$30 -> 554 | I22: =VLOOKUP(I40,Prijstabellen!$A$6:$B$257,2,FALSE)*100-$B$30 -> 675 | J22: =VLOOKUP(J40,Prijstabellen!$A$6:$B$257,2,FALSE)*100-$B$30 -> 716
A23: =D20 -> Hoevelaken | B23: =D21 -> 54675 | E23: =VLOOKUP(E41,Prijstabellen!$A$6:$B$257,2,FALSE)*100-$B$30 -> 231 | F23: =VLOOKUP(F41,Prijstabellen!$A$6:$B$257,2,FALSE)*100-$B$30 -> 291 | G23: =VLOOKUP(G41,Prijstabellen!$A$6:$B$257,2,FALSE)*100-$B$30 -> 332 | H23: =VLOOKUP(H41,Prijstabellen!$A$6:$B$257,2,FALSE)*100-$B$30 -> 433 | I23: =VLOOKUP(I41,Prijstabellen!$A$6:$B$257,2,FALSE)*100-$B$30 -> 554 | J23: =VLOOKUP(J41,Prijstabellen!$A$6:$B$257,2,FALSE)*100-$B$30 -> 595
A24: Barneveld Noord | B24: 46203 | F24: =VLOOKUP(F42,Prijstabellen!$A$6:$B$257,2,FALSE)*100-$B$30 -> 190 | G24: =VLOOKUP(G42,Prijstabellen!$A$6:$B$257,2,FALSE)*100-$B$30 -> 190 | H24: =VLOOKUP(H42,Prijstabellen!$A$6:$B$257,2,FALSE)*100-$B$30 -> 231 | I24: =VLOOKUP(I42,Prijstabellen!$A$6:$B$257,2,FALSE)*100-$B$30 -> 352 | J24: =VLOOKUP(J42,Prijstabellen!$A$6:$B$257,2,FALSE)*100-$B$30 -> 393
A25: Barneveld Centrum | B25: 46205 | G25: =VLOOKUP(G43,Prijstabellen!$A$6:$B$257,2,FALSE)*100-$B$30 -> 190 | H25: =VLOOKUP(H43,Prijstabellen!$A$6:$B$257,2,FALSE)*100-$B$30 -> 190 | I25: =VLOOKUP(I43,Prijstabellen!$A$6:$B$257,2,FALSE)*100-$B$30 -> 291 | J25: =VLOOKUP(J43,Prijstabellen!$A$6:$B$257,2,FALSE)*100-$B$30 -> 332
A26: Barneveld Zuid | G26: =VLOOKUP(G44,Prijstabellen!$A$6:$B$257,2,FALSE)*100-$B$30 -> 190 | H26: =VLOOKUP(H44,Prijstabellen!$A$6:$B$257,2,FALSE)*100-$B$30 -> 190 | I26: =VLOOKUP(I44,Prijstabellen!$A$6:$B$257,2,FALSE)*100-$B$30 -> 251 | J26: =VLOOKUP(J44,Prijstabellen!$A$6:$B$257,2,FALSE)*100-$B$30 -> 291
A27: Lunteren | B27: 46200 | I27: =VLOOKUP(I45,Prijstabellen!$A$6:$B$257,2,FALSE)*100-$B$30 -> 190 | J27: =VLOOKUP(J45,Prijstabellen!$A$6:$B$257,2,FALSE)*100-$B$30 -> 190
A28: Ede Centrum | B28: 46196 | J28: =VLOOKUP(J46,Prijstabellen!$A$6:$B$257,2,FALSE)*100-$B$30 -> 190
A30: Opstaptarief: | B30: ='tabel EOD 1jan23'!$C$8 -> 108 | C30: DIT WORDT BIJ BOVENSTAANDE TARIEVEN OPGETELD, BEHALVE NÁ OVERSTAP VANAF NS OP VALLEILIJN
A35: Gebaseerd op deze tariefeenheden (zelfde als voor ERET papier en TrajectVrij)
A36: Van | D36: Naar
A37: Station | D37: Hoevelaken | E37: Barneveld Noord | F37: Barneveld Centrum | G37: Barneveld Zuid | H37: Lunteren | I37: Ede Centrum | J37: Ede-Wageningen
B38: Code | C38: StationID | D38: 54675 | E38: 46203 | F38: 46205 | H38: 46200 | I38: 46196 | J38: 46198
B39: StationID | C39: # | D39: 490 | E39: 92 | F39: 91 | G39: 115 | H39: 405 | I39: 201 | J39: 200
A40: Amerfoort | B40: 46208 | C40: 55 | D40: 6 | E40: 16 | F40: 19 | G40: =F40+tariefeenheden!$C$8 -> 21 | H40: =G40+tariefeenheden!$C$9 -> 26 | I40: 32 | J40: 34
A41: Hoevelaken | B41: 54675 | C41: 490 | E41: 10 | F41: 13 | G41: =F41+tariefeenheden!$C$8 -> 15 | H41: =G41+tariefeenheden!$C$9 -> 20 | I41: 26 | J41: 28
A42: Barneveld Noord | B42: 46203 | C42: 92 | F42: 3 | G42: =F42+tariefeenheden!$C$8 -> 5 | H42: =G42+tariefeenheden!$C$9 -> 10 | I42: 16 | J42: 18
A43: Barneveld Centrum | B43: 46205 | C43: 91 | G43: =F43+tariefeenheden!$C$8 -> 2 | H43: =G43+tariefeenheden!$C$9 -> 7 | I43: 13 | J43: 15
A44: Barneveld Zuid | C44: 115 | H44: =G44+tariefeenheden!$C$9 -> 5 | I44: =H44+6 -> 11 | J44: =I44+2 -> 13
A45: Lunteren | B45: 46200 | C45: 405 | I45: 6 | J45: 8
A46: Ede Centrum | B46: 46196 | C46: 201 | J46: 2
A49: Check output 2e klasse
A50: tarieven resulterend uit de opgave in OV-chipsysteem VOOR 2E KLASSE BINNEN VALLEILIJN:
A52: Van | D52: Naar
A53: Station | D53: Hoevelaken (490) | E53: =A57 -> Barneveld Noord | F53: =A58 -> Barneveld Centrum | G53: Barneveld Zuid | H53: =A60 -> Lunteren | I53: =A61 -> Ede Centrum | J53: Ede-Wageningen
B54: Code | D54: 54675 | E54: 46203 | F54: 46205 | H54: 46200 | I54: 46196 | J54: 46198
A55: Amerfoort | B55: 46208 | D55: =D22+$B$30 -> 298 | E55: =E22+$B$30 -> 460 | F55: =F22+$B$30 -> 521 | G55: =G22+$B$30 -> 561 | H55: =H22+$B$30 -> 662 | I55: =I22+$B$30 -> 783 | J55: =J22+$B$30 -> 824
A56: Hoevelaken | B56: 54675 | E56: =E23+$B$30 -> 339 | F56: =F23+$B$30 -> 399 | G56: =G23+$B$30 -> 440 | H56: =H23+$B$30 -> 541 | I56: =I23+$B$30 -> 662 | J56: =J23+$B$30 -> 703
A57: Barneveld Noord | B57: 46203 | F57: =F24+$B$30 -> 298 | G57: =G24+$B$30 -> 298 | H57: =H24+$B$30 -> 339 | I57: =I24+$B$30 -> 460 | J57: =J24+$B$30 -> 501
A58: Barneveld Centrum | B58: 46205 | G58: =G25+$B$30 -> 298 | H58: =H25+$B$30 -> 298 | I58: =I25+$B$30 -> 399 | J58: =J25+$B$30 -> 440
A59: Barneveld Zuid | H59: =H26+$B$30 -> 298 | I59: =I26+$B$30 -> 359 | J59: =J26+$B$30 -> 399
...

Sheet testsheet
A1: Testsheet Valleilijn | F1: CONCLUSIE | G1: gele cellen zijn de op 19okt getetse cellen met oude tarieven
A3: gele cellen invullen
A6: datum: | B6: 44853 | F6: tester: | G6: Paul Engelbert
A8: case | B8: ERET traject | C8: klasse | D8: aangeleverde prijs | E8: verwachte prijs | F8: testresultaat | G8: OK?
D9: (centen) | E9: (euro)
A10: a2 | B10: Amf-Ed | C10: 2 | D10: ='point-to-point tbv ROR intern'!J55 -> 824 | E10: =D10/100 -> 8.24 | F10: 8.22 | G10: =F10=E10 -> FALSE
A11: b2 | B11: Amf-Edc | C11: 2 | D11: ='point-to-point tbv ROR intern'!I55 -> 783 | E11: =D11/100 -> 7.83 | F11: 7.82 | G11: =F11=E11 -> FALSE
A12: c2 | B12: Amf-Ltr | C12: 2 | D12: ='point-to-point tbv ROR intern'!$H$55 -> 662 | E12: =D12/100 -> 6.62 | F12: 6.61 | G12: =F12=E12 -> FALSE
A13: d2 | B13: Amf-Bnz | C13: 2 | D13: ='point-to-point tbv ROR intern'!$G$55 -> 561 | E13: =D13/100 -> 5.61 | F13: 5.6 | G13: =F13=E13 -> FALSE
A14: e2 | B14: Amf-Bnc | C14: 2 | D14: ='point-to-point tbv ROR intern'!$F$55 -> 521 | E14: =D14/100 -> 5.21 | F14: 5.2 | G14: =F14=E14 -> FALSE
A15: f2 | B15: Amf-Bnn | C15: 2 | D15: ='point-to-point tbv ROR intern'!$E$55 -> 460 | E15: =D15/100 -> 4.6 | F15: 4.59 | G15: =F15=E15 -> FALSE
A16: g2 | B16: Amf-Hvl | C16: 2 | D16: ='point-to-point tbv ROR intern'!$D$55 -> 298 | E16: =D16/100 -> 2.98 | F16: 2.98 | G16: =F16=E16 -> TRUE
A17: h2 | B17: Ed-Edc | C17: 2 | D17: ='point-to-point tbv ROR intern'!$J$61 -> 298 | E17: =D17/100 -> 2.98 | F17: 2.98 | G17: =F17=E17 -> TRUE
A18: i2 | B18: Ed-Ltr | C18: 2 | D18: ='point-to-point tbv ROR intern'!$J$60 -> 298 | E18: =D18/100 -> 2.98 | F18: 2.98 | G18: =F18=E18 -> TRUE
A19: j2 | B19: Ed-Bnz | C19: 2 | D19: ='point-to-point tbv ROR intern'!$J$59 -> 399 | E19: =D19/100 -> 3.99 | F19: 3.99 | G19: =F19=E19 -> TRUE
A20: k2 | B20: Ed-Bnc | C20: 2 | D20: ='point-to-point tbv ROR intern'!$J$58 -> 440 | E20: =D20/100 -> 4.4 | F20: 4.39 | G20: =F20=E20 -> FALSE
A21: l2 | B21: Ed-Bnn | C21: 2 | D21: ='point-to-point tbv ROR intern'!$J$57 -> 501 | E21: =D21/100 -> 5.01 | F21: 4.99 | G21: =F21=E21 -> FALSE
A22: m2 | B22: Ed-Hvl | C22: 2 | D22: ='point-to-point tbv ROR intern'!$J$56 -> 703 | E22: =D22/100 -> 7.03 | F22: 7.01 | G22: =F22=E22 -> FALSE
A23: n2 | B23: Ed-Amf | C23: 2 | D23: ='point-to-point tbv ROR intern'!$J$55 -> 824 | E23: =D23/100 -> 8.24 | F23: 8.22 | G23: =F23=E23 -> FALSE
A24: o2 | B24: Ltr-Bnc | C24: 2 | D24: ='point-to-point tbv ROR intern'!H58 -> 298 | E24: =D24/100 -> 2.98 | F24: 2.98 | G24: =F24=E24 -> TRUE
A26: case | B26: ERET traject | C26: klasse | D26: aangeleverde prijs | E26: verwachte prijs | F26: testresultaat | G26: OK?
D27: (centen) | E27: (euro)
A28: a1 | B28: Amf-Ed | C28: 1 | D28: =D10*'factoren tbv NS'!$C$3/1000 -> 1376.08 | E28: =D28/100 -> 13.7608 | F28: 13.7274 | G28: =F28=E28 -> FALSE
A29: b1 | B29: Amf-Edc | C29: 1 | D29: =D11*'factoren tbv NS'!$C$3/1000 -> 1307.61 | E29: =D29/100 -> 13.0761 | F29: 13.0594 | G29: =F29=E29 -> FALSE
A30: c1 | B30: Amf-Ltr | C30: 1 | D30: =D12*'factoren tbv NS'!$C$3/1000 -> 1105.54 | E30: =D30/100 -> 11.0554 | F30: 11.0387 | G30: =F30=E30 -> FALSE
A31: d1 | B31: Amf-Bnz | C31: 1 | D31: =D13*'factoren tbv NS'!$C$3/1000 -> 936.87 | E31: =D31/100 -> 9.3687 | F31: 9.352 | G31: =F31=E31 -> FALSE
A32: e1 | B32: Amf-Bnc | C32: 1 | D32: =D14*'factoren tbv NS'!$C$3/1000 -> 870.07 | E32: =D32/100 -> 8.7007 | F32: 8.684 | G32: =F32=E32 -> FALSE
A33: f1 | B33: Amf-Bnn | C33: 1 | D33: =D15*'factoren tbv NS'!$C$3/1000 -> 768.2 | E33: =D33/100 -> 7.682 | F33: 7.6653 | G33: =F33=E33 -> FALSE
A34: g1 | B34: Amf-Hvl | C34: 1 | D34: =D16*'factoren tbv NS'!$C$3/1000 -> 497.66 | E34: =D34/100 -> 4.9766 | F34: 4.9766 | G34: =F34=E34 -> TRUE
A35: h1 | B35: Ed-Edc | C35: 1 | D35: =D17*'factoren tbv NS'!$C$3/1000 -> 497.66 | E35: =D35/100 -> 4.9766 | F35: 4.9766 | G35: =F35=E35 -> TRUE
A36: i1 | B36: Ed-Ltr | C36: 1 | D36: =D18*'factoren tbv NS'!$C$3/1000 -> 497.66 | E36: =D36/100 -> 4.9766 | F36: 4.9766 | G36: =F36=E36 -> TRUE
A37: j1 | B37: Ed-Bnz | C37: 1 | D37: =D19*'factoren tbv NS'!$C$3/1000 -> 666.33 | E37: =D37/100 -> 6.6633 | F37: 6.6633 | G37: =F37=E37 -> TRUE
A38: k1 | B38: Ed-Bnc | C38: 1 | D38: =D20*'factoren tbv NS'!$C$3/1000 -> 734.8 | E38: =D38/100 -> 7.348 | F38: 7.3313 | G38: =F38=E38 -> FALSE
A39: l1 | B39: Ed-Bnn | C39: 1 | D39: =D21*'factoren tbv NS'!$C$3/1000 -> 836.67 | E39: =D39/100 -> 8.3667 | F39: 8.3333 | G39: =F39=E39 -> FALSE
... A42: o1 | B42: Ltr-Bnc | C42: 1 | D42: =D24*'factoren tbv NS'!$C$3/1000 -> 497.66 | E42: =D42/100 -> 4.9766 | F42: 4.9766 | G42: =F42=E42 -> TRUE
A44: LAK1 | B44: Ut-Amf (NS) | C44: 2 | E44: 6.3 | F44: prijs NS voor 21 te ophalen t.b.v. LAK
B45: Amf-Bnv met LAK | C45: 2 | E45: =Prijstabellen!B46-Prijstabellen!B27 -> 3.84 | F45: prijs deel CXX Amf 21te - Bnc40te
B46: totaalprijs Ut-Bnc | C46: 2 | E46: =E45+E44 -> 10.14 | F46: 10.13 | G46: =F46=E46 -> FALSE
A48: case | B48: Traject VRIJ | C48: klasse | D48: aangeleverde prijs | E48: verwachte prijs (euro) | F48: testresultaat (excl kaarttoeslag NS) | G48: OK?
D49: (euro)
...

Sheet tabel EOD 1jan23
A1: CONNEXXION - VALLEILIJN
A2: Tarief LAK voor EOD | C2: 44927 | D2: Compleet
K3: L1 fare tabel for ROR SWT-products on Valleilijn
A4: Waardes in te regelen in de EOD, per klasse en kortings%, exclusief opstaptarief.
C6: full fare | E6: 20% reduction | G6: 40% reduction | K6: product 524 | M6: product 541
C7: 2nd class | D7: 1st class | E7: 2nd class | F7: 1st class | G7: 2nd class | H7: 1st class | K7: delta between | M7: identical to | N7: identical to
B8: opstaptarief | C8: 108 | D8: =ROUND($C$8*D9,0) -> 180 | E8: =ROUND($C$8*E9,0) -> 86 | F8: =ROUND($C$8*F9,0) -> 144 | G8: =ROUND($C$8*G9,0) -> 65 | H8: =ROUND($C$8*H9,0) -> 108 | K8: 1st and 2nd full fare | M8: full fare 2nd | N8: full fare 1st
B9: rekenfactor 2e klas x … | C9: 1 | D9: =rekentabel!B5 -> 1.67 | E9: =C9*0.8 -> 0.8 | F9: =D9*0.8 -> 1.336 | G9: =C9*0.6 -> 0.6 | H9: =D9*0.6 -> 1.002 | K9: =D9/C9-1 -> 0.67 | M9: 1 | N9: 1
C11: full fare | E11: 20% reduction | G11: 40% reduction | K11: delta fare | M11: full fare | N11: full fare
A12: from tariff unit | B12: till tariff unit | C12: 2nd class | D12: 1st class | E12: 2nd class | F12: 1st class | G12: 2nd class | H12: 1e klas | K12: 1st class | M12: 2nd class | N12: 1st class
A13: 0 | B13: 8 | C13: ='oud NS-formulier'!C15*100-C$8 -> 190 | D13: ='oud NS-formulier'!B15*100-D$8 -> 318 | E13: ='oud NS-formulier'!I15*100-E$8 -> 153 | F13: ='oud NS-formulier'!H15*100-F$8 -> 255 | G13: ='oud NS-formulier'!G15*100-G$8 -> 114 | H13: ='oud NS-formulier'!F15*100-H$8 -> 191 | I13: Amersfoort | K13: =C13*$K$9 -> 127.3 | M13: =C13 -> 190 | N13: =D13 -> 318
A14: 9 | B14: =A14 -> 9 | C14: ='oud NS-formulier'!C16*100-C$8 -> 211 | D14: ='oud NS-formulier'!B16*100-D$8 -> 353 | E14: ='oud NS-formulier'!I16*100-E$8 -> 169 | F14: ='oud NS-formulier'!H16*100-F$8 -> 282 | G14: ='oud NS-formulier'!G16*100-G$8 -> 126 | H14: ='oud NS-formulier'!F16*100-H$8 -> 211 | I14: Amersfoort - Hoevelaken | K14: =C14*$K$9 -> 141.37 | M14: =C14 -> 211 | N14: =D14 -> 353
A15: 10 | B15: =A15 -> 10 | C15: ='oud NS-formulier'!C17*100-C$8 -> 231 | D15: ='oud NS-formulier'!B17*100-D$8 -> 386 | E15: ='oud NS-formulier'!I17*100-E$8 -> 185 | F15: ='oud NS-formulier'!H17*100-F$8 -> 309 | G15: ='oud NS-formulier'!G17*100-G$8 -> 138 | H15: ='oud NS-formulier'!F17*100-H$8 -> 232 | K15: =C15*$K$9 -> 154.77 | M15: =C15 -> 231 | N15: =D15 -> 386
A16: 11 | B16: =A16 -> 11 | C16: ='oud NS-formulier'!C18*100-C$8 -> 251 | D16: ='oud NS-formulier'!B18*100-D$8 -> 420 | E16: ='oud NS-formulier'!I18*100-E$8 -> 201 | F16: ='oud NS-formulier'!H18*100-F$8 -> 336 | G16: ='oud NS-formulier'!G18*100-G$8 -> 150 | H16: ='oud NS-formulier'!F18*100-H$8 -> 252 | K16: =C16*$K$9 -> 168.17 | M16: =C16 -> 251 | N16: =D16 -> 420
A17: 12 | B17: =A17 -> 12 | C17: ='oud NS-formulier'!C19*100-C$8 -> 271 | D17: ='oud NS-formulier'!B19*100-D$8 -> 453 | E17: ='oud NS-formulier'!I19*100-E$8 -> 217 | F17: ='oud NS-formulier'!H19*100-F$8 -> 363 | G17: ='oud NS-formulier'!G19*100-G$8 -> 163 | H17: ='oud NS-formulier'!F19*100-H$8 -> 272 | K17: =C17*$K$9 -> 181.57 | M17: =C17 -> 271 | N17: =D17 -> 453
A18: 13 | B18: =A18 -> 13 | C18: ='oud NS-formulier'!C20*100-C$8 -> 291 | D18: ='oud NS-formulier'!B20*100-D$8 -> 486 | E18: ='oud NS-formulier'!I20*100-E$8 -> 234 | F18: ='oud NS-formulier'!H20*100-F$8 -> 390 | G18: ='oud NS-formulier'!G20*100-G$8 -> 175 | H18: ='oud NS-formulier'!F20*100-H$8 -> 292 | K18: =C18*$K$9 -> 194.97 | M18: =C18 -> 291 | N18: =D18 -> 486
A19: 14 | B19: =A19 -> 14 | C19: ='oud NS-formulier'!C21*100-C$8 -> 312 | D19: ='oud NS-formulier'!B21*100-D$8 -> 521 | E19: ='oud NS-formulier'!I21*100-E$8 -> 250 | F19: ='oud NS-formulier'!H21*100-F$8 -> 417 | G19: ='oud NS-formulier'!G21*100-G$8 -> 187 | H19: ='oud NS-formulier'!F21*100-H$8 -> 313 | K19: =C19*$K$9 -> 209.04 | M19: =C19 -> 312 | N19: =D19 -> 521
A20: 15 | B20: =A20 -> 15 | C20: ='oud NS-formulier'!C22*100-C$8 -> 332 | D20: ='oud NS-formulier'!B22*100-D$8 -> 555 | E20: ='oud NS-formulier'!I22*100-E$8 -> 266 | F20: ='oud NS-formulier'!H22*100-F$8 -> 444 | G20: ='oud NS-formulier'!G22*100-G$8 -> 199 | H20: ='oud NS-formulier'!F22*100-H$8 -> 333 | K20: =C20*$K$9 -> 222.44 | M20: =C20 -> 332 | N20: =D20 -> 555
A21: 16 | B21: =A21 -> 16 | C21: ='oud NS-formulier'!C23*100-C$8 -> 352 | D21: ='oud NS-formulier'!B23*100-D$8 -> 588 | E21: ='oud NS-formulier'!I23*100-E$8 -> 282 | F21: ='oud NS-formulier'!H23*100-F$8 -> 471 | G21: ='oud NS-formulier'!G23*100-G$8 -> 211 | H21: ='oud NS-formulier'!F23*100-H$8 -> 353 | K21: =C21*$K$9 -> 235.84 | M21: =C21 -> 352 | N21: =D21 -> 588
A22: 17 | B22: =A22 -> 17 | C22: ='oud NS-formulier'!C24*100-C$8 -> 372 | D22: ='oud NS-formulier'!B24*100-D$8 -> 622 | E22: ='oud NS-formulier'!I24*100-E$8 -> 298 | F22: ='oud NS-formulier'!H24*100-F$8 -> 498 | G22: ='oud NS-formulier'!G24*100-G$8 -> 223 | H22: ='oud NS-formulier'!F24*100-H$8 -> 373 | K22: =C22*$K$9 -> 249.24 | M22: =C22 -> 372 | N22: =D22 -> 622
A23: 18 | B23: =A23 -> 18 | C23: ='oud NS-formulier'!C25*100-C$8 -> 393 | D23: ='oud NS-formulier'!B25*100-D$8 -> 657 | E23: ='oud NS-formulier'!I25*100-E$8 -> 314 | F23: ='oud NS-formulier'!H25*100-F$8 -> 525 | G23: ='oud NS-formulier'!G25*100-G$8 -> 235 | H23: ='oud NS-formulier'!F25*100-H$8 -> 394 | K23: =C23*$K$9 -> 263.31 | M23: =C23 -> 393 | N23: =D23 -> 657
A24: 19 | B24: =A24 -> 19 | C24: ='oud NS-formulier'!C26*100-C$8 -> 413 | D24: ='oud NS-formulier'!B26*100-D$8 -> 690 | E24: ='oud NS-formulier'!I26*100-E$8 -> 331 | F24: ='oud NS-formulier'!H26*100-F$8 -> 552 | G24: ='oud NS-formulier'!G26*100-G$8 -> 247 | H24: ='oud NS-formulier'!F26*100-H$8 -> 414 | I24: Amersfoort - Barneveld Centrum | K24: =C24*$K$9 -> 276.71 | M24: =C24 -> 413 | N24: =D24 -> 690
A25: 20 | B25: =A25 -> 20 | C25: ='oud NS-formulier'!C27*100-C$8 -> 433 | D25: ='oud NS-formulier'!B27*100-D$8 -> 723 | E25: ='oud NS-formulier'!I27*100-E$8 -> 347 | F25: ='oud NS-formulier'!H27*100-F$8 -> 579 | G25: ='oud NS-formulier'!G27*100-G$8 -> 260 | H25: ='oud NS-formulier'!F27*100-H$8 -> 434 | K25: =C25*$K$9 -> 290.11 | M25: =C25 -> 433 | N25: =D25 -> 723
A26: 21 | B26: =A26 -> 21 | C26: ='oud NS-formulier'!C28*100-C$8 -> 453 | D26: ='oud NS-formulier'!B28*100-D$8 -> 757 | E26: ='oud NS-formulier'!I28*100-E$8 -> 363 | F26: ='oud NS-formulier'!H28*100-F$8 -> 606 | G26: ='oud NS-formulier'!G28*100-G$8 -> 272 | H26: ='oud NS-formulier'!F28*100-H$8 -> 454 | K26: =C26*$K$9 -> 303.51 | M26: =C26 -> 453 | N26: =D26 -> 757
A27: 22 | B27: =A27 -> 22 | C27: ='oud NS-formulier'!C29*100-C$8 -> 473 | D27: ='oud NS-formulier'!B29*100-D$8 -> 790 | E27: ='oud NS-formulier'!I29*100-E$8 -> 379 | F27: ='oud NS-formulier'!H29*100-F$8 -> 633 | G27: ='oud NS-formulier'!G29*100-G$8 -> 284 | H27: ='oud NS-formulier'!F29*100-H$8 -> 475 | K27: =C27*$K$9 -> 316.91 | M27: =C27 -> 473 | N27: =D27 -> 790
A28: 23 | B28: =A28 -> 23 | C28: ='oud NS-formulier'!C30*100-C$8 -> 494 | D28: ='oud NS-formulier'!B30*100-D$8 -> 825 | E28: ='oud NS-formulier'!I30*100-E$8 -> 395 | F28: ='oud NS-formulier'!H30*100-F$8 -> 660 | G28: ='oud NS-formulier'!G30*100-G$8 -> 296 | H28: ='oud NS-formulier'!F30*100-H$8 -> 495 | K28: =C28*$K$9 -> 330.98 | M28: =C28 -> 494 | N28: =D28 -> 825
A29: 24 | B29: =A29 -> 24 | C29: ='oud NS-formulier'!C31*100-C$8 -> 514 | D29: ='oud NS-formulier'!B31*100-D$8 -> 859 | E29: ='oud NS-formulier'!I31*100-E$8 -> 411 | F29: ='oud NS-formulier'!H31*100-F$8 -> 687 | G29: ='oud NS-formulier'!G31*100-G$8 -> 308 | H29: ='oud NS-formulier'!F31*100-H$8 -> 515 | K29: =C29*$K$9 -> 344.38 | M29: =C29 -> 514 | N29: =D29 -> 859
A30: 25 | B30: =A30 -> 25 | C30: ='oud NS-formulier'!C32*100-C$8 -> 534 | D30: ='oud NS-formulier'!B32*100-D$8 -> 892 | E30: ='oud NS-formulier'!I32*100-E$8 -> 428 | F30: ='oud NS-formulier'!H32*100-F$8 -> 714 | G30: ='oud NS-formulier'!G32*100-G$8 -> 320 | H30: ='oud NS-formulier'!F32*100-H$8 -> 535 | K30: =C30*$K$9 -> 357.78 | M30: =C30 -> 534 | N30: =D30 -> 892
A31: 26 | B31: =A31 -> 26 | C31: ='oud NS-formulier'!C33*100-C$8 -> 554 | D31: ='oud NS-formulier'!B33*100-D$8 -> 926 | E31: ='oud NS-formulier'!I33*100-E$8 -> 444 | F31: ='oud NS-formulier'!H33*100-F$8 -> 741 | G31: ='oud NS-formulier'!G33*100-G$8 -> 332 | H31: ='oud NS-formulier'!F33*100-H$8 -> 556 | K31: =C31*$K$9 -> 371.18 | M31: =C31 -> 554 | N31: =D31 -> 926
A32: 27 | B32: =A32 -> 27 | C32: ='oud NS-formulier'!C34*100-C$8 -> 574 | D32: ='oud NS-formulier'!B34*100-D$8 -> 959 | E32: ='oud NS-formulier'!I34*100-E$8 -> 460 | F32: ='oud NS-formulier'!H34*100-F$8 -> 768 | G32: ='oud NS-formulier'!G34*100-G$8 -> 344 | H32: ='oud NS-formulier'!F34*100-H$8 -> 576 | K32: =C32*$K$9 -> 384.58 | M32: =C32 -> 574 | N32: =D32 -> 959
A33: 28 | B33: =A33 -> 28 | C33: ='oud NS-formulier'!C35*100-C$8 -> 595 | D33: ='oud NS-formulier'!B35*100-D$8 -> 994 | E33: ='oud NS-formulier'!I35*100-E$8 -> 476 | F33: ='oud NS-formulier'!H35*100-F$8 -> 795 | G33: ='oud NS-formulier'!G35*100-G$8 -> 357 | H33: ='oud NS-formulier'!F35*100-H$8 -> 596 | K33: =C33*$K$9 -> 398.65 | M33: =C33 -> 595 | N33: =D33 -> 994
A34: 29 | B34: =A34 -> 29 | C34: ='oud NS-formulier'!C36*100-C$8 -> 615 | D34: ='oud NS-formulier'!B36*100-D$8 -> 1027 | E34: ='oud NS-formulier'!I36*100-E$8 -> 492 | F34: ='oud NS-formulier'!H36*100-F$8 -> 822 | G34: ='oud NS-formulier'!G36*100-G$8 -> 369 | H34: ='oud NS-formulier'!F36*100-H$8 -> 616 | K34: =C34*$K$9 -> 412.05 | M34: =C34 -> 615 | N34: =D34 -> 1027
A35: 30 | B35: =A35 -> 30 | C35: ='oud NS-formulier'!C37*100-C$8 -> 635 | D35: ='oud NS-formulier'!B37*100-D$8 -> 1061 | E35: ='oud NS-formulier'!I37*100-E$8 -> 508 | F35: ='oud NS-formulier'!H37*100-F$8 -> 849 | G35: ='oud NS-formulier'!G37*100-G$8 -> 381 | H35: ='oud NS-formulier'!F37*100-H$8 -> 637 | K35: =C35*$K$9 -> 425.45 | M35: =C35 -> 635 | N35: =D35 -> 1061
A36: 31 | B36: =A36 -> 31 | C36: ='oud NS-formulier'!C38*100-C$8 -> 655 | D36: ='oud NS-formulier'!B38*100-D$8 -> 1094 | E36: ='oud NS-formulier'!I38*100-E$8 -> 525 | F36: ='oud NS-formulier'!H38*100-F$8 -> 876 | G36: ='oud NS-formulier'!G38*100-G$8 -> 393 | H36: ='oud NS-formulier'!F38*100-H$8 -> 657 | K36: =C36*$K$9 -> 438.85 | M36: =C36 -> 655 | N36: =D36 -> 1094
... A38: 33 | B38: =A38 -> 33 | C38: ='oud NS-formulier'!C40*100-C$8 -> 696 | D38: ='oud NS-formulier'!B40*100-D$8 -> 1163 | E38: ='oud NS-formulier'!I40*100-E$8 -> 557 | F38: ='oud NS-formulier'!H40*100-F$8 -> 930 | G38: ='oud NS-formulier'!G40*100-G$8 -> 417 | H38: ='oud NS-formulier'!F40*100-H$8 -> 697 | K38: =C38*$K$9 -> 466.32 | M38: =C38 -> 696 | N38: =D38 -> 1163
A39: 34 | B39: =A39 -> 34 | C39: ='oud NS-formulier'!C41*100-C$8 -> 716 | D39: ='oud NS-formulier'!B41*100-D$8 -> 1196 | E39: ='oud NS-formulier'!I41*100-E$8 -> 573 | F39: ='oud NS-formulier'!H41*100-F$8 -> 957 | G39: ='oud NS-formulier'!G41*100-G$8 -> 429 | H39: ='oud NS-formulier'!F41*100-H$8 -> 718 | I39: Amersfoort-Ede-W. | K39: =C39*$K$9 -> 479.72 | M39: =C39 -> 716 | N39: =D39 -> 1196
A40: 35 | B40: =A40 -> 35 | C40: ='oud NS-formulier'!C42*100-C$8 -> 736 | D40: ='oud NS-formulier'!B42*100-D$8 -> 1229 | E40: ='oud NS-formulier'!I42*100-E$8 -> 589 | F40: ='oud NS-formulier'!H42*100-F$8 -> 984 | G40: ='oud NS-formulier'!G42*100-G$8 -> 441 | H40: ='oud NS-formulier'!F42*100-H$8 -> 738 | K40: =C40*$K$9 -> 493.12 | M40: =C40 -> 736 | N40: =D40 -> 1229
A41: 36 | B41: =A41 -> 36 | C41: ='oud NS-formulier'!C43*100-C$8 -> 756 | D41: ='oud NS-formulier'!B43*100-D$8 -> 1263 | E41: ='oud NS-formulier'!I43*100-E$8 -> 605 | F41: ='oud NS-formulier'!H43*100-F$8 -> 1011 | G41: ='oud NS-formulier'!G43*100-G$8 -> 454 | H41: ='oud NS-formulier'!F43*100-H$8 -> 758 | K41: =C41*$K$9 -> 506.52 | M41: =C41 -> 756 | N41: =D41 -> 1263
A42: 37 | B42: =A42 -> 37 | C42: ='oud NS-formulier'!C44*100-C$8 -> 777 | D42: ='oud NS-formulier'!B44*100-D$8 -> 1298 | E42: ='oud NS-formulier'!I44*100-E$8 -> 622 | F42: ='oud NS-formulier'!H44*100-F$8 -> 1038 | G42: ='oud NS-formulier'!G44*100-G$8 -> 466 | H42: ='oud NS-formulier'!F44*100-H$8 -> 778 | K42: =C42*$K$9 -> 520.59 | M42: =C42 -> 777 | N42: =D42 -> 1298
A43: 38 | B43: =A43 -> 38 | C43: ='oud NS-formulier'!C45*100-C$8 -> 797 | D43: ='oud NS-formulier'!B45*100-D$8 -> 1331 | E43: ='oud NS-formulier'!I45*100-E$8 -> 638 | F43: ='oud NS-formulier'!H45*100-F$8 -> 1065 | G43: ='oud NS-formulier'!G45*100-G$8 -> 478 | H43: ='oud NS-formulier'!F45*100-H$8 -> 799 | K43: =C43*$K$9 -> 533.99 | M43: =C43 -> 797 | N43: =D43 -> 1331
...

Sheet toelichting
A3: Tarief-gebied | B3: 7 | C3: Syntus | D3: Zutphen-Oldenzaal
A5: Product nummer | B5: Product naam | C5: vol | D5: 50% | E5: 40% | F5: 20% | G5: Opmerking
A6: 1 | B6: Enkele reis | C6: =rekentabel!$C$4 -> 500 | D6: =rekentabel!$C$4 -> 500 | E6: =rekentabel!$G$4 -> 500
A7: 2 | B7: Dagretour | C7: =rekentabel!$K$4 -> 500 | D7: =rekentabel!$K$4 -> 500 | E7: =rekentabel!$O$4 -> 500
A8: 23 | B8: Overgang 2-1 enkelereis | C8: =rekentabel!$C$4 -> 500 | D8: =rekentabel!$C$4 -> 500 | E8: =rekentabel!$G$4 -> 500
A9: 24 | B9: Overgang 2-1 retour | C9: =rekentabel!$K$4 -> 500 | D9: =rekentabel!$K$4 -> 500 | E9: =rekentabel!$O$4 -> 500
A10: 43 | B10: Maandtrajectabonnement | C10: 4 | G10: NS Prijzen voor MTK/JTK
A11: 301 | B11: Enkele reis met korting | C11: =rekentabel!$G$4 -> 500 | G11: Is dit niet dubbel?
A12: 302 | B12: Dagretour met korting | C12: =rekentabel!$O$4 -> 500 | G12: Is dit niet dubbel?
A13: 303 | B13: Overgang 2-1 enkele reis 40% | C13: =rekentabel!$G$4 -> 500 | G13: Is dit niet dubbel?
A14: 304 | B14: Overgang 2-1 retour 40% | C14: =rekentabel!$O$4 -> 500 | G14: Is dit niet dubbel?
A15: 326 | B15: Eindhoven Airport heenreis | C15: =rekentabel!$C$4 -> 500 | D15: =rekentabel!$C$4 -> 500 | E15: =rekentabel!$G$4 -> 500
A16: 329 | B16: Eindhoven Airport terugreis | C16: =rekentabel!$K$4 -> 500 | D16: =rekentabel!$K$4 -> 500 | E16: =rekentabel!$O$4 -> 500
A17: 1020 | B17: Jaartrajectkaart | C17: 13 | G17: 1020 Is JTK Betaling in 10 Termijnen Consumentenkanaal | M17: NS Prijzen voor MTK/JTK
A18: 1021 | B18: Jaartrajectkaart + 1 OV-zone | C18: 13 | G18: bestaat niet meer in 2014
A19: 1022 | B19: Jaartrajectkaart + 2 OV-zone | C19: 13 | G19: bestaat niet meer in 2014
A20: 1023 | B20: Jaartrajectkaart + 3 OV-zone | C20: 13 | G20: bestaat niet meer in 2014
A21: 1801 | B21: Enkele reis | C21: =rekentabel!$C$4 -> 500 | D21: =rekentabel!$C$4 -> 500 | E21: =rekentabel!$G$4 -> 500
A22: 1802 | B22: Dagretour | C22: =rekentabel!$K$4 -> 500 | D22: =rekentabel!$K$4 -> 500 | E22: =rekentabel!$O$4 -> 500
A23: 1833 | B23: Overgang 2-1 enkele reis | C23: =rekentabel!$C$4 -> 500 | D23: =rekentabel!$C$4 -> 500 | E23: =rekentabel!$G$4 -> 500
A24: 1834 | B24: Overgang 2-1 retour | C24: =rekentabel!$K$4 -> 500 | D24: =rekentabel!$K$4 -> 500 | E24: =rekentabel!$O$4 -> 500
A25: 3020 | B25: Jaartrajectkaart | C25: 33 | G25: 3020 Is JTK Betaling Ineens Consumentenkanaal | L25: NS Prijzen voor MTK/JTK
A26: 3021 | B26: Jaartrajectkaart + 1 OV-zone | C26: 33 | G26: bestaat niet meer in 2014
A27: 3022 | B27: Jaartrajectkaart + 2 OV-zone | C27: 33 | G27: bestaat niet meer in 2014
A28: 3023 | B28: Jaartrajectkaart + 3 OV-zone | C28: 33 | G28: bestaat niet meer in 2014
A29: 5113 | B29: Traject Vrij abonnement | C29: =rekentabel!S4 -> 510 | G29: Traject Vrij, Zakelijk Kanaal, Betaling ineens
A30: 5142 | B30: Enkele reis | C30: =rekentabel!$C$4 -> 500 | G30: weet niet wat dit is?
A31: 5143 | B31: Dagretour | C31: =rekentabel!$K$4 -> 500 | G31: weet niet wat dit is?
A32: 5158 | B32: Jaartrajectkaart | C32: =rekentabel!U4 -> 510 | G32: Traject Vrij Doorlopend, Consumentenkanaal, 12 maandelijkse termijnen
A33: 5159 | B33: Traject Vrij maand | C33: =rekentabel!#REF! -> #REF! | G33: Traject Vrij Maand, Consumentenkanaal,
A34: 5900 | B34: Ritprijs reizen op saldo NS | C34: =rekentabel!$C$4 -> 500 | E34: =rekentabel!$G$4 -> 500 | F34: =rekentabel!$I$4 -> 500 | G34: Voor de Saldo adviesmodule?
A35: 5901 | B35: Ritprijs reizen op saldo NS | C35: =rekentabel!$K$4 -> 500 | E35: =rekentabel!$O$4 -> 500 | F35: =rekentabel!$Q$4 -> 500 | G35: Voor de Saldo adviesmodule?
A37: NB | B37: Tabel 61 Toegevoegd voor retour 20% korting | F37: NB dit product bestaat nog niet
B38: Code 5901 Bestaat nog niet= is enkele reis 2e klas voor de saldo adviesmodule

Sheet oud NS-formulier
A2: Tariefgebied | B2: 4 | C2: Valleilijn - Amersfoort Ede Wageningen | R2: Exclusief Kaarttoeslag
A3: Tariefgebied Code | B3: =2^B2 -> 16 | F3: ! Check of Prijzen doorgaand oplopend zijn | R3: Bedragen per jaar | T3: Bedragen per maand
